From mboxrd@z Thu Jan 1 00:00:00 1970 Return-Path: Received: from mails.dpdk.org (mails.dpdk.org [217.70.189.124]) by inbox.dpdk.org (Postfix) with ESMTP id 0750E48953 for ; Thu, 16 Oct 2025 15:36:06 +0200 (CEST) Received: from mails.dpdk.org (localhost [127.0.0.1]) by mails.dpdk.org (Postfix) with ESMTP id DC08540BA5; Thu, 16 Oct 2025 15:36:05 +0200 (CEST) Received: from mail-pf1-f226.google.com (mail-pf1-f226.google.com [209.85.210.226]) by mails.dpdk.org (Postfix) with ESMTP id 481C140BA5 for ; Thu, 16 Oct 2025 15:36:04 +0200 (CEST) Received: by mail-pf1-f226.google.com with SMTP id d2e1a72fcca58-781251eec51so711215b3a.3 for ; Thu, 16 Oct 2025 06:36:04 -0700 (PDT) DKIM-Signature: v=1; a=rsa-sha256; c=relaxed/relaxed; d=iol.unh.edu; s=unh-iol; t=1760621763; x=1761226563; darn=dpdk.org; h=references:in-reply-to:cc:to:from:subject:message-id:date:from:to :cc:subject:date:message-id:reply-to; bh=v/iAj3T2x30MuGpffslpEVLR4HXF4W9sW8bGEc2PaqI=; b=IhOFnd5hhZv7JcfXhMW5KTZXCGgZk/jFNtBx/WV7qS+uI1wRjYL4SfRNNWnhyROt3/ 0vUvkiufMhmIueMn40E0DHZatI2GPmRmtDZTLi83SvASJaQdfiM5JgRZQfWJxv6F2HTp wv/I7pvCKH71V8WZIg23Jw1Q8O3bkFNhU7dyM= X-Google-DKIM-Signature: v=1; a=rsa-sha256; c=relaxed/relaxed; d=1e100.net; s=20230601; t=1760621763; x=1761226563; h=references:in-reply-to:cc:to:from:subject:message-id:date :x-gm-message-state:from:to:cc:subject:date:message-id:reply-to; bh=v/iAj3T2x30MuGpffslpEVLR4HXF4W9sW8bGEc2PaqI=; b=kecMyVoLRXZPYmZD+mVOo0AQ5YI20w4KLtjn8/0eicSlhvu0ooRY+wcaPLAu4mm2Jv Qc7D1WOg92UfPcUQ3MaTgNwygkc78BVR74mKN5RdMzNzckpx2zt8Au0QkXSwxOXYvJBp 86923eu/Co4zN7dEB3Ia32T18bLVzWGsGzJ8ruf4ZBo3Yp3gDOg+289VH9h8+Du5v3O2 Teu4ItWAX2gsW1h5Y9q5+3A1e5MrE4R6Bz/Z2AnHr4Xtudcn8aXti4hHPC+1+2O/f+yd y4Tuv04MXn2Ptz3a4iLFyF+4j6lID/hTnuIGKMJmJHEodXrphXY4/MIqcjIvFqVUYwZC cL1w== X-Gm-Message-State: AOJu0YzjykzfOnA2GMHVrQO5tGKBHhBEztGNsHUgd6E5rucUZRr7uX4F HLMzh8jyNyhIWKg2JSPwMXxq2NktI8CGvyc+Z2kuREZEL0GtszG5m1SUInq0N+RKNO6XXgNCIZg LAf4kYGVTf9SQowpxTcK8FU8cCn7ocmPIZkRgEQwY30Cm X-Gm-Gg: ASbGncs4Lq53xVlen0TJUvNY9TuCxxBQe8h8mT2Ko0Fp3/A3UKTKf/3lt6OtSF6GXro Tk+E5fW4IkTkypZffLcTPc2Q/fWSzaIjDj3pj8f3JS6wMDld/8JrfxFwGA9tYq9DCnMqAn2wG12 p1nRkA2LYK2Qe9GCq443Qm2gOrCO4bxoKWlkJ43zCceQFS7kMuveQjRnZ6I0w4eqxTWABRPPGLG 3ftMAusfHxOYYRT9+4zybRAUFBhpegIKQbdIbA9HgnInJ6UpqIYzgVv/+1w6WZdfUj5jCGkE2OS qO7uI6V49hJevHet2ZbUb1PjYoqSDVRxmeqVXLMRRylpvy4D2JSJ4y/HzRdXvgAC68GVxJcxE2b lsyzxojxYu/ShGwJBUSUieQyIKO5yJzU= X-Google-Smtp-Source: AGHT+IFND3UqJ7etYU8jghUPHz/E01V94PRIRK0vdCJHUjmDjKbQJc4bvMV3LKg1L1t57jLlE7G7B+061Ix8 X-Received: by 2002:a05:6a00:2d8b:b0:772:3aa4:226e with SMTP id d2e1a72fcca58-7a220b10796mr43061b3a.19.1760621763299; Thu, 16 Oct 2025 06:36:03 -0700 (PDT) Received: from postal.iol.unh.edu (postal.iol.unh.edu. [132.177.123.84]) by smtp-relay.gmail.com with ESMTPS id d2e1a72fcca58-79930562ba6sm1778985b3a.4.2025.10.16.06.36.03 (version=TLS1_2 cipher=ECDHE-ECDSA-AES128-GCM-SHA256 bits=128/128); Thu, 16 Oct 2025 06:36:03 -0700 (PDT) X-Relaying-Domain: iol.unh.edu Date: Thu, 16 Oct 2025 06:36:03 -0700 (PDT) Message-ID: <68f0f4c3.050a0220.3a5053.8a0bSMTPIN_ADDED_MISSING@mx.google.com> Received: from [172.21.0.2] (unknown [172.18.0.240]) by postal.iol.unh.edu (Postfix) with ESMTP id 817AD6051830; Thu, 16 Oct 2025 09:36:02 -0400 (EDT) Subject: |SUCCESS| pw157687 [PATCH] net/enic: make local variable static From: dpdklab@iol.unh.edu To: Test Report Cc: dpdk-test-reports@iol.unh.edu, Stephen Hemminger In-Reply-To: <20251015231106.876172-1-stephen@networkplumber.org> References: <20251015231106.876172-1-stephen@networkplumber.org> Content-Type: text/plain X-BeenThere: test-report@dpdk.org X-Mailman-Version: 2.1.29 Precedence: list List-Id: automatic DPDK test reports List-Unsubscribe: , List-Archive: List-Post: List-Help: List-Subscribe: , Errors-To: test-report-bounces@dpdk.org Test-Label: iol-unit-arm64-testing Test-Status: SUCCESS http://dpdk.org/patch/157687 _Testing PASS_ Submitter: Stephen Hemminger Date: Wednesday, October 15 2025 23:11:06 DPDK git baseline: Repo:dpdk-next-net Branch: master CommitID:791cea04798a8e2de014b99c009cd25b5929000a 157687 --> testing pass Upstream job id: Generic-Unit-Test-DPDK#381830 Test environment and result as below: +------------------------------+----------------+--------------+------------------------------+---------------------------+ | Environment | dpdk_unit_test | lpm_autotest | cryptodev_sw_snow3g_autotest | cryptodev_sw_zuc_autotest | +==============================+================+==============+==============================+===========================+ | CentOS Stream 9 | PASS | SKIPPED | SKIPPED | SKIPPED | +------------------------------+----------------+--------------+------------------------------+---------------------------+ | CentOS Stream 10 | PASS | SKIPPED | SKIPPED | SKIPPED | +------------------------------+----------------+--------------+------------------------------+---------------------------+ | Debian GNU/Linux 12 | PASS | SKIPPED | SKIPPED | SKIPPED | +------------------------------+----------------+--------------+------------------------------+---------------------------+ | Fedora Linux 41 | PASS | SKIPPED | SKIPPED | SKIPPED | +------------------------------+----------------+--------------+------------------------------+---------------------------+ | Fedora Linux 40 | PASS | SKIPPED | SKIPPED | SKIPPED | +------------------------------+----------------+--------------+------------------------------+---------------------------+ | Fedora Linux 42 | PASS | SKIPPED | SKIPPED | SKIPPED | +------------------------------+----------------+--------------+------------------------------+---------------------------+ | Red Hat Enterprise Linux 9.5 | PASS | SKIPPED | SKIPPED | SKIPPED | +------------------------------+----------------+--------------+------------------------------+---------------------------+ | Ubuntu 24.04 | PASS | SKIPPED | SKIPPED | SKIPPED | +------------------------------+----------------+--------------+------------------------------+---------------------------+ | Ubuntu 20.04 | PASS | PASS | SKIPPED | SKIPPED | +------------------------------+----------------+--------------+------------------------------+---------------------------+ | Ubuntu 22.04 | PASS | SKIPPED | SKIPPED | SKIPPED | +------------------------------+----------------+--------------+------------------------------+---------------------------+ | Debian 12 (arm) | SKIPPED | SKIPPED | PASS | PASS | +------------------------------+----------------+--------------+------------------------------+---------------------------+ CentOS Stream 9 Kernel: 5.4 Compiler: gcc gcc (GCC) 11.5.0 20240719 (Red Hat 11.5.0-11) CentOS Stream 10 Kernel: 5.4 Compiler: gcc gcc (GCC) 14.2.1 20250110 (Red Hat 14.2.1-8) Debian GNU/Linux 12 Kernel: 5.4 Compiler: gcc gcc (Debian 12.2.0-14+deb12u1) 12.2.0 Fedora Linux 41 Kernel: 5.4 Compiler: gcc gcc (GCC) 14.3.1 20250523 (Red Hat 14.3.1-1) Fedora Linux 40 Kernel: 5.4 Compiler: clang gcc (GCC) 14.2.1 20240912 (Red Hat 14.2.1-3) Fedora Linux 42 Kernel: 5.4 Compiler: gcc gcc (GCC) 15.2.1 20250808 (Red Hat 15.2.1-1) Red Hat Enterprise Linux 9.5 Kernel: 5.4 Compiler: gcc gcc (GCC) 11.5.0 20240719 (Red Hat 11.5.0-2) Ubuntu 24.04 Kernel: 5.4 Compiler: gcc gcc (Ubuntu 13.3.0-6ubuntu2~24.04) 13.3.0 Ubuntu 20.04 Kernel: 5.4 Compiler: gcc gcc (Ubuntu 9.4.0-1ubuntu1~20.04.2) 9.4.0 Ubuntu 22.04 Kernel: 5.4 Compiler: gcc gcc (Ubuntu 11.4.0-1ubuntu1~22.04) 11.4.0 Debian 12 (arm) Kernel: Depends on container host Compiler: gcc (Debian 12.2.0-14) 12.2.0 To view detailed results, visit: https://lab.dpdk.org/results/dashboard/patchsets/34290/ UNH-IOL DPDK Community Lab To manage your email subscriptions, visit: https://lab.dpdk.org/results/dashboard/preferences/subscriptions/