From mboxrd@z Thu Jan 1 00:00:00 1970 Return-Path: Received: from mails.dpdk.org (mails.dpdk.org [217.70.189.124]) by inbox.dpdk.org (Postfix) with ESMTP id 386B348953 for ; Thu, 16 Oct 2025 15:47:45 +0200 (CEST) Received: from mails.dpdk.org (localhost [127.0.0.1]) by mails.dpdk.org (Postfix) with ESMTP id 197C340A72; Thu, 16 Oct 2025 15:47:45 +0200 (CEST) Received: from mail-il1-f228.google.com (mail-il1-f228.google.com [209.85.166.228]) by mails.dpdk.org (Postfix) with ESMTP id C455B40A72 for ; Thu, 16 Oct 2025 15:47:43 +0200 (CEST) Received: by mail-il1-f228.google.com with SMTP id e9e14a558f8ab-42d7ef9a402so9606615ab.0 for ; Thu, 16 Oct 2025 06:47:43 -0700 (PDT) DKIM-Signature: v=1; a=rsa-sha256; c=relaxed/relaxed; d=iol.unh.edu; s=unh-iol; t=1760622463; x=1761227263; darn=dpdk.org; h=references:in-reply-to:cc:to:from:subject:message-id:date:from:to :cc:subject:date:message-id:reply-to; bh=DFkrziucp9/FvVdu1kn2TuPjvXQYHLOFUZo/KVuziq4=; b=OFNYTBPy+c6pBboyQAlJW5+RxXj+1XROgArUkGstIEc42PoiJpxcR6d594xlrRA5vk gfcEwmfp7V93uUfbRe072PT1dn28A/nRKGxfrhnm4Hm7gP+4mpfUp0rGMKJLO95K//nJ a/rRZeCONXEAPW3wM8zd0qDSV6dMmaAuNBJDc= X-Google-DKIM-Signature: v=1; a=rsa-sha256; c=relaxed/relaxed; d=1e100.net; s=20230601; t=1760622463; x=1761227263; h=references:in-reply-to:cc:to:from:subject:message-id:date :x-gm-message-state:from:to:cc:subject:date:message-id:reply-to; bh=DFkrziucp9/FvVdu1kn2TuPjvXQYHLOFUZo/KVuziq4=; b=t0natI5euM+6OYep51wtpsC3dxPgz3mFx62x0/2Mc/60/zdBjZqezG/A3A4wMpgpV4 XnfE+3DobP0lhDw4gITAAuiZBYC0OKoIOL6lRyw6QwczCo5iyYRuYAtSn+fL+A120sYN fB8IW9UnDoddFu1QNjH1b2UrRHEEYB44DlGECQfCAFHYzjDB0FQMPQGicjw3nIKuZeaf uyVV/85KYhmdNIb2wpj45+g4GiZ/CHGABG1zPzMt2KW/fnTVTU4WGhg9UefhOYBB77/v yDBwnFngR0Q/pW7ADbxKcfzC3Apg5ItmeUzDzTiULMkO2yMBMpu7+cQ7nyM47IImJOMQ GRXw== X-Gm-Message-State: AOJu0Yz91FNKh/ykummFt/GZdbdtxNCHGuL8UUOHpvlbAX3xCQ1icdVZ Ut9ZyvzYswbTrp7a/Zq2SNVdROfd9YUSzdljX8wyLGV6WhF/cNUa/Eeg6tk/5U7DNNHf9545apT WcAbnwk2Z+8NWCoKZekiJcGyS1HjA4asNjwY8rVtLB3qpnHhsill5/ckzRx6n X-Gm-Gg: ASbGncuel8siADQwdvYWZQ9eUJFkV0IQkAK6S85OJzRxxOJ9NRzLQfeV7rf07ANqrrA ixeymY+sCbTwOmJHwxxkBgeOWeWoFaCb5++cV6FjhpQjzWdfhMpfs3MM61TDYLSqJQfhQcQr5WA 9u1v5Zfh7ex6AYi3mPWVu8YMW/qPNOk09o21aR+eYi1HDftTCVv9tb7BD2DAslNuS6iY+AUTyrt izVG2tXf4PYtxvlApmc435HTvptsE7kgTKh+KaKb7a6HgO5vEkiCWR8mQfvNoYZWfUhVK8VvgQ8 BOXM7yshoVZYYOGjE8JWlJKfLjSxKukS2bLxRK+XGltITt9tBbx3DYjx27Y5Mqz9uY8fKHoU33g CpGToq/+g X-Google-Smtp-Source: AGHT+IH/Hjdu81UEDK/g6qfxuwKo6KK+ib4BkTSreDq0k7cCfSSi+Npp+th00wXbCaIO3AIZgoVZ3tQ2b6BH X-Received: by 2002:a05:6e02:168d:b0:42f:8bdd:6e9c with SMTP id e9e14a558f8ab-430c5339e33mr3618165ab.14.1760622462979; Thu, 16 Oct 2025 06:47:42 -0700 (PDT) Received: from postal.iol.unh.edu (postal.iol.unh.edu. [2606:4100:3880:1234::84]) by smtp-relay.gmail.com with ESMTPS id e9e14a558f8ab-430b5130b1bsm2564915ab.21.2025.10.16.06.47.42 (version=TLS1_2 cipher=ECDHE-ECDSA-AES128-GCM-SHA256 bits=128/128); Thu, 16 Oct 2025 06:47:42 -0700 (PDT) X-Relaying-Domain: iol.unh.edu Date: Thu, 16 Oct 2025 06:47:42 -0700 (PDT) Message-ID: <68f0f77e.050a0220.9705c.cb1bSMTPIN_ADDED_MISSING@mx.google.com> Received: from [172.21.0.2] (unknown [172.18.0.240]) by postal.iol.unh.edu (Postfix) with ESMTP id 69E996050A61; Thu, 16 Oct 2025 09:47:42 -0400 (EDT) Subject: |SUCCESS| pw157755 [PATCH] net/iavf: ensure no polling during VF ini From: dpdklab@iol.unh.edu To: Test Report Cc: dpdk-test-reports@iol.unh.edu, Bruce Richardson In-Reply-To: <20251016113224.1652880-1-ciara.loftus@intel.com> References: <20251016113224.1652880-1-ciara.loftus@intel.com> Content-Type: text/plain X-BeenThere: test-report@dpdk.org X-Mailman-Version: 2.1.29 Precedence: list List-Id: automatic DPDK test reports List-Unsubscribe: , List-Archive: List-Post: List-Help: List-Subscribe: , Errors-To: test-report-bounces@dpdk.org Test-Label: iol-compile-amd64-testing Test-Status: SUCCESS http://dpdk.org/patch/157755 _Testing PASS_ Submitter: Ciara Loftus Date: Thursday, October 16 2025 11:32:24 DPDK git baseline: Repo:dpdk-next-net-intel Branch: master CommitID:4b71a661aa14d6e2491a612a4347495c9e06eb0e 157755 --> testing pass Upstream job id: Windows-Compile-DPDK-VS#7222 Test environment and result as below: +---------------------+--------------------+-------------------+ | Environment | dpdk_meson_compile | dpdk_msvc_compile | +=====================+====================+===================+ | Ubuntu 20.04 | PASS | SKIPPED | +---------------------+--------------------+-------------------+ | FreeBSD 14.2 | PASS | SKIPPED | +---------------------+--------------------+-------------------+ | Windows Server 2022 | SKIPPED | PASS | +---------------------+--------------------+-------------------+ Ubuntu 20.04 Kernel: 4.19 Compiler: gcc gcc (Ubuntu 9.4.0-1ubuntu1~20.04.2) 9.4.0 FreeBSD 14.2 Kernel: 14.2-RELEASE Compiler: clang 18.1.6 Windows Server 2022 Kernel: 10.0.20348.2031 Compiler: clang 15.0.7, gcc 14.1.0 (MinGW), and MSVC VS 19.39.33521 To view detailed results, visit: https://lab.dpdk.org/results/dashboard/patchsets/34300/ UNH-IOL DPDK Community Lab To manage your email subscriptions, visit: https://lab.dpdk.org/results/dashboard/preferences/subscriptions/