From mboxrd@z Thu Jan 1 00:00:00 1970 Return-Path: Received: from mails.dpdk.org (mails.dpdk.org [217.70.189.124]) by inbox.dpdk.org (Postfix) with ESMTP id 4D8D648953 for ; Thu, 16 Oct 2025 15:49:15 +0200 (CEST) Received: from mails.dpdk.org (localhost [127.0.0.1]) by mails.dpdk.org (Postfix) with ESMTP id 48A2540A72; Thu, 16 Oct 2025 15:49:15 +0200 (CEST) Received: from mail-pl1-f226.google.com (mail-pl1-f226.google.com [209.85.214.226]) by mails.dpdk.org (Postfix) with ESMTP id 9FC8E40A72 for ; Thu, 16 Oct 2025 15:49:13 +0200 (CEST) Received: by mail-pl1-f226.google.com with SMTP id d9443c01a7336-27eec33b737so11982015ad.1 for ; Thu, 16 Oct 2025 06:49:13 -0700 (PDT) DKIM-Signature: v=1; a=rsa-sha256; c=relaxed/relaxed; d=iol.unh.edu; s=unh-iol; t=1760622553; x=1761227353; darn=dpdk.org; h=references:in-reply-to:cc:to:from:subject:message-id:date:from:to :cc:subject:date:message-id:reply-to; bh=yFFx3wAOqO60nZPRJyj8H2VR1rxx01rIlwj6N8fsTxs=; b=Bm8g7grqHtJNEua2haLgY8tu7hgeECriPFKV9oeKZIaeKOv+6Vr0ndLtOOhOKhpIbF IsvgjrJfOWnmfeuXeNVxRl4lgMR9haUovszXrfCf+cnpEGNtVUOs0QaeY/R/Itm04hsk Ymac8weNjTN/QInBZPVLARADu7N0V6kJif9dw= X-Google-DKIM-Signature: v=1; a=rsa-sha256; c=relaxed/relaxed; d=1e100.net; s=20230601; t=1760622553; x=1761227353; h=references:in-reply-to:cc:to:from:subject:message-id:date :x-gm-message-state:from:to:cc:subject:date:message-id:reply-to; bh=yFFx3wAOqO60nZPRJyj8H2VR1rxx01rIlwj6N8fsTxs=; b=f+AyavBv/PJpt2rfz9s7nyeWOCyBy0euPbv2XbcZfLmyiqTWebvhiPocY5bMq60soz MCPoNefDIxIwvI7pRRRI/jh05/+Yz6lSKURbX+gVOgLIYJc0BcazV0gfY7xD+0PVLHcb ipcyFIShcxddVoJqUYqqGVmSqbDq8Scnq0uUTzU/xVSwbTVe6dU2IwYsvQetn9I7CtaM bwJXjWFqaCiQsiCvap5fe6I4WQmfgUz3lXa3qngoakjj23Zv52tKe0whOZ6fAh5NzmiT 3UOQDFmHkb6C70pa/oSBxcvnXycquvQdWruNnNOD1GJ41unZWKoFw6y+IWaF9WYBKiRQ IN6Q== X-Gm-Message-State: AOJu0Yxzwe3WghfdUciZCS+tm8OC25sPqXJl/gY5mGkmq0Tgv0ERbxnY J1Gq3aj//2wCNltZe3VTzwe59hvTusnVOBhlbpi9genqLYpJSEwCMw7vqu6fPdQw/uFShHpVmQK qhuefWQh1dm9osNmvhhhgr2VlQKqnaQpnwgFv/llw1IyuK1L0r4aem5GVGL+x X-Gm-Gg: ASbGncvmx/40qOiH2OfPSnnJvMDkYaeLpxtD5tNq+ZLO/Ab3mUWjsXwzzBeOA/EhdVp Doc2mar4xEccE7AOK4nsdzpT/YiGFpFmtttaMf+SG8qdR1MvwkAPFg2YAgiZvwT52oMcridr055 uieZ4Uk31z7rLA/Li8flJfilEv6WqQru6BRmlkEXYEQw1DeKAXEADYmZlriWxMIWaU2C1r/iEEB g1fHfLygNkU0SqKBcvoR/ksi+P+nXamkHqZXuPF1otP2VDd7oB30mTePiqIUhZHGg4Z7wVFFtM1 UuUM+hLlMdHJrg91IDUpM1fdSOMZ59TWi7Q9ZmAvbtr7K9ESglvLLobkEtk764FS2MnoGr5xLNn hJFWMBIte X-Google-Smtp-Source: AGHT+IGSDqXqLuqEgbLVpb6gvW2iHWoI8olxzwrl2OzLUrY5c8oLrcZvg4OY9EofdbUAz2z8+lFc5N57sNEY X-Received: by 2002:a17:903:1a0e:b0:270:ea84:324a with SMTP id d9443c01a7336-290ca121a70mr168975ad.38.1760622552779; Thu, 16 Oct 2025 06:49:12 -0700 (PDT) Received: from postal.iol.unh.edu (postal.iol.unh.edu. [2606:4100:3880:1234::84]) by smtp-relay.gmail.com with ESMTPS id d9443c01a7336-2909997e278sm2938455ad.50.2025.10.16.06.49.12 (version=TLS1_2 cipher=ECDHE-ECDSA-AES128-GCM-SHA256 bits=128/128); Thu, 16 Oct 2025 06:49:12 -0700 (PDT) X-Relaying-Domain: iol.unh.edu Date: Thu, 16 Oct 2025 06:49:12 -0700 (PDT) Message-ID: <68f0f7d8.170a0220.30bf2d.e0faSMTPIN_ADDED_MISSING@mx.google.com> Received: from [172.21.0.12] (unknown [172.18.0.240]) by postal.iol.unh.edu (Postfix) with ESMTP id F04176050A61; Thu, 16 Oct 2025 09:49:11 -0400 (EDT) Subject: |SUCCESS| pw157716-157715 [PATCH] [v1,2/2] benchmark report for rte_ From: dpdklab@iol.unh.edu To: Test Report Cc: dpdk-test-reports@iol.unh.edu In-Reply-To: <20251016090934.1166954-3-chen.qiguo@zte.com.cn> References: <20251016090934.1166954-3-chen.qiguo@zte.com.cn> Content-Type: text/plain X-BeenThere: test-report@dpdk.org X-Mailman-Version: 2.1.29 Precedence: list List-Id: automatic DPDK test reports List-Unsubscribe: , List-Archive: List-Post: List-Help: List-Subscribe: , Errors-To: test-report-bounces@dpdk.org Test-Label: iol-compile-amd64-testing Test-Status: SUCCESS http://dpdk.org/patch/157715 _Testing PASS_ Submitter: Qiguo Chen Date: Thursday, October 16 2025 09:09:34 DPDK git baseline: Repo:dpdk Branch: master CommitID:16f4c522003dcfecf23c8d38e009b95a3bbefd03 157716-157715 --> testing pass Upstream job id: Windows-Compile-DPDK-Native#31674 Test environment and result as below: +---------------------+--------------------+-------------------+-------------------------+----------------------+ | Environment | dpdk_meson_compile | dpdk_msvc_compile | dpdk_llvm_clang_compile | dpdk_mingw64_compile | +=====================+====================+===================+=========================+======================+ | FreeBSD 14.2 | PASS | SKIPPED | SKIPPED | SKIPPED | +---------------------+--------------------+-------------------+-------------------------+----------------------+ | Ubuntu 20.04 | PASS | SKIPPED | SKIPPED | SKIPPED | +---------------------+--------------------+-------------------+-------------------------+----------------------+ | Windows Server 2022 | SKIPPED | PASS | PASS | PASS | +---------------------+--------------------+-------------------+-------------------------+----------------------+ FreeBSD 14.2 Kernel: 14.2-RELEASE Compiler: clang 18.1.6 Ubuntu 20.04 Kernel: 4.19 Compiler: gcc gcc (Ubuntu 9.4.0-1ubuntu1~20.04.2) 9.4.0 Windows Server 2022 Kernel: 10.0.20348.2031 Compiler: clang 15.0.7, gcc 14.1.0 (MinGW), and MSVC VS 19.39.33521 To view detailed results, visit: https://lab.dpdk.org/results/dashboard/patchsets/34296/ UNH-IOL DPDK Community Lab To manage your email subscriptions, visit: https://lab.dpdk.org/results/dashboard/preferences/subscriptions/