From mboxrd@z Thu Jan 1 00:00:00 1970 Return-Path: Received: from mails.dpdk.org (mails.dpdk.org [217.70.189.124]) by inbox.dpdk.org (Postfix) with ESMTP id 7D23748953 for ; Thu, 16 Oct 2025 15:58:53 +0200 (CEST) Received: from mails.dpdk.org (localhost [127.0.0.1]) by mails.dpdk.org (Postfix) with ESMTP id 59F8840A72; Thu, 16 Oct 2025 15:58:53 +0200 (CEST) Received: from mail-pl1-f228.google.com (mail-pl1-f228.google.com [209.85.214.228]) by mails.dpdk.org (Postfix) with ESMTP id A776740A72 for ; Thu, 16 Oct 2025 15:58:51 +0200 (CEST) Received: by mail-pl1-f228.google.com with SMTP id d9443c01a7336-29091d29fc8so8869115ad.0 for ; Thu, 16 Oct 2025 06:58:51 -0700 (PDT) DKIM-Signature: v=1; a=rsa-sha256; c=relaxed/relaxed; d=iol.unh.edu; s=unh-iol; t=1760623131; x=1761227931; darn=dpdk.org; h=references:in-reply-to:cc:to:from:subject:message-id:date:from:to :cc:subject:date:message-id:reply-to; bh=E4SEsKPBRmVDVpCU01LRw2ArVqKtxUuQ7UGg1fQZzEs=; b=RWwQIc65RTElzYdJUpQY56jr3nMJowmG2QwkVMpZJOb5dvttZ9A1xq+8Tw4OVhdMh8 afekv+sFRybgt2R+DezcszeQJRJOtYVQCB/vJJ1LR87uOgMDHwYTX56Ekyyz6nY2TRq9 zs68ftfx5t5RHphGe3W42Ugnt1iNCFmIPyShc= X-Google-DKIM-Signature: v=1; a=rsa-sha256; c=relaxed/relaxed; d=1e100.net; s=20230601; t=1760623131; x=1761227931; h=references:in-reply-to:cc:to:from:subject:message-id:date :x-gm-message-state:from:to:cc:subject:date:message-id:reply-to; bh=E4SEsKPBRmVDVpCU01LRw2ArVqKtxUuQ7UGg1fQZzEs=; b=rjgNULebt/niJxOkxhLz8Onj7XscMciyG3QEJ79H13gcgZgVKpYhZGSxjZkpyBbxLp UCsX+BTIUvBrFGbLLNa01XpzHL56d4Kr9+ZLAVNn9P0af5ynzIA635UJ3Elvggd9an1j ZHF2+zFAIYWo9E8N7zedtUG1OcMpieeC6HJFkZiDNr2U5bnOidJiWUjzwjLWs8FLouq2 Ko1f6EEE8/IQZbHDW2T+yDcelLWhk+zgK8dr2XHWNHmam0z6dkqMx70yO01SXYQlFXIC GuUrx5TC5s/+oWjccdtiiNJexfTAMgePH2fT3fZlqatmz4NlNbvZE/9EivGeUQBOpG2H LXQA== X-Gm-Message-State: AOJu0Yxi9L9Ee/onlE3JouduCwOsQicDkdUQJui3gRO7Mg0ODB6Vge+q /Et/Z6Gnh6nH3A+p7YFgJZ8dj8X7qdxVLzk/PBzrpiqHT+Cexliv/DBrbqeZ+SjMGtzLsFqiTH0 4FEK3bDjO3GZR+Jpt6RzZyCjzpqtsdI6QXyxCSitL5plCAhZOwZ1gywTsgX/x X-Gm-Gg: ASbGnctTpNGWOmh6EX6+TDK1D1hgut/re7vqhmIh/AWKF0nGRNIr5iB7TKNjbANOpCd /r/eKaC7ulcm7XHxVn7Yjj6Iw8O9WVdbr1CmS7/E1ULP45nqh/+DfSCT7yTNW1OqSZBeyAHzmF8 vxiaFvPzz2l4JhbMZp/4Dz+ez+omw5myeCnrLDy8qhzdgtsLQ5H/Z2GPzNIkZR7E9Xy35AsT6Ri gY+nuKltOL45UtjXsjCuyNZBnu6HDreJvHk0uBOPQ2MKNW+ytIrhK+vVXRbKOK6ILoxdwcKrwxm vm/eYHTKhnlJoHz2giMskWlKKNYAHO1HlC63xZlMrLbHV9hswiUKkMUKsq/Kqqs6AvFMZ4os3cu hB2cxGznY X-Google-Smtp-Source: AGHT+IFTwpKi6mjVOJazjPRQe0/goF/nv0Vy6/FPklu8pdUHYwY3xoP+u1+83VPZX4bFQBtPyIzFi6q3yCbI X-Received: by 2002:a17:902:e5c9:b0:27e:d4a8:56ad with SMTP id d9443c01a7336-290cba426d9mr281005ad.61.1760623130742; Thu, 16 Oct 2025 06:58:50 -0700 (PDT) Received: from postal.iol.unh.edu (postal.iol.unh.edu. [2606:4100:3880:1234::84]) by smtp-relay.gmail.com with ESMTPS id d9443c01a7336-29098e896c1sm3168385ad.7.2025.10.16.06.58.50 (version=TLS1_2 cipher=ECDHE-ECDSA-AES128-GCM-SHA256 bits=128/128); Thu, 16 Oct 2025 06:58:50 -0700 (PDT) X-Relaying-Domain: iol.unh.edu Date: Thu, 16 Oct 2025 06:58:50 -0700 (PDT) Message-ID: <68f0fa1a.170a0220.2e3a9a.f8acSMTPIN_ADDED_MISSING@mx.google.com> Received: from [172.21.0.2] (unknown [172.18.0.240]) by postal.iol.unh.edu (Postfix) with ESMTP id F0C626050A61; Thu, 16 Oct 2025 09:58:49 -0400 (EDT) Subject: |SUCCESS| pw157755 [PATCH] net/iavf: ensure no polling during VF ini From: dpdklab@iol.unh.edu To: Test Report Cc: dpdk-test-reports@iol.unh.edu, Bruce Richardson In-Reply-To: <20251016113224.1652880-1-ciara.loftus@intel.com> References: <20251016113224.1652880-1-ciara.loftus@intel.com> Content-Type: text/plain X-BeenThere: test-report@dpdk.org X-Mailman-Version: 2.1.29 Precedence: list List-Id: automatic DPDK test reports List-Unsubscribe: , List-Archive: List-Post: List-Help: List-Subscribe: , Errors-To: test-report-bounces@dpdk.org Test-Label: iol-unit-amd64-testing Test-Status: SUCCESS http://dpdk.org/patch/157755 _Testing PASS_ Submitter: Ciara Loftus Date: Thursday, October 16 2025 11:32:24 DPDK git baseline: Repo:dpdk-next-net-intel Branch: master CommitID:4b71a661aa14d6e2491a612a4347495c9e06eb0e 157755 --> testing pass Upstream job id: Generic-VM-Unit-Test-DPDK#31850 Test environment and result as below: +-------------------------------+----------------+ | Environment | dpdk_unit_test | +===============================+================+ | CentOS Stream 9 | PASS | +-------------------------------+----------------+ | CentOS Stream 10 | PASS | +-------------------------------+----------------+ | Fedora Linux 40 | PASS | +-------------------------------+----------------+ | Debian GNU/Linux 12 | PASS | +-------------------------------+----------------+ | Fedora Linux 42 | PASS | +-------------------------------+----------------+ | Fedora Linux 41 | PASS | +-------------------------------+----------------+ | Red Hat Enterprise Linux 8.10 | PASS | +-------------------------------+----------------+ | Ubuntu 22.04 | PASS | +-------------------------------+----------------+ | Ubuntu 20.04 | PASS | +-------------------------------+----------------+ | Red Hat Enterprise Linux 9.5 | PASS | +-------------------------------+----------------+ | Ubuntu 24.04 | PASS | +-------------------------------+----------------+ | Windows Server 2022 | PASS | +-------------------------------+----------------+ CentOS Stream 9 Kernel: 5.15 Compiler: gcc gcc (GCC) 11.5.0 20240719 (Red Hat 11.5.0-11) CentOS Stream 10 Kernel: 5.15 Compiler: gcc gcc (GCC) 14.2.1 20250110 (Red Hat 14.2.1-8) Fedora Linux 40 Kernel: 5.15 Compiler: gcc gcc (GCC) 14.2.1 20240912 (Red Hat 14.2.1-3) Debian GNU/Linux 12 Kernel: 5.15 Compiler: gcc gcc (Debian 12.2.0-14+deb12u1) 12.2.0 Fedora Linux 42 Kernel: 5.15 Compiler: gcc gcc (GCC) 15.2.1 20250808 (Red Hat 15.2.1-1) Fedora Linux 41 Kernel: 5.15 Compiler: clang gcc (GCC) 14.3.1 20250523 (Red Hat 14.3.1-1) Red Hat Enterprise Linux 8.10 Kernel: 5.15 Compiler: gcc gcc (GCC) 8.5.0 20210514 (Red Hat 8.5.0-22) Ubuntu 22.04 Kernel: 5.15 Compiler: gcc gcc (Ubuntu 11.4.0-1ubuntu1~22.04) 11.4.0 Ubuntu 20.04 Kernel: 5.15 Compiler: gcc gcc (Ubuntu 9.4.0-1ubuntu1~20.04.2) 9.4.0 Red Hat Enterprise Linux 9.5 Kernel: 5.15 Compiler: gcc gcc (GCC) 11.5.0 20240719 (Red Hat 11.5.0-2) Ubuntu 24.04 Kernel: 5.15 Compiler: gcc gcc (Ubuntu 13.3.0-6ubuntu2~24.04) 13.3.0 Windows Server 2022 Kernel: 10.0.20348.2031 Compiler: clang 15.0.7, gcc 14.1.0 (MinGW), and MSVC VS 19.39.33521 To view detailed results, visit: https://lab.dpdk.org/results/dashboard/patchsets/34300/ UNH-IOL DPDK Community Lab To manage your email subscriptions, visit: https://lab.dpdk.org/results/dashboard/preferences/subscriptions/