From mboxrd@z Thu Jan 1 00:00:00 1970 Return-Path: Received: from mails.dpdk.org (mails.dpdk.org [217.70.189.124]) by inbox.dpdk.org (Postfix) with ESMTP id 0095748954 for ; Thu, 16 Oct 2025 16:04:07 +0200 (CEST) Received: from mails.dpdk.org (localhost [127.0.0.1]) by mails.dpdk.org (Postfix) with ESMTP id F0C2440A72; Thu, 16 Oct 2025 16:04:07 +0200 (CEST) Received: from mail-pl1-f226.google.com (mail-pl1-f226.google.com [209.85.214.226]) by mails.dpdk.org (Postfix) with ESMTP id 48FAF40A72 for ; Thu, 16 Oct 2025 16:04:07 +0200 (CEST) Received: by mail-pl1-f226.google.com with SMTP id d9443c01a7336-2698384978dso5889185ad.0 for ; Thu, 16 Oct 2025 07:04:07 -0700 (PDT) DKIM-Signature: v=1; a=rsa-sha256; c=relaxed/relaxed; d=iol.unh.edu; s=unh-iol; t=1760623446; x=1761228246; darn=dpdk.org; h=references:in-reply-to:cc:to:from:subject:message-id:date:from:to :cc:subject:date:message-id:reply-to; bh=JXHpH2H9ISc4twtZTOIKv9E4EYj50RKbHp/lVYxK3y4=; b=RfKVPaKGriqYMe6ryfMxAHqjKj6kYPzjCeV7S8P0HB/OFDHcKBjeQViPjWR6XNej8c 9x5KwGa42bsXvjXFPj1AELXCxqTcSpL39/AFLf3LEfd25h/L1dWcSSShu5TPQZWdSz5D nBQV79NYNZZMlJWBJmZqGpE2jvyevPq6quFpw= X-Google-DKIM-Signature: v=1; a=rsa-sha256; c=relaxed/relaxed; d=1e100.net; s=20230601; t=1760623446; x=1761228246; h=references:in-reply-to:cc:to:from:subject:message-id:date :x-gm-message-state:from:to:cc:subject:date:message-id:reply-to; bh=JXHpH2H9ISc4twtZTOIKv9E4EYj50RKbHp/lVYxK3y4=; b=owDVbvclmaJFt8zAyxt8ICvHyZoGxY6fKWOfmmlJGoeN+/TdIFEcKv5Ht5bR0cdBr2 N/k3zT49HGm+xN8i1NW6+fq34F1wfbfv2kTn9yso/dC9Fp6n2Bx2fCIQB6kE2REL0eZo 4JJn8s0wADvOqDZZ8mCMZEKd1sq8TpfbvFR5GzXnhbbh1wSL2nRz/6ri6PC668fOIUuc aMWAubAsmRvgGGNTiyAsPUXrSj1N5tay3ehWxEFo3jpRrPJ/Chb3oZyzWiAse4FbmCgw /i9mxGcl3z3FVIL30CrsRYY2oixhBsFKkDVPGggkSzQoeQd8KslH5yVgcD0psnQP8/Dp veFA== X-Gm-Message-State: AOJu0YxS12UpVbWvawg07WIbF4ZrAMHWKput9Ic6gNWJn8kGIB4Ln1cG YMktcSWud0HVsWrxz1hecenWVo1vBcvKK7fAh6IVuFGYnDYnKlDMPLP0AHEd9i44TNLsjHSx9bz PP2mLo1MZa8DIXNQ4RE/9COzor0GmH5ycYw0RiNKeM8Yj X-Gm-Gg: ASbGncu7bfrFalqu6IlsJ04E4RxyA8w6K6/GS0GskFxMjyxasIxXe9Lxg61in8yPZYM nikJP08ac+gPO0ghQOQsZhyn+9QUORJziW6orx28rEne5zDAI0SOLQJhbKZ1rgpePCHKnQ7dGKl uQoQecCpAkrP9Knh+n1VYpvcFvd+QWYlbU/sCFTizSb2uJKlbZ60ZOm8zxTWwdhM49d7LSN/K3S PzqRbiRzMmkuCwu1EDsizMLJIbREINYFYYxOn2nNG4uOaWV5PcZdGWpNM//LF1SL6bud4IoazlH X+JdV4b4axgV2VW7xG/g4K7MnD6LSmz3Q2nJE9VvG0rZW3En4QJ9I2Ziu3h1Kpgr1Hg5olA+wpx p6mdACc90oYZOa2QqGtBBokClXQ09iHA= X-Google-Smtp-Source: AGHT+IE1r/wU6bJbvl5JvNzH8vrHo58J5K5Qt+G320qlc7MYvWKH2TM6VR38ZpbQsmLyDQRGOHfIB/Jg7bYf X-Received: by 2002:a17:903:3c24:b0:267:a942:788c with SMTP id d9443c01a7336-290c9c8c5e9mr1239835ad.1.1760623446185; Thu, 16 Oct 2025 07:04:06 -0700 (PDT) Received: from postal.iol.unh.edu (postal.iol.unh.edu. [132.177.123.84]) by smtp-relay.gmail.com with ESMTPS id d9443c01a7336-29099a9ded7sm3465345ad.60.2025.10.16.07.04.06 (version=TLS1_2 cipher=ECDHE-ECDSA-AES128-GCM-SHA256 bits=128/128); Thu, 16 Oct 2025 07:04:06 -0700 (PDT) X-Relaying-Domain: iol.unh.edu Date: Thu, 16 Oct 2025 07:04:06 -0700 (PDT) Message-ID: <68f0fb56.170a0220.3eb2f.15e1SMTPIN_ADDED_MISSING@mx.google.com> Received: from [172.21.0.2] (unknown [172.18.0.240]) by postal.iol.unh.edu (Postfix) with ESMTP id 584736050A61; Thu, 16 Oct 2025 10:04:05 -0400 (EDT) Subject: |SUCCESS| pw157755 [PATCH] net/iavf: ensure no polling during VF ini From: dpdklab@iol.unh.edu To: Test Report Cc: dpdk-test-reports@iol.unh.edu, Bruce Richardson In-Reply-To: <20251016113224.1652880-1-ciara.loftus@intel.com> References: <20251016113224.1652880-1-ciara.loftus@intel.com> Content-Type: text/plain X-BeenThere: test-report@dpdk.org X-Mailman-Version: 2.1.29 Precedence: list List-Id: automatic DPDK test reports List-Unsubscribe: , List-Archive: List-Post: List-Help: List-Subscribe: , Errors-To: test-report-bounces@dpdk.org Test-Label: iol-unit-amd64-testing Test-Status: SUCCESS http://dpdk.org/patch/157755 _Testing PASS_ Submitter: Ciara Loftus Date: Thursday, October 16 2025 11:32:24 DPDK git baseline: Repo:dpdk-next-net-intel Branch: master CommitID:4b71a661aa14d6e2491a612a4347495c9e06eb0e 157755 --> testing pass Upstream job id: Generic-VM-Unit-Test-DPDK#31851 Test environment and result as below: +-------------------------------+----------------+ | Environment | dpdk_unit_test | +===============================+================+ | CentOS Stream 9 | PASS | +-------------------------------+----------------+ | CentOS Stream 10 | PASS | +-------------------------------+----------------+ | Fedora Linux 40 | PASS | +-------------------------------+----------------+ | Debian GNU/Linux 12 | PASS | +-------------------------------+----------------+ | Fedora Linux 42 | PASS | +-------------------------------+----------------+ | Fedora Linux 41 | PASS | +-------------------------------+----------------+ | Red Hat Enterprise Linux 8.10 | PASS | +-------------------------------+----------------+ | Ubuntu 22.04 | PASS | +-------------------------------+----------------+ | Ubuntu 20.04 | PASS | +-------------------------------+----------------+ | Red Hat Enterprise Linux 9.5 | PASS | +-------------------------------+----------------+ | Ubuntu 24.04 | PASS | +-------------------------------+----------------+ | Windows Server 2022 | PASS | +-------------------------------+----------------+ CentOS Stream 9 Kernel: 5.15 Compiler: gcc gcc (GCC) 11.5.0 20240719 (Red Hat 11.5.0-11) CentOS Stream 10 Kernel: 5.15 Compiler: gcc gcc (GCC) 14.2.1 20250110 (Red Hat 14.2.1-8) Fedora Linux 40 Kernel: 5.15 Compiler: gcc gcc (GCC) 14.2.1 20240912 (Red Hat 14.2.1-3) Debian GNU/Linux 12 Kernel: 5.15 Compiler: gcc gcc (Debian 12.2.0-14+deb12u1) 12.2.0 Fedora Linux 42 Kernel: 5.15 Compiler: gcc gcc (GCC) 15.2.1 20250808 (Red Hat 15.2.1-1) Fedora Linux 41 Kernel: 5.15 Compiler: clang gcc (GCC) 14.3.1 20250523 (Red Hat 14.3.1-1) Red Hat Enterprise Linux 8.10 Kernel: 5.15 Compiler: gcc gcc (GCC) 8.5.0 20210514 (Red Hat 8.5.0-22) Ubuntu 22.04 Kernel: 5.15 Compiler: gcc gcc (Ubuntu 11.4.0-1ubuntu1~22.04) 11.4.0 Ubuntu 20.04 Kernel: 5.15 Compiler: gcc gcc (Ubuntu 9.4.0-1ubuntu1~20.04.2) 9.4.0 Red Hat Enterprise Linux 9.5 Kernel: 5.15 Compiler: gcc gcc (GCC) 11.5.0 20240719 (Red Hat 11.5.0-2) Ubuntu 24.04 Kernel: 5.15 Compiler: gcc gcc (Ubuntu 13.3.0-6ubuntu2~24.04) 13.3.0 Windows Server 2022 Kernel: 10.0.20348.2031 Compiler: clang 15.0.7, gcc 14.1.0 (MinGW), and MSVC VS 19.39.33521 To view detailed results, visit: https://lab.dpdk.org/results/dashboard/patchsets/34300/ UNH-IOL DPDK Community Lab To manage your email subscriptions, visit: https://lab.dpdk.org/results/dashboard/preferences/subscriptions/