From mboxrd@z Thu Jan 1 00:00:00 1970 Return-Path: Received: from mails.dpdk.org (mails.dpdk.org [217.70.189.124]) by inbox.dpdk.org (Postfix) with ESMTP id 192E748954 for ; Thu, 16 Oct 2025 16:04:56 +0200 (CEST) Received: from mails.dpdk.org (localhost [127.0.0.1]) by mails.dpdk.org (Postfix) with ESMTP id 13E9D40A72; Thu, 16 Oct 2025 16:04:56 +0200 (CEST) Received: from mail-yw1-f225.google.com (mail-yw1-f225.google.com [209.85.128.225]) by mails.dpdk.org (Postfix) with ESMTP id 9E74140A72 for ; Thu, 16 Oct 2025 16:04:55 +0200 (CEST) Received: by mail-yw1-f225.google.com with SMTP id 00721157ae682-74435335177so36818007b3.0 for ; Thu, 16 Oct 2025 07:04:55 -0700 (PDT) DKIM-Signature: v=1; a=rsa-sha256; c=relaxed/relaxed; d=iol.unh.edu; s=unh-iol; t=1760623495; x=1761228295; darn=dpdk.org; h=references:in-reply-to:cc:to:from:subject:message-id:date:from:to :cc:subject:date:message-id:reply-to; bh=5Brv8iE96dbSnk4ZvUXNFn+rF/oowYnay8/hqixy/XQ=; b=UAUq42A9aOAgoOMOAZe8ZarzPkdXWgK4jMIgn9r6SNGLkbKFf9lpCeTxibc8FbvHLM gqvichzhB2DnaIQxqCofeXBMtxYbnpMbu4OSq0/+fzGW0XgemFx6i964n8oiHmFvBCcr EGsoQ7d+Fi6mwSyfDwwX49ovsef/tTM76p9Mo= X-Google-DKIM-Signature: v=1; a=rsa-sha256; c=relaxed/relaxed; d=1e100.net; s=20230601; t=1760623495; x=1761228295; h=references:in-reply-to:cc:to:from:subject:message-id:date :x-gm-message-state:from:to:cc:subject:date:message-id:reply-to; bh=5Brv8iE96dbSnk4ZvUXNFn+rF/oowYnay8/hqixy/XQ=; b=G/rPafLeGIp05MQauP2i2RS2ZbpeHcXu45y8e+pqprO7XtLA+XxKyNXetyTPQKVTwA 3YofxehNC8E8cXjkXq00LvZgg9iODLp/o4qNV70wdhNbJkdo7jFqfFdHKNNa56woa+Lm fKmlNlvEB/6dx4L3PNdNCBkJjrcY+bacqjtf9N8vkbGP+Y31vi1jSSgeiDc+xAI/eySe jUPij5g2Krm6rvEn6yJPGzhA8pjXf9Y0SZWBxxIQP7CrPuxi1NNpqj0TNV54jg4peyl5 /okzJsHGqNQd8HtOqyeRn08/yTuGnxlbw5ri1fHqcvDBGIBtEiGqDUO8yXblB0RKNZ8P AEbg== X-Gm-Message-State: AOJu0YxpwAaCcNbPA5sKu8QJq5faGtqYT+qDQRy42s3oQxfOvofZ6zak mREXgD3o1ixPTK1p8BPxfScjEfG+ZRyhwh977wQF1g8u06JY2+dWytesWSENAhLWfisF8IpXyQ4 1/hxtqFhC+dSekcYkS2mk7Lqd/LJbxdiSx3DYtavfRhdm X-Gm-Gg: ASbGncv6CgLC5aG8/onX5EboUEfbNzYbEgGN3aXLzkQqFGlct8o5LQ3Lo1AIvphvUbN NBguHjnTzPXzgF2Wv7HvXRJ3TLDcpmmwxxq3Bgd4gyG24gwAXq67EbCKPVD37aMZaYXtFIXuRIc wSHXTAkb7BDvGMMMr7T5N4q8Oi/5EX2mJb+4NveZtoQVnDJFayb8f5eyhZPd8hbF7X7sDzKsig1 WY6HNLeBkJSQhD7RrVBsKMs9UnvnIx3+M3TngXOUZAkOf6zbt5xU6OTljOdgWg3aNR6twnaMVb0 64gma1vdxoCNYysrXWF+nt6kwuB6DTVb+rKbqMSaC1JV3zO/MtWwmF44D3uM2tn+14hlfsaQOH7 3IsN8A0QnnNMlt6pqQVVcBCBWZUAo2Dg= X-Google-Smtp-Source: AGHT+IGYxCTrFnx1kMScAVwHNiBOSQEfEZhbrdLsdTHN5n6FzRKfVtVJfgVPFkjpXT18kk3kI9GXDVRBYK22 X-Received: by 2002:a05:690e:11c6:b0:636:2079:186e with SMTP id 956f58d0204a3-63e1615c387mr297090d50.5.1760623494660; Thu, 16 Oct 2025 07:04:54 -0700 (PDT) Received: from postal.iol.unh.edu (postal.iol.unh.edu. [132.177.123.84]) by smtp-relay.gmail.com with ESMTPS id 956f58d0204a3-63cd95d38c6sm1245453d50.9.2025.10.16.07.04.54 (version=TLS1_2 cipher=ECDHE-ECDSA-AES128-GCM-SHA256 bits=128/128); Thu, 16 Oct 2025 07:04:54 -0700 (PDT) X-Relaying-Domain: iol.unh.edu Date: Thu, 16 Oct 2025 07:04:54 -0700 (PDT) Message-ID: <68f0fb86.530a0220.15c9d8.ea35SMTPIN_ADDED_MISSING@mx.google.com> Received: from [172.21.0.2] (unknown [172.18.0.240]) by postal.iol.unh.edu (Postfix) with ESMTP id 507E26050A61; Thu, 16 Oct 2025 10:04:54 -0400 (EDT) Subject: |SUCCESS| pw157718 [PATCH] [v1] maintainers: update for LoongArch From: dpdklab@iol.unh.edu To: Test Report Cc: dpdk-test-reports@iol.unh.edu In-Reply-To: <20251016090948.836029-1-zhoumin@loongson.cn> References: <20251016090948.836029-1-zhoumin@loongson.cn> Content-Type: text/plain X-BeenThere: test-report@dpdk.org X-Mailman-Version: 2.1.29 Precedence: list List-Id: automatic DPDK test reports List-Unsubscribe: , List-Archive: List-Post: List-Help: List-Subscribe: , Errors-To: test-report-bounces@dpdk.org Test-Label: iol-compile-amd64-testing Test-Status: SUCCESS http://dpdk.org/patch/157718 _Testing PASS_ Submitter: zhoumin Date: Thursday, October 16 2025 09:09:48 DPDK git baseline: Repo:dpdk Branch: master CommitID:16f4c522003dcfecf23c8d38e009b95a3bbefd03 157718 --> testing pass Upstream job id: Windows-Compile-DPDK-Native#31675 Test environment and result as below: +---------------------+--------------------+-------------------+-------------------------+ | Environment | dpdk_meson_compile | dpdk_msvc_compile | dpdk_llvm_clang_compile | +=====================+====================+===================+=========================+ | Ubuntu 20.04 | PASS | SKIPPED | SKIPPED | +---------------------+--------------------+-------------------+-------------------------+ | FreeBSD 14.2 | PASS | SKIPPED | SKIPPED | +---------------------+--------------------+-------------------+-------------------------+ | Windows Server 2022 | SKIPPED | PASS | PASS | +---------------------+--------------------+-------------------+-------------------------+ Ubuntu 20.04 Kernel: 4.19 Compiler: gcc gcc (Ubuntu 9.4.0-1ubuntu1~20.04.2) 9.4.0 FreeBSD 14.2 Kernel: 14.2-RELEASE Compiler: clang 18.1.6 Windows Server 2022 Kernel: 10.0.20348.2031 Compiler: clang 15.0.7, gcc 14.1.0 (MinGW), and MSVC VS 19.39.33521 To view detailed results, visit: https://lab.dpdk.org/results/dashboard/patchsets/34297/ UNH-IOL DPDK Community Lab To manage your email subscriptions, visit: https://lab.dpdk.org/results/dashboard/preferences/subscriptions/