From mboxrd@z Thu Jan 1 00:00:00 1970 Return-Path: Received: from mails.dpdk.org (mails.dpdk.org [217.70.189.124]) by inbox.dpdk.org (Postfix) with ESMTP id 389B348954 for ; Thu, 16 Oct 2025 16:35:03 +0200 (CEST) Received: from mails.dpdk.org (localhost [127.0.0.1]) by mails.dpdk.org (Postfix) with ESMTP id 1F7CF40EDF; Thu, 16 Oct 2025 16:35:03 +0200 (CEST) Received: from mail-qk1-f228.google.com (mail-qk1-f228.google.com [209.85.222.228]) by mails.dpdk.org (Postfix) with ESMTP id 9671640EDF for ; Thu, 16 Oct 2025 16:35:01 +0200 (CEST) Received: by mail-qk1-f228.google.com with SMTP id af79cd13be357-86302b5a933so96733585a.0 for ; Thu, 16 Oct 2025 07:35:01 -0700 (PDT) DKIM-Signature: v=1; a=rsa-sha256; c=relaxed/relaxed; d=iol.unh.edu; s=unh-iol; t=1760625301; x=1761230101; darn=dpdk.org; h=references:in-reply-to:cc:to:from:subject:message-id:date:from:to :cc:subject:date:message-id:reply-to; bh=f9Y/9Smon5AsVkI0ZeZdsY68vPHbLrA0cmdrpnyFs3E=; b=RuBXcDPE96yytRA++gi6NPXJAttoC6xBM7ZbWw43V31BCFm7KqlQszsFYLVYdDXD1o i3RH1jEcReCjgit8OqlAjEnCL7v1gFvP7IA60Nz+VLxhf9JAqAEPtftT9q1BWZ1uicwU E7OyAHUsj9X8M2Xf9qke134opW+BTB5yBxQkE= X-Google-DKIM-Signature: v=1; a=rsa-sha256; c=relaxed/relaxed; d=1e100.net; s=20230601; t=1760625301; x=1761230101; h=references:in-reply-to:cc:to:from:subject:message-id:date :x-gm-message-state:from:to:cc:subject:date:message-id:reply-to; bh=f9Y/9Smon5AsVkI0ZeZdsY68vPHbLrA0cmdrpnyFs3E=; b=GklODcgrBVtsOv6LU6re1LH0WbjOT6z+2monCZyT5URvBqtDCRHX0YuTGD4ff5mk8g 0UeCcFkRJJDQ9tkDUI0DlEXey6Lidos4X3WHKkh08CpRp4j7H7/PjgHeusxbIYVY4frP cpP+fRcdmgKZ0BeI1WoH+ufM5wIhJaPKH4aOBYGPQAeFr3RqPczX4VGtoULRm3uytNj6 YAIdG3qRvwMef3f9TT+yGI0FZxLJ0inMg3DZqGCkSbYKaIVTI4DYtut1wVfrscrafvaV /Yn/02UdT5LukPB7EBca3HRb8aOiJkUCmIvF56B4afgaKKbiIuLwSXUw32cwTUpmY3/z te/w== X-Gm-Message-State: AOJu0YytLTCWVGzy0hobXjgSeRN6cfn0SGkvdO6+rnNLXJ05xmF9KCMN EnOi5nM+EEAfTqNgOJv7nlPSmpUX0i2ZCt8Efq5seosKW5IUn0zwX6w2FPsevjED+/MCnAy+7/s TI51fTnkvqpiUwBnheZ9OrUtbbbh8r4/LTxSWIemscnJ629dd0gMmO5sWgEgT X-Gm-Gg: ASbGncvK6pO1lFY3f8KiWInsMct758wV/lA5Cp7gbBk3cR23pn+FP+hrGH0fGWjqbt8 GCGpHeCzTLs0JsdlDj9DqtRUPfb0p/CsMA1YOyV0xjgskTr/TPll/k3yUctYg8lO+NbkVlbED87 m5VPdeRMC4uGF88bVHCQabw/ZMf0Wj7qkSz1/Q/rtX3Cj7UvcSziE8idj9+kuiwAbQKh7FfkI77 +qSQyCtZ4OwkO0O47EtNfdNGB9vFUUVpw2jpJFy4i+VUqZNw6VOnrMH736Ok9+90SMqQNUi+Dyk 3R2BGnxY/3iPcP2QSWPoQIylPHUp9CDpE/Yw4OXfgI6cOVmYa6w+mPFdUl/2AmteEmLMRB+FhIy nV2AS0Qzq X-Google-Smtp-Source: AGHT+IHsPMADCa/sC7HqyT+X0AL56H86OQqGd32Ly193q13kkzRqAtrrEb07p7dQ+nhWvi5y6I476xqzudqE X-Received: by 2002:a05:620a:471f:b0:858:d78e:e9ff with SMTP id af79cd13be357-89070113782mr7657485a.45.1760625300915; Thu, 16 Oct 2025 07:35:00 -0700 (PDT) Received: from postal.iol.unh.edu (postal.iol.unh.edu. [2606:4100:3880:1234::84]) by smtp-relay.gmail.com with ESMTPS id af79cd13be357-88f35872737sm21708485a.1.2025.10.16.07.35.00 (version=TLS1_2 cipher=ECDHE-ECDSA-AES128-GCM-SHA256 bits=128/128); Thu, 16 Oct 2025 07:35:00 -0700 (PDT) X-Relaying-Domain: iol.unh.edu Date: Thu, 16 Oct 2025 07:35:00 -0700 (PDT) Message-ID: <68f10294.050a0220.2f26dd.aa90SMTPIN_ADDED_MISSING@mx.google.com> Received: from [172.21.0.2] (unknown [172.18.0.240]) by postal.iol.unh.edu (Postfix) with ESMTP id 9905F604D420; Thu, 16 Oct 2025 10:35:00 -0400 (EDT) Subject: |SUCCESS| pw157756-157758 [PATCH] [v7,3/3] dts: update tx_offload te From: dpdklab@iol.unh.edu To: Test Report Cc: dpdk-test-reports@iol.unh.edu In-Reply-To: <20251016132421.12176-4-abailey@iol.unh.edu> References: <20251016132421.12176-4-abailey@iol.unh.edu> Content-Type: text/plain X-BeenThere: test-report@dpdk.org X-Mailman-Version: 2.1.29 Precedence: list List-Id: automatic DPDK test reports List-Unsubscribe: , List-Archive: List-Post: List-Help: List-Subscribe: , Errors-To: test-report-bounces@dpdk.org Test-Label: iol-compile-amd64-testing Test-Status: SUCCESS http://dpdk.org/patch/157758 _Testing PASS_ Submitter: Andrew Bailey Date: Thursday, October 16 2025 13:24:21 DPDK git baseline: Repo:dpdk-next-dts Branch: master CommitID:c1a9d3e5a721be9be66f0c4bfd9fa4d6e6af3b98 157756-157758 --> testing pass Upstream job id: Windows-Compile-DPDK-VS#7223 Test environment and result as below: +---------------------+--------------------+-------------------+ | Environment | dpdk_meson_compile | dpdk_msvc_compile | +=====================+====================+===================+ | Ubuntu 20.04 | PASS | SKIPPED | +---------------------+--------------------+-------------------+ | FreeBSD 14.2 | PASS | SKIPPED | +---------------------+--------------------+-------------------+ | Windows Server 2022 | SKIPPED | PASS | +---------------------+--------------------+-------------------+ Ubuntu 20.04 Kernel: 4.19 Compiler: gcc gcc (Ubuntu 9.4.0-1ubuntu1~20.04.2) 9.4.0 FreeBSD 14.2 Kernel: 14.2-RELEASE Compiler: clang 18.1.6 Windows Server 2022 Kernel: 10.0.20348.2031 Compiler: clang 15.0.7, gcc 14.1.0 (MinGW), and MSVC VS 19.39.33521 To view detailed results, visit: https://lab.dpdk.org/results/dashboard/patchsets/34301/ UNH-IOL DPDK Community Lab To manage your email subscriptions, visit: https://lab.dpdk.org/results/dashboard/preferences/subscriptions/