From mboxrd@z Thu Jan 1 00:00:00 1970 Return-Path: Received: from mails.dpdk.org (mails.dpdk.org [217.70.189.124]) by inbox.dpdk.org (Postfix) with ESMTP id 4B7A148954 for ; Thu, 16 Oct 2025 16:36:09 +0200 (CEST) Received: from mails.dpdk.org (localhost [127.0.0.1]) by mails.dpdk.org (Postfix) with ESMTP id 4668940EDF; Thu, 16 Oct 2025 16:36:09 +0200 (CEST) Received: from mail-pg1-f228.google.com (mail-pg1-f228.google.com [209.85.215.228]) by mails.dpdk.org (Postfix) with ESMTP id CDC7140EDF for ; Thu, 16 Oct 2025 16:36:07 +0200 (CEST) Received: by mail-pg1-f228.google.com with SMTP id 41be03b00d2f7-b62e7221351so673176a12.1 for ; Thu, 16 Oct 2025 07:36:07 -0700 (PDT) DKIM-Signature: v=1; a=rsa-sha256; c=relaxed/relaxed; d=iol.unh.edu; s=unh-iol; t=1760625367; x=1761230167; darn=dpdk.org; h=references:in-reply-to:cc:to:from:subject:message-id:date:from:to :cc:subject:date:message-id:reply-to; bh=KXN3/vkG7nrFMxwg6jyxqYOakD+7o3DXL3vTtcXBh2s=; b=DIpOj7XydI5vwSy5IfygO0ojAEPPVpFPWA58jZo25HEtwTNnJj57RtYe1bX0Ovu54Q 1ltCxEOb3YnJVDCjKXREyDR+I2bXgoUTUR1d8SqdsRu9TggsRRTRm64AU2tudF7o+qQs PYrnuphscZ0Mn8RH/sOxn/Vzzuo24TBii48Pw= X-Google-DKIM-Signature: v=1; a=rsa-sha256; c=relaxed/relaxed; d=1e100.net; s=20230601; t=1760625367; x=1761230167; h=references:in-reply-to:cc:to:from:subject:message-id:date :x-gm-message-state:from:to:cc:subject:date:message-id:reply-to; bh=KXN3/vkG7nrFMxwg6jyxqYOakD+7o3DXL3vTtcXBh2s=; b=Dq7RrcGJEJVCwVT5bfwbGj6zB38RK32p3xXyYelyBQV4aBlptJZt44ol9Di1WlIr1K nM5HySvjYITSyJ8zUvAJcME6ShrainzaUiGTF1iWSDrrmNkPDMVt//L/NXrEs8FV9q+d Ki5zLGEpvtsOvhHUApU2iGtVn4ZCZeiqbsyhlB1/jpY2lImjDbCIKOQ+hS90b1DtGCCU V9nVvHlTEX/Oi3jqOuHm9ecQPcYvBKnPgk7TUkc55iLRLWkUAPSd4d2QGKjExkZ2mUKA X2HNqW+i47V2GKt8JERGG1sr28JjiKB1900hnIqOHui0bQH6uFsBGVqZxYKzqBlY2Wde G2UA== X-Gm-Message-State: AOJu0YyBPvvILJEXxKGQ7GF2C7HGkqs2y/T9P69evkNBNTcBuvoNEAgz bbih4kBkpxTdZb3hFzyjgblXC2banOgRlDoccbHLZYlL/Yav6q3Yl+5iMQzd6mwUkcCvzc1bFdw ny1f2c9LmVzL24xP3qT+JM1YThp9Nldrtt3ehWPQXzaYF86B+JEuSwQghJ/9J X-Gm-Gg: ASbGncuQUJMuvIXw3YG0ubqfrHBqYrib6SW+aUv38r3D5qGFQO/ZGvSJPDJ5za/gHI8 8pXGBDzU8godW/emds1vCaVjDQhyhd55cNz9mV21+KZ/NsqhZW5tBG6/X862dAIj1dWtlwoP4cD HS+0rr8iGk7CFMKDQZA6BBIi3Puutwe/CzYBJeNxEvDzFpf7e5UJzSrZbCcTCUl40OzbAXSdkjz pU6XWX6Asoc68IGDHXXGFjQrgB/sPbJY/6qL4/UO+w6NaT5EI9bpq053U7eGwhTZxgrnMH52Evt NZr4M427Au2C+XfPyUqLs7nr3Wh/jRoYT3FJRPegps195UCegRoLYWk44cBLu6vct4xrSeOzhjE +XtJeOD/X X-Google-Smtp-Source: AGHT+IH1/36ixXpweE38LIMvlOfZPfsoe99WK6nXPYknhmypXw00pcjIuhn98v1y/HDXms3lMjd8jlHZLwRr X-Received: by 2002:a05:6300:210a:b0:334:9b5d:3885 with SMTP id adf61e73a8af0-334a861747emr232399637.35.1760625366952; Thu, 16 Oct 2025 07:36:06 -0700 (PDT) Received: from postal.iol.unh.edu (postal.iol.unh.edu. [2606:4100:3880:1234::84]) by smtp-relay.gmail.com with ESMTPS id 41be03b00d2f7-b6a2289c7b2sm201325a12.4.2025.10.16.07.36.06 (version=TLS1_2 cipher=ECDHE-ECDSA-AES128-GCM-SHA256 bits=128/128); Thu, 16 Oct 2025 07:36:06 -0700 (PDT) X-Relaying-Domain: iol.unh.edu Date: Thu, 16 Oct 2025 07:36:06 -0700 (PDT) Message-ID: <68f102d6.630a0220.264f68.a0c7SMTPIN_ADDED_MISSING@mx.google.com> Received: from [172.21.0.2] (unknown [172.18.0.240]) by postal.iol.unh.edu (Postfix) with ESMTP id 3A1A9604D420; Thu, 16 Oct 2025 10:36:06 -0400 (EDT) Subject: |SUCCESS| pw157718 [PATCH] [v1] maintainers: update for LoongArch From: dpdklab@iol.unh.edu To: Test Report Cc: dpdk-test-reports@iol.unh.edu In-Reply-To: <20251016090948.836029-1-zhoumin@loongson.cn> References: <20251016090948.836029-1-zhoumin@loongson.cn> Content-Type: text/plain X-BeenThere: test-report@dpdk.org X-Mailman-Version: 2.1.29 Precedence: list List-Id: automatic DPDK test reports List-Unsubscribe: , List-Archive: List-Post: List-Help: List-Subscribe: , Errors-To: test-report-bounces@dpdk.org Test-Label: iol-compile-amd64-testing Test-Status: SUCCESS http://dpdk.org/patch/157718 _Testing PASS_ Submitter: zhoumin Date: Thursday, October 16 2025 09:09:48 DPDK git baseline: Repo:dpdk Branch: master CommitID:16f4c522003dcfecf23c8d38e009b95a3bbefd03 157718 --> testing pass Upstream job id: Windows-Compile-DPDK-Native#31676 Test environment and result as below: +---------------------+--------------------+-------------------+-------------------------+----------------------+ | Environment | dpdk_meson_compile | dpdk_msvc_compile | dpdk_llvm_clang_compile | dpdk_mingw64_compile | +=====================+====================+===================+=========================+======================+ | Ubuntu 20.04 | PASS | SKIPPED | SKIPPED | SKIPPED | +---------------------+--------------------+-------------------+-------------------------+----------------------+ | FreeBSD 14.2 | PASS | SKIPPED | SKIPPED | SKIPPED | +---------------------+--------------------+-------------------+-------------------------+----------------------+ | Windows Server 2022 | SKIPPED | PASS | PASS | PASS | +---------------------+--------------------+-------------------+-------------------------+----------------------+ Ubuntu 20.04 Kernel: 4.19 Compiler: gcc gcc (Ubuntu 9.4.0-1ubuntu1~20.04.2) 9.4.0 FreeBSD 14.2 Kernel: 14.2-RELEASE Compiler: clang 18.1.6 Windows Server 2022 Kernel: 10.0.20348.2031 Compiler: clang 15.0.7, gcc 14.1.0 (MinGW), and MSVC VS 19.39.33521 To view detailed results, visit: https://lab.dpdk.org/results/dashboard/patchsets/34297/ UNH-IOL DPDK Community Lab To manage your email subscriptions, visit: https://lab.dpdk.org/results/dashboard/preferences/subscriptions/