From mboxrd@z Thu Jan 1 00:00:00 1970 Return-Path: Received: from mails.dpdk.org (mails.dpdk.org [217.70.189.124]) by inbox.dpdk.org (Postfix) with ESMTP id 484C648954 for ; Thu, 16 Oct 2025 16:47:05 +0200 (CEST) Received: from mails.dpdk.org (localhost [127.0.0.1]) by mails.dpdk.org (Postfix) with ESMTP id 43ECB4026D; Thu, 16 Oct 2025 16:47:05 +0200 (CEST) Received: from mail-yx1-f97.google.com (mail-yx1-f97.google.com [74.125.224.97]) by mails.dpdk.org (Postfix) with ESMTP id BF7C44026D for ; Thu, 16 Oct 2025 16:47:03 +0200 (CEST) Received: by mail-yx1-f97.google.com with SMTP id 956f58d0204a3-63d0692136bso878337d50.1 for ; Thu, 16 Oct 2025 07:47:03 -0700 (PDT) DKIM-Signature: v=1; a=rsa-sha256; c=relaxed/relaxed; d=iol.unh.edu; s=unh-iol; t=1760626023; x=1761230823; darn=dpdk.org; h=references:in-reply-to:cc:to:from:subject:message-id:date:from:to :cc:subject:date:message-id:reply-to; bh=XQSDCKRMD1QBke015X1K7N+58yEGnB/9yH2cd8QylrM=; b=AxCHZgELbhkPwhymH3eJ2XPm5QRR8zb+e3UslcSTg0ePmE3L3Dyqg72oLNpqsEItQC sq26BViin5Sn1mzOwx4O5TPZ6B9dy9g79Cv8NCOYDPDUwi5C33T/qHZgB66qOtQcS6E0 NgzDWZ8CF68Q9F7/a8KlQ6nU0hgkCClwOoQzY= X-Google-DKIM-Signature: v=1; a=rsa-sha256; c=relaxed/relaxed; d=1e100.net; s=20230601; t=1760626023; x=1761230823; h=references:in-reply-to:cc:to:from:subject:message-id:date :x-gm-message-state:from:to:cc:subject:date:message-id:reply-to; bh=XQSDCKRMD1QBke015X1K7N+58yEGnB/9yH2cd8QylrM=; b=qK2WQYopadSYx0Kvis1BaJuWneeccoI8vPPTCv10Wwfko1xhR2XVbnPErz1Daa8BSR 1hF+RHgCvsTUfIfavRKgnMJFy9kGoiZHYn62Eyiiiohc4pbW9wgnGRETRhBz/AEpOxxC ash60vlpwqDRy5FN6y3pCZxyheYwEwBk72QJoc7hNhIRnNYwNP6iKXN2cejkNCnHf+K7 tSWG+5MaG05txuX9gkDgeeb6+RJO39jmGCE4DvFI1VP30pg/Xt/uf9Bdc9y1amfGf0Dt 6Z0kZGBkeMoS2ebGqJgqM1nyc40LxDESpzcd0LZjGut85HyLP17Glxl7+B4a2s/Sh4wi CXLA== X-Gm-Message-State: AOJu0YxtLjiYxrwsnax0xR0On73+KQoBQsqujEL30i/5AiGGk5d5831M RBe27DraX530me0/yOUuDNqSuTTZhfQkn5ItXT11XomkiVv8kfx66fTzdcYZYg4ZYWkxK0+T0Bw CWN0DCrckAeWbVXBlsxVV/kIK689vm/Gzpr5qNtj9rIi8 X-Gm-Gg: ASbGnctEC7ZVBaCkMrspcoknE2k3MW6YSFyWVtLhm9iMpiNFYwTlxGY5hNjA0KLs5fA IG8dreF76Ks6UkZA7wtxBdCSpcqVAtQD76hb4dP+8JRLS0nprSKN5b4GMEl60gCoWUODxTLyhjM LDpPtcqj7RH9wHhFQx9DAzYmr3wyZFUn51lsKCl+L//wO5utVFjQNbeNbBVR8jL7QhYzBYwCEbv PaKIR/eKCdGJWe8dsYKBxKz+4YQk5LMC0U64LGLKCwwcGCg+CL69GTjFYrOvPmT0igWzf+2rMHw 0Uw69H1GydGNss/bivyxb5yR2ogui6wMkj/bvhBX5Is9n9/181QiFbxfN6jYWnkGi0MgBaX62FV IMRl7l8CwN/YmmFqzZ0QSDFV07t185k4= X-Google-Smtp-Source: AGHT+IEkmHWznNsaUPSbCKqDJ4J+wF58m0kEPk0gbuyguDvnu6gqdMidnTszXQPNMyZjpED2/+OpTZmrpvF8 X-Received: by 2002:a05:690e:130d:b0:633:b902:cd with SMTP id 956f58d0204a3-63e1613d429mr397573d50.29.1760626022813; Thu, 16 Oct 2025 07:47:02 -0700 (PDT) Received: from postal.iol.unh.edu (postal.iol.unh.edu. [132.177.123.84]) by smtp-relay.gmail.com with ESMTPS id 956f58d0204a3-63cefb58cb1sm1072817d50.10.2025.10.16.07.47.02 (version=TLS1_2 cipher=ECDHE-ECDSA-AES128-GCM-SHA256 bits=128/128); Thu, 16 Oct 2025 07:47:02 -0700 (PDT) X-Relaying-Domain: iol.unh.edu Date: Thu, 16 Oct 2025 07:47:02 -0700 (PDT) Message-ID: <68f10566.050a0220.aaa65.612cSMTPIN_ADDED_MISSING@mx.google.com> Received: from [172.21.0.3] (unknown [172.18.0.240]) by postal.iol.unh.edu (Postfix) with ESMTP id 7AF1C6051830; Thu, 16 Oct 2025 10:47:02 -0400 (EDT) Subject: |SUCCESS| pw157735-157754 [PATCH] [v5,21/21] doc: update release not From: dpdklab@iol.unh.edu To: Test Report Cc: dpdk-test-reports@iol.unh.edu, Stephen Hemminger In-Reply-To: <20251016111736.25372-22-zaiyuwang@trustnetic.com> References: <20251016111736.25372-22-zaiyuwang@trustnetic.com> Content-Type: text/plain X-BeenThere: test-report@dpdk.org X-Mailman-Version: 2.1.29 Precedence: list List-Id: automatic DPDK test reports List-Unsubscribe: , List-Archive: List-Post: List-Help: List-Subscribe: , Errors-To: test-report-bounces@dpdk.org Test-Label: iol-compile-amd64-testing Test-Status: SUCCESS http://dpdk.org/patch/157754 _Testing PASS_ Submitter: Zaiyu Wang Date: Thursday, October 16 2025 11:17:35 DPDK git baseline: Repo:dpdk-next-net Branch: master CommitID:791cea04798a8e2de014b99c009cd25b5929000a 157735-157754 --> testing pass Upstream job id: Windows-Compile-DPDK-Native#31677 Test environment and result as below: +---------------------+--------------------+-------------------+-------------------------+ | Environment | dpdk_meson_compile | dpdk_msvc_compile | dpdk_llvm_clang_compile | +=====================+====================+===================+=========================+ | Ubuntu 20.04 | PASS | SKIPPED | SKIPPED | +---------------------+--------------------+-------------------+-------------------------+ | FreeBSD 14.2 | PASS | SKIPPED | SKIPPED | +---------------------+--------------------+-------------------+-------------------------+ | Windows Server 2022 | SKIPPED | PASS | PASS | +---------------------+--------------------+-------------------+-------------------------+ Ubuntu 20.04 Kernel: 4.19 Compiler: gcc gcc (Ubuntu 9.4.0-1ubuntu1~20.04.2) 9.4.0 FreeBSD 14.2 Kernel: 14.2-RELEASE Compiler: clang 18.1.6 Windows Server 2022 Kernel: 10.0.20348.2031 Compiler: clang 15.0.7, gcc 14.1.0 (MinGW), and MSVC VS 19.39.33521 To view detailed results, visit: https://lab.dpdk.org/results/dashboard/patchsets/34299/ UNH-IOL DPDK Community Lab To manage your email subscriptions, visit: https://lab.dpdk.org/results/dashboard/preferences/subscriptions/