From mboxrd@z Thu Jan 1 00:00:00 1970 Return-Path: Received: from mails.dpdk.org (mails.dpdk.org [217.70.189.124]) by inbox.dpdk.org (Postfix) with ESMTP id 6E37A48954 for ; Thu, 16 Oct 2025 16:48:12 +0200 (CEST) Received: from mails.dpdk.org (localhost [127.0.0.1]) by mails.dpdk.org (Postfix) with ESMTP id 68A974026D; Thu, 16 Oct 2025 16:48:12 +0200 (CEST) Received: from mail-il1-f225.google.com (mail-il1-f225.google.com [209.85.166.225]) by mails.dpdk.org (Postfix) with ESMTP id 224B94026D for ; Thu, 16 Oct 2025 16:48:11 +0200 (CEST) Received: by mail-il1-f225.google.com with SMTP id e9e14a558f8ab-430abca3354so7373685ab.2 for ; Thu, 16 Oct 2025 07:48:11 -0700 (PDT) DKIM-Signature: v=1; a=rsa-sha256; c=relaxed/relaxed; d=iol.unh.edu; s=unh-iol; t=1760626090; x=1761230890; darn=dpdk.org; h=references:in-reply-to:cc:to:from:subject:message-id:date:from:to :cc:subject:date:message-id:reply-to; bh=OsHBBXyRZ9LXA+tKNmlR02T8TunIC5Vv3qYSqY+8ZKg=; b=U7sz9pyBvHQzcEODNV1rYj7SsMDMf+MGxIW/8314vQpgjvXU5NW36DPNzmcqpHfc2x OWnaAPuErv5xFc5Xqdmnpbtf0qM3dbaWSXuclIf8GKGNyuzFOIMEZvKZAtV2Nd0Wi3fd ZkfID/G4CYvb11NABJXJ9R8yxT/A1JS9QG4KE= X-Google-DKIM-Signature: v=1; a=rsa-sha256; c=relaxed/relaxed; d=1e100.net; s=20230601; t=1760626090; x=1761230890; h=references:in-reply-to:cc:to:from:subject:message-id:date :x-gm-message-state:from:to:cc:subject:date:message-id:reply-to; bh=OsHBBXyRZ9LXA+tKNmlR02T8TunIC5Vv3qYSqY+8ZKg=; b=CG/IKNJdJhaC9NaA4H4ZYjUmaUQDEdEIdyFgMbUhKT/P5jWZSSFw0iJdmLPez/u9Pl TM6kgiNEG2dJYYnwfmuAK9+Zix1jEmf4wK0OHmz9XnH/P7f1I5P5bsFebVD5D3w+m7H9 02Wn31qLxL26vh7coMg+nWhaiJWBpQ0UYejIM4hgWLSjJ7NxEeTEdVijoAJXfOrujmcB /IFCBGWKjiGaJQ/qm0AY23u25170/xhGRzomS7vJyoozBjNS+7KpT843krDaLs+65qcf 5PksUjI2LyW5t9SVgx418rDJA7rrxX7CWR1z/wtYBQjwMP25BAqM1EZQcNfwSnZjZeu5 DdSg== X-Gm-Message-State: AOJu0YxgsRWR9lyV0G+F0fI0XG7eO/SEw9bd8AwwehfL9kAsbbog2vBS jRhITdee/m3RqLCCMMmjBU5j14+3BIP9j9X6YJZmqaYobNNpQWAvBxk40CNl7WPggwS6XXOmcYY tnlss8YxrnOySTqgBLF8jqtyu14FllC8x1Uwt9ZrkiwiI X-Gm-Gg: ASbGncvkU9d6U8uqVn5GQREcAu/9j/VNHnOkBpXq+BpUJVs6aO+HSvb0GuoGSrPEjKc M63f6d4rKhsL3z5bUMj8l4a3reXApZaQ3rPNLJXLGbx3ViPdlQf6shenCUg9ePigHPB5cQMcEr4 bhPltOHrEIZnm/AO7wCp3YVIhjYa1KhRpmMhVg5/BeQCsoEcDI9P3EZ79rE3JzR9OseHQOOcWzk Fd+ywz2kai48Yp0X4TTt8nqgTFifKdrWzHAT3iPhCNGjSghLBjpPmN48QyRdWDGeBwEt9yTfJSf bvmCi6r4T7XGbht0moDVM1kW5kqPBCoQOhtXNfqj/urJYTrpnnMUUt3qmx+DZJfbzFdQEPjRA4F KC0VbWzmxyKbYc0mOBDjyZwVTnBKQQ7k= X-Google-Smtp-Source: AGHT+IEA8BK7/r2+u6vsXLoTyFFXlnTMk2UNGzf8YFkw/rd5I3V27HPvMWnh747O9P6QP3/mCt2gyb++FxMZ X-Received: by 2002:a05:6e02:3e06:b0:430:ad98:981b with SMTP id e9e14a558f8ab-430c520929emr5786355ab.5.1760626090426; Thu, 16 Oct 2025 07:48:10 -0700 (PDT) Received: from postal.iol.unh.edu (postal.iol.unh.edu. [132.177.123.84]) by smtp-relay.gmail.com with ESMTPS id e9e14a558f8ab-430bfbf4ff7sm1378585ab.34.2025.10.16.07.48.10 (version=TLS1_2 cipher=ECDHE-ECDSA-AES128-GCM-SHA256 bits=128/128); Thu, 16 Oct 2025 07:48:10 -0700 (PDT) X-Relaying-Domain: iol.unh.edu Date: Thu, 16 Oct 2025 07:48:10 -0700 (PDT) Message-ID: <68f105aa.050a0220.39a90c.602aSMTPIN_ADDED_MISSING@mx.google.com> Received: from [172.21.0.2] (unknown [172.18.0.240]) by postal.iol.unh.edu (Postfix) with ESMTP id E79ED6051830; Thu, 16 Oct 2025 10:48:09 -0400 (EDT) Subject: |SUCCESS| pw157756-157758 [PATCH] [v7,3/3] dts: update tx_offload te From: dpdklab@iol.unh.edu To: Test Report Cc: dpdk-test-reports@iol.unh.edu In-Reply-To: <20251016132421.12176-4-abailey@iol.unh.edu> References: <20251016132421.12176-4-abailey@iol.unh.edu> Content-Type: text/plain X-BeenThere: test-report@dpdk.org X-Mailman-Version: 2.1.29 Precedence: list List-Id: automatic DPDK test reports List-Unsubscribe: , List-Archive: List-Post: List-Help: List-Subscribe: , Errors-To: test-report-bounces@dpdk.org Test-Label: iol-unit-amd64-testing Test-Status: SUCCESS http://dpdk.org/patch/157758 _Testing PASS_ Submitter: Andrew Bailey Date: Thursday, October 16 2025 13:24:21 DPDK git baseline: Repo:dpdk-next-dts Branch: master CommitID:c1a9d3e5a721be9be66f0c4bfd9fa4d6e6af3b98 157756-157758 --> testing pass Upstream job id: Generic-VM-Unit-Test-DPDK#31853 Test environment and result as below: +-------------------------------+----------------+ | Environment | dpdk_unit_test | +===============================+================+ | Fedora Linux 40 | PASS | +-------------------------------+----------------+ | CentOS Stream 9 | PASS | +-------------------------------+----------------+ | Fedora Linux 41 | PASS | +-------------------------------+----------------+ | CentOS Stream 10 | PASS | +-------------------------------+----------------+ | Fedora Linux 42 | PASS | +-------------------------------+----------------+ | Debian GNU/Linux 12 | PASS | +-------------------------------+----------------+ | Red Hat Enterprise Linux 9.5 | PASS | +-------------------------------+----------------+ | Red Hat Enterprise Linux 8.10 | PASS | +-------------------------------+----------------+ | Ubuntu 20.04 | PASS | +-------------------------------+----------------+ | Ubuntu 22.04 | PASS | +-------------------------------+----------------+ | Ubuntu 24.04 | PASS | +-------------------------------+----------------+ | Windows Server 2022 | PASS | +-------------------------------+----------------+ Fedora Linux 40 Kernel: 5.15 Compiler: gcc gcc (GCC) 14.2.1 20240912 (Red Hat 14.2.1-3) CentOS Stream 9 Kernel: 5.15 Compiler: gcc gcc (GCC) 11.5.0 20240719 (Red Hat 11.5.0-11) Fedora Linux 41 Kernel: 5.15 Compiler: clang gcc (GCC) 14.3.1 20250523 (Red Hat 14.3.1-1) CentOS Stream 10 Kernel: 5.15 Compiler: gcc gcc (GCC) 14.2.1 20250110 (Red Hat 14.2.1-8) Fedora Linux 42 Kernel: 5.15 Compiler: gcc gcc (GCC) 15.2.1 20250808 (Red Hat 15.2.1-1) Debian GNU/Linux 12 Kernel: 5.15 Compiler: gcc gcc (Debian 12.2.0-14+deb12u1) 12.2.0 Red Hat Enterprise Linux 9.5 Kernel: 5.15 Compiler: gcc gcc (GCC) 11.5.0 20240719 (Red Hat 11.5.0-2) Red Hat Enterprise Linux 8.10 Kernel: 5.15 Compiler: gcc gcc (GCC) 8.5.0 20210514 (Red Hat 8.5.0-22) Ubuntu 20.04 Kernel: 5.15 Compiler: gcc gcc (Ubuntu 9.4.0-1ubuntu1~20.04.2) 9.4.0 Ubuntu 22.04 Kernel: 5.15 Compiler: gcc gcc (Ubuntu 11.4.0-1ubuntu1~22.04) 11.4.0 Ubuntu 24.04 Kernel: 5.15 Compiler: gcc gcc (Ubuntu 13.3.0-6ubuntu2~24.04) 13.3.0 Windows Server 2022 Kernel: 10.0.20348.2031 Compiler: clang 15.0.7, gcc 14.1.0 (MinGW), and MSVC VS 19.39.33521 To view detailed results, visit: https://lab.dpdk.org/results/dashboard/patchsets/34301/ UNH-IOL DPDK Community Lab To manage your email subscriptions, visit: https://lab.dpdk.org/results/dashboard/preferences/subscriptions/