automatic DPDK test reports
 help / color / mirror / Atom feed
From: dpdklab@iol.unh.edu
To: Test Report <test-report@dpdk.org>
Cc: dpdk-test-reports@iol.unh.edu,
	Stephen Hemminger <stephen@networkplumber.org>
Subject: |SUCCESS| pw157735-157754 [PATCH] [v5,21/21] doc: update release not
Date: Thu, 16 Oct 2025 07:48:52 -0700 (PDT)	[thread overview]
Message-ID: <68f105d4.050a0220.d6ed2.0b78SMTPIN_ADDED_MISSING@mx.google.com> (raw)
In-Reply-To: <20251016111736.25372-22-zaiyuwang@trustnetic.com>

Test-Label: iol-compile-amd64-testing
Test-Status: SUCCESS
http://dpdk.org/patch/157754

_Testing PASS_

Submitter: Zaiyu Wang <zaiyuwang@trustnetic.com>
Date: Thursday, October 16 2025 11:17:35 
DPDK git baseline: Repo:dpdk-next-net
  Branch: master
  CommitID:791cea04798a8e2de014b99c009cd25b5929000a

157735-157754 --> testing pass

Upstream job id: Windows-Compile-DPDK-Native#31678

Test environment and result as below:

+---------------------+--------------------+-------------------+-------------------------+----------------------+
|     Environment     | dpdk_meson_compile | dpdk_msvc_compile | dpdk_llvm_clang_compile | dpdk_mingw64_compile |
+=====================+====================+===================+=========================+======================+
| Ubuntu 20.04        | PASS               | SKIPPED           | SKIPPED                 | SKIPPED              |
+---------------------+--------------------+-------------------+-------------------------+----------------------+
| FreeBSD 14.2        | PASS               | SKIPPED           | SKIPPED                 | SKIPPED              |
+---------------------+--------------------+-------------------+-------------------------+----------------------+
| Windows Server 2022 | SKIPPED            | PASS              | PASS                    | PASS                 |
+---------------------+--------------------+-------------------+-------------------------+----------------------+


Ubuntu 20.04
	Kernel: 4.19
	Compiler: gcc gcc (Ubuntu 9.4.0-1ubuntu1~20.04.2) 9.4.0

FreeBSD 14.2
	Kernel: 14.2-RELEASE
	Compiler: clang 18.1.6

Windows Server 2022
	Kernel: 10.0.20348.2031
	Compiler: clang 15.0.7, gcc 14.1.0 (MinGW), and MSVC VS 19.39.33521

To view detailed results, visit:
https://lab.dpdk.org/results/dashboard/patchsets/34299/

UNH-IOL DPDK Community Lab

To manage your email subscriptions, visit: 
https://lab.dpdk.org/results/dashboard/preferences/subscriptions/

  parent reply	other threads:[~2025-10-16 14:48 UTC|newest]

Thread overview: 28+ messages / expand[flat|nested]  mbox.gz  Atom feed  top
     [not found] <20251016111736.25372-22-zaiyuwang@trustnetic.com>
2025-10-16 10:48 ` |SUCCESS| pw157735-157754 [PATCH v5 21/21] doc: update release notes for Wangxun txgbe driver qemudev
2025-10-16 10:53 ` qemudev
2025-10-16 11:21 ` |SUCCESS| pw157754 " checkpatch
2025-10-16 11:52 ` |PENDING| pw157735-157754 [PATCH] [v5,21/21] doc: update release not dpdklab
2025-10-16 11:56 ` |SUCCESS| " dpdklab
2025-10-16 11:57 ` dpdklab
2025-10-16 11:58 ` |PENDING| " dpdklab
2025-10-16 12:00 ` |SUCCESS| " dpdklab
2025-10-16 12:04 ` |PENDING| " dpdklab
2025-10-16 12:15 ` |SUCCESS| " dpdklab
2025-10-16 12:16 ` |PENDING| " dpdklab
2025-10-16 12:26 ` |SUCCESS| pw157754 [PATCH v5 21/21] doc: update release notes for Wangxun txgbe driver 0-day Robot
2025-10-16 12:26 ` 0-day Robot
2025-10-16 12:29 ` |SUCCESS| pw157735-157754 [PATCH] [v5,21/21] doc: update release not dpdklab
2025-10-16 12:34 ` dpdklab
2025-10-16 12:45 ` dpdklab
2025-10-16 12:59 ` dpdklab
2025-10-16 13:01 ` dpdklab
2025-10-16 13:07 ` dpdklab
2025-10-16 13:13 ` dpdklab
2025-10-16 13:18 ` dpdklab
2025-10-16 13:29 ` dpdklab
2025-10-16 14:47 ` dpdklab
2025-10-16 14:48 ` dpdklab [this message]
2025-10-16 18:53 ` dpdklab
2025-10-16 19:10 ` dpdklab
2025-10-16 22:14 ` |PENDING| " dpdklab
2025-10-17  0:26 ` |WARNING| " dpdklab

Reply instructions:

You may reply publicly to this message via plain-text email
using any one of the following methods:

* Save the following mbox file, import it into your mail client,
  and reply-to-all from there: mbox

  Avoid top-posting and favor interleaved quoting:
  https://en.wikipedia.org/wiki/Posting_style#Interleaved_style

* Reply using the --to, --cc, and --in-reply-to
  switches of git-send-email(1):

  git send-email \
    --in-reply-to=68f105d4.050a0220.d6ed2.0b78SMTPIN_ADDED_MISSING@mx.google.com \
    --to=dpdklab@iol.unh.edu \
    --cc=dpdk-test-reports@iol.unh.edu \
    --cc=stephen@networkplumber.org \
    --cc=test-report@dpdk.org \
    /path/to/YOUR_REPLY

  https://kernel.org/pub/software/scm/git/docs/git-send-email.html

* If your mail client supports setting the In-Reply-To header
  via mailto: links, try the mailto: link
Be sure your reply has a Subject: header at the top and a blank line before the message body.
This is a public inbox, see mirroring instructions
for how to clone and mirror all data and code used for this inbox;
as well as URLs for NNTP newsgroup(s).