From mboxrd@z Thu Jan 1 00:00:00 1970 Return-Path: Received: from mails.dpdk.org (mails.dpdk.org [217.70.189.124]) by inbox.dpdk.org (Postfix) with ESMTP id B710A48954 for ; Thu, 16 Oct 2025 16:48:55 +0200 (CEST) Received: from mails.dpdk.org (localhost [127.0.0.1]) by mails.dpdk.org (Postfix) with ESMTP id AB1AA4026D; Thu, 16 Oct 2025 16:48:55 +0200 (CEST) Received: from mail-pf1-f225.google.com (mail-pf1-f225.google.com [209.85.210.225]) by mails.dpdk.org (Postfix) with ESMTP id B847B42791 for ; Thu, 16 Oct 2025 16:48:53 +0200 (CEST) Received: by mail-pf1-f225.google.com with SMTP id d2e1a72fcca58-781010ff051so679557b3a.0 for ; Thu, 16 Oct 2025 07:48:53 -0700 (PDT) DKIM-Signature: v=1; a=rsa-sha256; c=relaxed/relaxed; d=iol.unh.edu; s=unh-iol; t=1760626133; x=1761230933; darn=dpdk.org; h=references:in-reply-to:cc:to:from:subject:message-id:date:from:to :cc:subject:date:message-id:reply-to; bh=wk14k4jU7aDH4rwZbZEU/EuX5TrevgMOFnzPX/MPeQs=; b=MQ5fqx1pt4CTaVpGe9zKcv+2VmwDbxmL1gB+AEMbZTSsmFWayTJA2+eNb5f6zDPNfH VFi4Pa4OY5xBDIDVFUbMuH1Wfx3vjPPhwthJckj8SEha64JV11LW6f41MgE7z6v0bcEc zQyESCfeWaXiLypp/OIJvBhZRVp0thi8ZNPxA= X-Google-DKIM-Signature: v=1; a=rsa-sha256; c=relaxed/relaxed; d=1e100.net; s=20230601; t=1760626133; x=1761230933; h=references:in-reply-to:cc:to:from:subject:message-id:date :x-gm-message-state:from:to:cc:subject:date:message-id:reply-to; bh=wk14k4jU7aDH4rwZbZEU/EuX5TrevgMOFnzPX/MPeQs=; b=tPK26JxxXnal+c59r6uSo0E95xUSX3boh6QrNtmnb7tnSwCQ6vpSszgfe7qVk2ARs9 sOYYSFuoHJte/O0Zhq60IcUEiax/IYxL9nks937cJGaoL7hx33ms4QW7j7S1jF1roLGu Wb9F/DdDkW8LbYLFis3SHbbj4dNhy0f4ZNF4sD63ghxOx0D7KMK3v5/9Uv5gZvQUS44x zkQSSTuEfbn1NJszoJPkZ2rVrI1NJBnduAw1ZuYdvYM32741nobRjsxh7qXfrpLzcB6L mxvaemvDynpjtSUZTtfiXlpfCF19XsmB0dcDOT3qe62denfIDatIqEMiOUGOmPNOMYZp 95eQ== X-Gm-Message-State: AOJu0Yyb6J9waGUTAh4ki6E+3tX0tdoh885fBXrgBlMVsK+gKCxdGR0W 2x2rBkP/pXbnh7yLjwIHtVwRI1MuHAwVQkaf4Ufp2EYU8O6oGBx2QBCc+UJlRY2X7lJmjE9dBYF 8UmDy1j3PSvwg/rhPa2rHMoRtanb6OSeLaU8AnxgmfiQW X-Gm-Gg: ASbGncujY91dLUpIqGvHT9hfQ0aE7IdAJ/Syxq25iJ2o39AaW43DobzSFROXeIUjhst XzIF8OYr7LnprBiMXsdnorjwZnYRqLKUvupgNPcah1kwHbtOAaI27rQw5WglBg/8zrn34sM3P+6 2wWxZMWivWn/+UHUd7SIeth2viywjynoiUZVx+MoRhRt2TgHipGZf4fBwrW7XQMUNOFk0Z7e7aN 59w1oodqLoM5bZb2vSLUDbiDPM+z1IkYBR732TWsjNWEORTLvBiUUA7QJGcnIAovr5375rBriT0 4mqd1dLeibdKNwyo7/5gVHuXj/DASF/Dm5J6qAbPJyaJVFTvDvzCem5dnfnNZc/5fQziRSir23s qSV0eXiJS0AoKlrL6Ia38gIKEl7Qlcjc= X-Google-Smtp-Source: AGHT+IGTU1PzgY8a2X+5RHpG9H0LCuhQwuGm6sU8rzWJ6UMxXs1vBy2XW0qfizemutJkLv+JxlJyRNLKQFX6 X-Received: by 2002:a05:6a21:3086:b0:2c5:d3c6:6a59 with SMTP id adf61e73a8af0-334a86077e6mr245816637.29.1760626132800; Thu, 16 Oct 2025 07:48:52 -0700 (PDT) Received: from postal.iol.unh.edu (postal.iol.unh.edu. [132.177.123.84]) by smtp-relay.gmail.com with ESMTPS id 41be03b00d2f7-b6a36a36c45sm14706a12.5.2025.10.16.07.48.52 (version=TLS1_2 cipher=ECDHE-ECDSA-AES128-GCM-SHA256 bits=128/128); Thu, 16 Oct 2025 07:48:52 -0700 (PDT) X-Relaying-Domain: iol.unh.edu Date: Thu, 16 Oct 2025 07:48:52 -0700 (PDT) Message-ID: <68f105d4.050a0220.d6ed2.0b78SMTPIN_ADDED_MISSING@mx.google.com> Received: from [172.21.0.2] (unknown [172.18.0.240]) by postal.iol.unh.edu (Postfix) with ESMTP id 1B0C96051830; Thu, 16 Oct 2025 10:48:52 -0400 (EDT) Subject: |SUCCESS| pw157735-157754 [PATCH] [v5,21/21] doc: update release not From: dpdklab@iol.unh.edu To: Test Report Cc: dpdk-test-reports@iol.unh.edu, Stephen Hemminger In-Reply-To: <20251016111736.25372-22-zaiyuwang@trustnetic.com> References: <20251016111736.25372-22-zaiyuwang@trustnetic.com> Content-Type: text/plain X-BeenThere: test-report@dpdk.org X-Mailman-Version: 2.1.29 Precedence: list List-Id: automatic DPDK test reports List-Unsubscribe: , List-Archive: List-Post: List-Help: List-Subscribe: , Errors-To: test-report-bounces@dpdk.org Test-Label: iol-compile-amd64-testing Test-Status: SUCCESS http://dpdk.org/patch/157754 _Testing PASS_ Submitter: Zaiyu Wang Date: Thursday, October 16 2025 11:17:35 DPDK git baseline: Repo:dpdk-next-net Branch: master CommitID:791cea04798a8e2de014b99c009cd25b5929000a 157735-157754 --> testing pass Upstream job id: Windows-Compile-DPDK-Native#31678 Test environment and result as below: +---------------------+--------------------+-------------------+-------------------------+----------------------+ | Environment | dpdk_meson_compile | dpdk_msvc_compile | dpdk_llvm_clang_compile | dpdk_mingw64_compile | +=====================+====================+===================+=========================+======================+ | Ubuntu 20.04 | PASS | SKIPPED | SKIPPED | SKIPPED | +---------------------+--------------------+-------------------+-------------------------+----------------------+ | FreeBSD 14.2 | PASS | SKIPPED | SKIPPED | SKIPPED | +---------------------+--------------------+-------------------+-------------------------+----------------------+ | Windows Server 2022 | SKIPPED | PASS | PASS | PASS | +---------------------+--------------------+-------------------+-------------------------+----------------------+ Ubuntu 20.04 Kernel: 4.19 Compiler: gcc gcc (Ubuntu 9.4.0-1ubuntu1~20.04.2) 9.4.0 FreeBSD 14.2 Kernel: 14.2-RELEASE Compiler: clang 18.1.6 Windows Server 2022 Kernel: 10.0.20348.2031 Compiler: clang 15.0.7, gcc 14.1.0 (MinGW), and MSVC VS 19.39.33521 To view detailed results, visit: https://lab.dpdk.org/results/dashboard/patchsets/34299/ UNH-IOL DPDK Community Lab To manage your email subscriptions, visit: https://lab.dpdk.org/results/dashboard/preferences/subscriptions/