From mboxrd@z Thu Jan 1 00:00:00 1970 Return-Path: Received: from mails.dpdk.org (mails.dpdk.org [217.70.189.124]) by inbox.dpdk.org (Postfix) with ESMTP id 408E848954 for ; Thu, 16 Oct 2025 16:53:48 +0200 (CEST) Received: from mails.dpdk.org (localhost [127.0.0.1]) by mails.dpdk.org (Postfix) with ESMTP id 1CDAB4026D; Thu, 16 Oct 2025 16:53:48 +0200 (CEST) Received: from mail-il1-f228.google.com (mail-il1-f228.google.com [209.85.166.228]) by mails.dpdk.org (Postfix) with ESMTP id 3B1DB4026D for ; Thu, 16 Oct 2025 16:53:46 +0200 (CEST) Received: by mail-il1-f228.google.com with SMTP id e9e14a558f8ab-430c17e29d9so2217175ab.1 for ; Thu, 16 Oct 2025 07:53:46 -0700 (PDT) DKIM-Signature: v=1; a=rsa-sha256; c=relaxed/relaxed; d=iol.unh.edu; s=unh-iol; t=1760626425; x=1761231225; darn=dpdk.org; h=references:in-reply-to:cc:to:from:subject:message-id:date:from:to :cc:subject:date:message-id:reply-to; bh=GyuUKq5ubcB7zaOkwUlmsdaHj+GmSohd1CSLENdGn7A=; b=EeRwIC2sQRqNoayka048oTeIl8UVFiF/EXon4egzYhP/ebkdtA30wNZMwM8ATgmtTU nJk09+mLKM+OBKm7J4QCp2ylCiiw6zOvTJO7pDeKho5QLSnpnfc+hr0gSo9SFlKvdPbc 60PalU/pMn+lM0jtUzgmAaTaBDAqnrIQ9zyCc= X-Google-DKIM-Signature: v=1; a=rsa-sha256; c=relaxed/relaxed; d=1e100.net; s=20230601; t=1760626425; x=1761231225; h=references:in-reply-to:cc:to:from:subject:message-id:date :x-gm-message-state:from:to:cc:subject:date:message-id:reply-to; bh=GyuUKq5ubcB7zaOkwUlmsdaHj+GmSohd1CSLENdGn7A=; b=rehj3RIeIOzl1A0VkUb618zutmCvnf/LuCj04Zcae/aGoIwLKtijCLwN03okOicFYP DeiqZOpYiPmQut2qNXCrdIcrJevxOjhhaEwMF1LplfK2R2amGIzDSj2ZKlJcBZI5zD+c mzjgVZdJ5erLyHxlCFG0E9OUuQJ+yM0AAo15UdBUypNlaigJc3bgdqPH+rXQG/kXrlZV 82MhUSPsjTVJLvnpiIzl+g68qMTvhR9nbWYbNnGnXOB73Vx+2ejbUj5MYQDvGohQ0QNu EzKtdbo/uw/YhicaYaI/aXS16fwUWriXqTpO/LW+SsMnkmRIiLX/FSmDH/MaTlG9imAi K/6g== X-Gm-Message-State: AOJu0YwYpa9x8KifPFFluwqEJSs+dtFsSsb3flOazI1HB6LjRfUpozxU HtqzykneQSnW2AHVt7kYKm27jpU9gSqTupAiOrwYiUy5QT51HwRTdIh09gdcfMyveXEfdi4S25F n2A0XwwB9uxFX6ZWlaZA06X2G56U3yBB6pF+4aKp0qRuQpUzCDDX6584YLrF+ X-Gm-Gg: ASbGnctttqOTsz7aCxzToVBxduZ0zQfCJNlVpCtyuLAiZuye6nXmlXOndzILByg/65d EhCysfNn3CX8NcnVSE95+lMRTuUarXsN63rdihN+6hj5bPXNSKbfdL/XEgzMpYqyUcRvyBL/r6j dHfTKOAySlYjT3rwbF698AckAEQWFRhCTWEqiceKjegPUUJQutwNWyJ1w+h0IGwGK7pYOcrifAj nUX6Vz30eLTVkC25wsjKCbOloqO9yrbAodjLDgiP3FOlYIUHXqj+YP2gb3QRkkBtye8Zxyxjx6i 85fTJ5eoI2V3q1chHed3wuKeGYV8E7ySKKgKS/yxghSQtQe83/fjyoQXq0s2I0AxNjSUUAvX6Hm 2rL8aR5Mz X-Google-Smtp-Source: AGHT+IG0b/BofzvXQl+qm5oP63yBwij2pHEc2lxo4DVakb0n0vmQq6Rfkshgu96tMyyelRh4+dnR0XgKH5c7 X-Received: by 2002:a05:6e02:2301:b0:42e:6e45:e0a3 with SMTP id e9e14a558f8ab-430c524a39fmr8225295ab.2.1760626425497; Thu, 16 Oct 2025 07:53:45 -0700 (PDT) Received: from postal.iol.unh.edu (postal.iol.unh.edu. [2606:4100:3880:1234::84]) by smtp-relay.gmail.com with ESMTPS id 8926c6da1cb9f-58f726e3a8dsm1609163173.45.2025.10.16.07.53.45 (version=TLS1_2 cipher=ECDHE-ECDSA-AES128-GCM-SHA256 bits=128/128); Thu, 16 Oct 2025 07:53:45 -0700 (PDT) X-Relaying-Domain: iol.unh.edu Date: Thu, 16 Oct 2025 07:53:45 -0700 (PDT) Message-ID: <68f106f9.050a0220.53453.fdf4SMTPIN_ADDED_MISSING@mx.google.com> Received: from [172.21.0.3] (unknown [172.18.0.240]) by postal.iol.unh.edu (Postfix) with ESMTP id 1954B6051830; Thu, 16 Oct 2025 10:53:45 -0400 (EDT) Subject: |SUCCESS| pw157755 [PATCH] net/iavf: ensure no polling during VF ini From: dpdklab@iol.unh.edu To: Test Report Cc: dpdk-test-reports@iol.unh.edu, Bruce Richardson In-Reply-To: <20251016113224.1652880-1-ciara.loftus@intel.com> References: <20251016113224.1652880-1-ciara.loftus@intel.com> Content-Type: text/plain X-BeenThere: test-report@dpdk.org X-Mailman-Version: 2.1.29 Precedence: list List-Id: automatic DPDK test reports List-Unsubscribe: , List-Archive: List-Post: List-Help: List-Subscribe: , Errors-To: test-report-bounces@dpdk.org Test-Label: iol-compile-amd64-testing Test-Status: SUCCESS http://dpdk.org/patch/157755 _Testing PASS_ Submitter: Ciara Loftus Date: Thursday, October 16 2025 11:32:24 DPDK git baseline: Repo:dpdk-next-net-intel Branch: master CommitID:4b71a661aa14d6e2491a612a4347495c9e06eb0e 157755 --> testing pass Upstream job id: Windows-Compile-DPDK-Native#31679 Test environment and result as below: +---------------------+--------------------+-------------------+-------------------------+ | Environment | dpdk_meson_compile | dpdk_msvc_compile | dpdk_llvm_clang_compile | +=====================+====================+===================+=========================+ | Ubuntu 20.04 | PASS | SKIPPED | SKIPPED | +---------------------+--------------------+-------------------+-------------------------+ | FreeBSD 14.2 | PASS | SKIPPED | SKIPPED | +---------------------+--------------------+-------------------+-------------------------+ | Windows Server 2022 | SKIPPED | PASS | PASS | +---------------------+--------------------+-------------------+-------------------------+ Ubuntu 20.04 Kernel: 4.19 Compiler: gcc gcc (Ubuntu 9.4.0-1ubuntu1~20.04.2) 9.4.0 FreeBSD 14.2 Kernel: 14.2-RELEASE Compiler: clang 18.1.6 Windows Server 2022 Kernel: 10.0.20348.2031 Compiler: clang 15.0.7, gcc 14.1.0 (MinGW), and MSVC VS 19.39.33521 To view detailed results, visit: https://lab.dpdk.org/results/dashboard/patchsets/34300/ UNH-IOL DPDK Community Lab To manage your email subscriptions, visit: https://lab.dpdk.org/results/dashboard/preferences/subscriptions/