From mboxrd@z Thu Jan 1 00:00:00 1970 Return-Path: Received: from mails.dpdk.org (mails.dpdk.org [217.70.189.124]) by inbox.dpdk.org (Postfix) with ESMTP id 8A42248954 for ; Thu, 16 Oct 2025 16:56:41 +0200 (CEST) Received: from mails.dpdk.org (localhost [127.0.0.1]) by mails.dpdk.org (Postfix) with ESMTP id 5F8A44026D; Thu, 16 Oct 2025 16:56:41 +0200 (CEST) Received: from mail-vs1-f100.google.com (mail-vs1-f100.google.com [209.85.217.100]) by mails.dpdk.org (Postfix) with ESMTP id 97CB74026D for ; Thu, 16 Oct 2025 16:56:39 +0200 (CEST) Received: by mail-vs1-f100.google.com with SMTP id ada2fe7eead31-5b59694136bso370289137.0 for ; Thu, 16 Oct 2025 07:56:39 -0700 (PDT) DKIM-Signature: v=1; a=rsa-sha256; c=relaxed/relaxed; d=iol.unh.edu; s=unh-iol; t=1760626599; x=1761231399; darn=dpdk.org; h=references:in-reply-to:cc:to:from:subject:message-id:date:from:to :cc:subject:date:message-id:reply-to; bh=kBb3h7NOtp79b7NlFbGlwj84qOB59JoYY5Xi/yInmUA=; b=PqaXaCiYLsbfaEizcqMwvxBKOo5hUqkYJX828g5oRWX7OorxMJQc1VfBSFh30V0dtV 3AR32lsbRRx+G1yje5JtVRwlqZpThZECr1AggY6qbGQNyF0krD3Djyhff+GJIHTujoqB N1s7HKKB8eb3+3jpn5CeSDekXjJTy5kkiAIws= X-Google-DKIM-Signature: v=1; a=rsa-sha256; c=relaxed/relaxed; d=1e100.net; s=20230601; t=1760626599; x=1761231399; h=references:in-reply-to:cc:to:from:subject:message-id:date :x-gm-message-state:from:to:cc:subject:date:message-id:reply-to; bh=kBb3h7NOtp79b7NlFbGlwj84qOB59JoYY5Xi/yInmUA=; b=BSIVQvK5JZUy7nfTOgT4WSCXau0MHSSAi9zyBtFkD9x487lipu4p/b2FDRP1yb597P X4FlfpA+cZxbce0p7A/MuBrr+dg02QC1DBqX0CRY7Ody09R1MDkOQftS/HN8P2g2hrIg 3DqxnqF6I4LfUE0Nyvk46TcIr4dmGVqzMcKI4OoV9FZfr1mARks3Likik4JjSEGVo/gK vgEf/Ig06IyOEBjxGkZgXaZ6lZzPWt64A8c55mykiKE4alF37JrsXj+oebPIssAW4UXN ZF0Rd7ciTpVXbed8J6HuwZWVs8ZB8sJltFBmD8PzPwXTgX4cHWaGftkVJAuPTxeqTKci +92w== X-Gm-Message-State: AOJu0Yx07CzGw5kvwxQRVsXlql7qzM1vlts+XZ75Qj11HdA5LudMT96D 8dhXaQ1AWg4Ud4b8p+vsndnbjx15ZwcskoPQKtH8iVfPo9wCzorxAzYQMK1kbcZX1c+FQKYzjnT oZk93e6OdQMc0/YQwyss1JlZ0quQIPOt1Ib6G3d1Ay08oYDJPuK0TmTHrwcO4 X-Gm-Gg: ASbGncukr8jd8UR1DHTtQ+3rWSGh9pvNQiWa2dQsccaWTnVereTffpW33O6RFchUkaS 3x/uqZaHqmCsjKQeSQkJ6U9jpqRjCfqpuCjUgm0w0/Adqf6i9U6UNvAni7Mr/DgF8KhfE8y8JlI oc1rsXI7T19DcWWhqZhFUdXuN2w/3NfF9JvdnSriZfv9Xkl1rggnI9XHZboy41CdpXGeDrcvFOz 2PNKlYrBiWcegTyiU5EsbzuNLwFME3sAvytNenQ7imTdoYpAyQs0cPOTMlRB+FVfVbP5eNO9Udx z90Fa3o8GiPF0erjzVmzyD2A8+8/f8vTRUpct0vAI531rdraqMJzWJUdEQH/c+ekXP8tXm+pECe 4zsoHfbDe X-Google-Smtp-Source: AGHT+IGFfdevFn+3u4GXW29+LtzamElX1G87c5lEXY2pHW5kq5DgqvmQLp+JOsOS3LtPfOLHZokzWTL+dsZ4 X-Received: by 2002:a05:6102:3f46:b0:5d6:731:fbc0 with SMTP id ada2fe7eead31-5d7dd5ecfd8mr341036137.36.1760626598865; Thu, 16 Oct 2025 07:56:38 -0700 (PDT) Received: from postal.iol.unh.edu (postal.iol.unh.edu. [2606:4100:3880:1234::84]) by smtp-relay.gmail.com with ESMTPS id a1e0cc1a2514c-930bf7bbc2bsm261514241.8.2025.10.16.07.56.38 (version=TLS1_2 cipher=ECDHE-ECDSA-AES128-GCM-SHA256 bits=128/128); Thu, 16 Oct 2025 07:56:38 -0700 (PDT) X-Relaying-Domain: iol.unh.edu Date: Thu, 16 Oct 2025 07:56:38 -0700 (PDT) Message-ID: <68f107a6.050a0220.371745.c525SMTPIN_ADDED_MISSING@mx.google.com> Received: from [172.21.0.2] (unknown [172.18.0.240]) by postal.iol.unh.edu (Postfix) with ESMTP id 8236B6051830; Thu, 16 Oct 2025 10:56:38 -0400 (EDT) Subject: |SUCCESS| pw157755 [PATCH] net/iavf: ensure no polling during VF ini From: dpdklab@iol.unh.edu To: Test Report Cc: dpdk-test-reports@iol.unh.edu, Bruce Richardson In-Reply-To: <20251016113224.1652880-1-ciara.loftus@intel.com> References: <20251016113224.1652880-1-ciara.loftus@intel.com> Content-Type: text/plain X-BeenThere: test-report@dpdk.org X-Mailman-Version: 2.1.29 Precedence: list List-Id: automatic DPDK test reports List-Unsubscribe: , List-Archive: List-Post: List-Help: List-Subscribe: , Errors-To: test-report-bounces@dpdk.org Test-Label: iol-compile-amd64-testing Test-Status: SUCCESS http://dpdk.org/patch/157755 _Testing PASS_ Submitter: Ciara Loftus Date: Thursday, October 16 2025 11:32:24 DPDK git baseline: Repo:dpdk-next-net-intel Branch: master CommitID:4b71a661aa14d6e2491a612a4347495c9e06eb0e 157755 --> testing pass Upstream job id: Windows-Compile-DPDK-Native#31680 Test environment and result as below: +---------------------+--------------------+-------------------+-------------------------+----------------------+ | Environment | dpdk_meson_compile | dpdk_msvc_compile | dpdk_llvm_clang_compile | dpdk_mingw64_compile | +=====================+====================+===================+=========================+======================+ | Ubuntu 20.04 | PASS | SKIPPED | SKIPPED | SKIPPED | +---------------------+--------------------+-------------------+-------------------------+----------------------+ | FreeBSD 14.2 | PASS | SKIPPED | SKIPPED | SKIPPED | +---------------------+--------------------+-------------------+-------------------------+----------------------+ | Windows Server 2022 | SKIPPED | PASS | PASS | PASS | +---------------------+--------------------+-------------------+-------------------------+----------------------+ Ubuntu 20.04 Kernel: 4.19 Compiler: gcc gcc (Ubuntu 9.4.0-1ubuntu1~20.04.2) 9.4.0 FreeBSD 14.2 Kernel: 14.2-RELEASE Compiler: clang 18.1.6 Windows Server 2022 Kernel: 10.0.20348.2031 Compiler: clang 15.0.7, gcc 14.1.0 (MinGW), and MSVC VS 19.39.33521 To view detailed results, visit: https://lab.dpdk.org/results/dashboard/patchsets/34300/ UNH-IOL DPDK Community Lab To manage your email subscriptions, visit: https://lab.dpdk.org/results/dashboard/preferences/subscriptions/