From mboxrd@z Thu Jan 1 00:00:00 1970 Return-Path: Received: from mails.dpdk.org (mails.dpdk.org [217.70.189.124]) by inbox.dpdk.org (Postfix) with ESMTP id CD46F48954 for ; Thu, 16 Oct 2025 17:00:45 +0200 (CEST) Received: from mails.dpdk.org (localhost [127.0.0.1]) by mails.dpdk.org (Postfix) with ESMTP id C664D4026D; Thu, 16 Oct 2025 17:00:45 +0200 (CEST) Received: from mail-qk1-f226.google.com (mail-qk1-f226.google.com [209.85.222.226]) by mails.dpdk.org (Postfix) with ESMTP id 688714026D for ; Thu, 16 Oct 2025 17:00:44 +0200 (CEST) Received: by mail-qk1-f226.google.com with SMTP id af79cd13be357-88f79ae58f0so144634585a.2 for ; Thu, 16 Oct 2025 08:00:44 -0700 (PDT) DKIM-Signature: v=1; a=rsa-sha256; c=relaxed/relaxed; d=iol.unh.edu; s=unh-iol; t=1760626844; x=1761231644; darn=dpdk.org; h=references:in-reply-to:cc:to:from:subject:message-id:date:from:to :cc:subject:date:message-id:reply-to; bh=vyHWtcCq1x/QvvrHvHnPqd0iZ4JMvGgfnxYKZltsj0Q=; b=ffsrSq1tpp57ZTqh5nbcM9z68ZBUmRa5f4hFWVu2xUyCC0xx9zrSzobbAoLb9oLs7i eWCF44zjt9Kbzj/yW1Fl+YpltNUXO8TwQKAst/dN/84qZnKXF/wIul9cKaSma15dtLw+ 9jZ3LDfqD/bE4Ejg5TuGKB9yGk1Gwwp0n8GzQ= X-Google-DKIM-Signature: v=1; a=rsa-sha256; c=relaxed/relaxed; d=1e100.net; s=20230601; t=1760626844; x=1761231644; h=references:in-reply-to:cc:to:from:subject:message-id:date :x-gm-message-state:from:to:cc:subject:date:message-id:reply-to; bh=vyHWtcCq1x/QvvrHvHnPqd0iZ4JMvGgfnxYKZltsj0Q=; b=dhsN06MaVrTxGOtVXPSAQlR8N/d4nWT83IoW1vQhfPOxxu73NE1XxK4h2TydU9YS+n RtuSGlQKfyg8HxehRCl4+1RgBBHP3NOQUcwxcfDFkunk11tqOLusx93PMcoJuMAHL2Ga 6yQdNtZ7ShtyLEt5RWBNzu3i9uSo9WEVaoKvpg7p595qpnjgK0PJ8gxd3XaIKYB3mn82 b9TBKWcC6tF5zL/06cxdcRYEf9AcOdfDc2Dk9P/0++Ly8oVslD/HvtDFATsSkshDEklI 8gMwwDFO8+KVagbqPV3jOZKNvKQOl+kzo6+6/xQ+uJHFg3lWEk5WAwTdDh2ZIwaoH7IR QXOg== X-Gm-Message-State: AOJu0Yyk1tlWygOWhbyB+AhqDwHQtyP/YMgFRVdvoohAC0YOuUl2lot8 9pwqHhHNKQTnoZDySQpzR7XFLc0SNQwjRKXzXQwcx/Ndq+WPrGcKepmecnkhYyGrOhcke3eaLZJ SeCbkov3Y2crgN5IfL/N8Ra5G23XMmtSGZjJ55MSBUIqq X-Gm-Gg: ASbGncuIDKRWtNJXI7rhlG6twx9p6hPqkd+EvkqbrVzXadM+WYgmtY6QP6Llh9H/K32 cCaSP50f28P62oUeBLepm14F+TqdZfHBz826iNmCld02XIZIYsZ4KtlX2DBSX+UYsBmgJ8KHJ9e Os/6nYaL+TPvquE2a8kjt28BAYjFsvRE7h05F9/jqxb5iCRAE2IL42mMUffVZbFxHvRVuYiMqRA 1Pe5Sbo/MItjEh1awpNJL6c1dbb5CAqxe1DAZV9M+7G0SOOUSo7IbTdqKCzwffYeLr11A6GtZbu eRFU+rTeaAAtZEUCAPGnZrwT/Kc912B3b4xIKY6KrtCpDa0AIYj8ExYKOeBrtmAimMgfmoDt36O tLlRr4ccgpbZ5PbiQM2HNlG8n2EE+B+Q= X-Google-Smtp-Source: AGHT+IFTveDCwkVIApp++/TJU1ekhZ3TKIXYaA00pEsBn3VEkJesJOci4EKI3mADF5h+K2W6eNWtflHz1qny X-Received: by 2002:ac8:5a88:0:b0:4b2:fdda:f7be with SMTP id d75a77b69052e-4e89d263e09mr5972171cf.3.1760626841990; Thu, 16 Oct 2025 08:00:41 -0700 (PDT) Received: from postal.iol.unh.edu (postal.iol.unh.edu. [132.177.123.84]) by smtp-relay.gmail.com with ESMTPS id 6a1803df08f44-87c0129f9ddsm5248986d6.29.2025.10.16.08.00.41 (version=TLS1_2 cipher=ECDHE-ECDSA-AES128-GCM-SHA256 bits=128/128); Thu, 16 Oct 2025 08:00:41 -0700 (PDT) X-Relaying-Domain: iol.unh.edu Date: Thu, 16 Oct 2025 08:00:41 -0700 (PDT) Message-ID: <68f10899.050a0220.294795.9b44SMTPIN_ADDED_MISSING@mx.google.com> Received: from [172.21.0.3] (unknown [172.18.0.240]) by postal.iol.unh.edu (Postfix) with ESMTP id 945F86051830; Thu, 16 Oct 2025 11:00:41 -0400 (EDT) Subject: |SUCCESS| pw157756-157758 [PATCH] [v7,3/3] dts: update tx_offload te From: dpdklab@iol.unh.edu To: Test Report Cc: dpdk-test-reports@iol.unh.edu In-Reply-To: <20251016132421.12176-4-abailey@iol.unh.edu> References: <20251016132421.12176-4-abailey@iol.unh.edu> Content-Type: text/plain X-BeenThere: test-report@dpdk.org X-Mailman-Version: 2.1.29 Precedence: list List-Id: automatic DPDK test reports List-Unsubscribe: , List-Archive: List-Post: List-Help: List-Subscribe: , Errors-To: test-report-bounces@dpdk.org Test-Label: iol-compile-amd64-testing Test-Status: SUCCESS http://dpdk.org/patch/157758 _Testing PASS_ Submitter: Andrew Bailey Date: Thursday, October 16 2025 13:24:21 DPDK git baseline: Repo:dpdk-next-dts Branch: master CommitID:c1a9d3e5a721be9be66f0c4bfd9fa4d6e6af3b98 157756-157758 --> testing pass Upstream job id: Windows-Compile-DPDK-Native#31681 Test environment and result as below: +---------------------+--------------------+-------------------+-------------------------+ | Environment | dpdk_meson_compile | dpdk_msvc_compile | dpdk_llvm_clang_compile | +=====================+====================+===================+=========================+ | Ubuntu 20.04 | PASS | SKIPPED | SKIPPED | +---------------------+--------------------+-------------------+-------------------------+ | FreeBSD 14.2 | PASS | SKIPPED | SKIPPED | +---------------------+--------------------+-------------------+-------------------------+ | Windows Server 2022 | SKIPPED | PASS | PASS | +---------------------+--------------------+-------------------+-------------------------+ Ubuntu 20.04 Kernel: 4.19 Compiler: gcc gcc (Ubuntu 9.4.0-1ubuntu1~20.04.2) 9.4.0 FreeBSD 14.2 Kernel: 14.2-RELEASE Compiler: clang 18.1.6 Windows Server 2022 Kernel: 10.0.20348.2031 Compiler: clang 15.0.7, gcc 14.1.0 (MinGW), and MSVC VS 19.39.33521 To view detailed results, visit: https://lab.dpdk.org/results/dashboard/patchsets/34301/ UNH-IOL DPDK Community Lab To manage your email subscriptions, visit: https://lab.dpdk.org/results/dashboard/preferences/subscriptions/