From mboxrd@z Thu Jan 1 00:00:00 1970 Return-Path: Received: from mails.dpdk.org (mails.dpdk.org [217.70.189.124]) by inbox.dpdk.org (Postfix) with ESMTP id F045248954 for ; Thu, 16 Oct 2025 17:02:21 +0200 (CEST) Received: from mails.dpdk.org (localhost [127.0.0.1]) by mails.dpdk.org (Postfix) with ESMTP id EAA734026D; Thu, 16 Oct 2025 17:02:21 +0200 (CEST) Received: from mail-yx1-f99.google.com (mail-yx1-f99.google.com [74.125.224.99]) by mails.dpdk.org (Postfix) with ESMTP id E37634026D for ; Thu, 16 Oct 2025 17:02:19 +0200 (CEST) Received: by mail-yx1-f99.google.com with SMTP id 956f58d0204a3-635380a4a67so828628d50.0 for ; Thu, 16 Oct 2025 08:02:19 -0700 (PDT) DKIM-Signature: v=1; a=rsa-sha256; c=relaxed/relaxed; d=iol.unh.edu; s=unh-iol; t=1760626939; x=1761231739; darn=dpdk.org; h=references:in-reply-to:cc:to:from:subject:message-id:date:from:to :cc:subject:date:message-id:reply-to; bh=HuxDVZSGbsDba13afpYeKIv2M1LZEKSUhKBYZZLoWew=; b=CRhs8h8VGeUdGV/Ziy+2WZtFtaKv8eNUUy9Z4ORsx3TdFuIOTrvFqQSC73zIxOaaNE BrOLlp8q/6/2OhF2uE6lSQXMKjZD+a3yqh1wwp6iR0ruuWACdNPGv49hzDrj1nP2IUdv S1ZgpH7EkMsMeVWOZYK00sHWzwR5cPH37+buM= X-Google-DKIM-Signature: v=1; a=rsa-sha256; c=relaxed/relaxed; d=1e100.net; s=20230601; t=1760626939; x=1761231739; h=references:in-reply-to:cc:to:from:subject:message-id:date :x-gm-message-state:from:to:cc:subject:date:message-id:reply-to; bh=HuxDVZSGbsDba13afpYeKIv2M1LZEKSUhKBYZZLoWew=; b=TJdFgt6ydSumWTdltQUn//ewpJaZaYllUOHZpEAKTP2Vu+zlz8v7+/sg9cKfSxHr35 fMwpBpky0Jek6MVGY0nCNHOeQYgQzH6MJUdl0/QLWbDgjmqsqovSCpCvjm7bTACRqAxM j6Rs5gf/v6WgRex8o909Jn9AcrlqlLHsOi1pIJ+DFfSPGtLI/ZK3S2cZbJIkDn3hIO7v SI2o7oKNFd3CGtuK5/Xq49pjWeBmAO6DjUGUPKa9gnZ2C7N3aWOunh2zN9xVSRt8128Z P8aCdd3/xOvYv51W14DB1TvLIXeUOpJFO5hU9AULBlU5VEDYbXoYqi/RN13cJFgCe3CJ ZBVg== X-Gm-Message-State: AOJu0YwjQX9s7fm3WcBvHYgA6DEQgufbO3Vygb28z+R5ucnvJFt5TYl/ u6Ul8++VGQUPWXPn5VnKaeYZ2VC0hCAZTKPwp4mrbbj7GicjdPshv9FR60+EW1HkJHiE6c9u0sg fl9Aw3igKt9UPlVhhrtZS6gEhI0ItLe57R7OYXhz7BOu7vW5C4DZ2a8vtOcnI X-Gm-Gg: ASbGncuT0DldgIi0o/Gt9rVG6QJF/VG0Yu6Gu9LdDOvLRW+YtMta9LX8TIfzwRtkL6R B6fP+4MPqJag+nvnt/ZpuBuEKXXFTtWeBRib0UpOGpv/NurgGvDLzX0qGgghTGsmTpvfy9Uyt0Z 8exT/uNDGdIzCgrQsZz6yEKoQ6oDaqCi7UkFme7XsJE4rku/Ll+z330IQkHhx4vvE5kSXZrYzAE XZ0roXle+jbVGOwnN5kq68pH4cswwvOHnnr2D5t20tEOky/CWSPIbTlJ2UHTgV3qbNH3usIjbnc yY1VmR5VN7kiQGP5aypIzyVM4ktSscnDNkUkvC48jkh8nWEpgREWXXHIULo5peKNJa7KoTC826N /lDgXEtXp X-Google-Smtp-Source: AGHT+IGFphpXOls6UGyIIQzn1RyBkj29vGvskCbNJbRv5yMBXI97BsgNKVDcJD+DRLtDwTLE7q+f/CC/wFzo X-Received: by 2002:a05:690e:dcf:b0:5f3:319c:ff0a with SMTP id 956f58d0204a3-63e16157b37mr586914d50.28.1760626939061; Thu, 16 Oct 2025 08:02:19 -0700 (PDT) Received: from postal.iol.unh.edu (postal.iol.unh.edu. [2606:4100:3880:1234::84]) by smtp-relay.gmail.com with ESMTPS id 956f58d0204a3-63cd95e6be4sm1260528d50.13.2025.10.16.08.02.19 (version=TLS1_2 cipher=ECDHE-ECDSA-AES128-GCM-SHA256 bits=128/128); Thu, 16 Oct 2025 08:02:19 -0700 (PDT) X-Relaying-Domain: iol.unh.edu Date: Thu, 16 Oct 2025 08:02:19 -0700 (PDT) Message-ID: <68f108fb.530a0220.3837f6.f40eSMTPIN_ADDED_MISSING@mx.google.com> Received: from [172.21.0.2] (unknown [172.18.0.240]) by postal.iol.unh.edu (Postfix) with ESMTP id B578B6051830; Thu, 16 Oct 2025 11:02:17 -0400 (EDT) Subject: |SUCCESS| pw157756-157758 [PATCH] [v7,3/3] dts: update tx_offload te From: dpdklab@iol.unh.edu To: Test Report Cc: dpdk-test-reports@iol.unh.edu In-Reply-To: <20251016132421.12176-4-abailey@iol.unh.edu> References: <20251016132421.12176-4-abailey@iol.unh.edu> Content-Type: text/plain X-BeenThere: test-report@dpdk.org X-Mailman-Version: 2.1.29 Precedence: list List-Id: automatic DPDK test reports List-Unsubscribe: , List-Archive: List-Post: List-Help: List-Subscribe: , Errors-To: test-report-bounces@dpdk.org Test-Label: iol-compile-amd64-testing Test-Status: SUCCESS http://dpdk.org/patch/157758 _Testing PASS_ Submitter: Andrew Bailey Date: Thursday, October 16 2025 13:24:21 DPDK git baseline: Repo:dpdk-next-dts Branch: master CommitID:c1a9d3e5a721be9be66f0c4bfd9fa4d6e6af3b98 157756-157758 --> testing pass Upstream job id: Windows-Compile-DPDK-Native#31682 Test environment and result as below: +---------------------+--------------------+-------------------+-------------------------+----------------------+ | Environment | dpdk_meson_compile | dpdk_msvc_compile | dpdk_llvm_clang_compile | dpdk_mingw64_compile | +=====================+====================+===================+=========================+======================+ | Ubuntu 20.04 | PASS | SKIPPED | SKIPPED | SKIPPED | +---------------------+--------------------+-------------------+-------------------------+----------------------+ | FreeBSD 14.2 | PASS | SKIPPED | SKIPPED | SKIPPED | +---------------------+--------------------+-------------------+-------------------------+----------------------+ | Windows Server 2022 | SKIPPED | PASS | PASS | PASS | +---------------------+--------------------+-------------------+-------------------------+----------------------+ Ubuntu 20.04 Kernel: 4.19 Compiler: gcc gcc (Ubuntu 9.4.0-1ubuntu1~20.04.2) 9.4.0 FreeBSD 14.2 Kernel: 14.2-RELEASE Compiler: clang 18.1.6 Windows Server 2022 Kernel: 10.0.20348.2031 Compiler: clang 15.0.7, gcc 14.1.0 (MinGW), and MSVC VS 19.39.33521 To view detailed results, visit: https://lab.dpdk.org/results/dashboard/patchsets/34301/ UNH-IOL DPDK Community Lab To manage your email subscriptions, visit: https://lab.dpdk.org/results/dashboard/preferences/subscriptions/