From mboxrd@z Thu Jan 1 00:00:00 1970 Return-Path: Received: from mails.dpdk.org (mails.dpdk.org [217.70.189.124]) by inbox.dpdk.org (Postfix) with ESMTP id 8BCA348954 for ; Thu, 16 Oct 2025 17:49:07 +0200 (CEST) Received: from mails.dpdk.org (localhost [127.0.0.1]) by mails.dpdk.org (Postfix) with ESMTP id 8637A42789; Thu, 16 Oct 2025 17:49:07 +0200 (CEST) Received: from mail-pl1-f225.google.com (mail-pl1-f225.google.com [209.85.214.225]) by mails.dpdk.org (Postfix) with ESMTP id 6539B42789 for ; Thu, 16 Oct 2025 17:49:06 +0200 (CEST) Received: by mail-pl1-f225.google.com with SMTP id d9443c01a7336-26a0a694ea8so7112035ad.3 for ; Thu, 16 Oct 2025 08:49:06 -0700 (PDT) DKIM-Signature: v=1; a=rsa-sha256; c=relaxed/relaxed; d=iol.unh.edu; s=unh-iol; t=1760629745; x=1761234545; darn=dpdk.org; h=references:in-reply-to:cc:to:from:subject:message-id:date:from:to :cc:subject:date:message-id:reply-to; bh=GeHrdGTmEZlY9MCjMl9xUx0YWtE6h3c/mrgacBfo5Jc=; b=UaprL6gEOr2c8CTr8KoxyY0DcbvQ8s1mBJUhgazA5UOp3m8trf395IEbtZ5YQpaeSn z/yiZy0NFvRggJpO0nZA7jQePU4VscBUw2rnjpibYQxEXtrH8Re1E9jjd4p6XGcVLOhz DfbnON3JRvClwomXr7JjlO66wwpooDziQckHQ= X-Google-DKIM-Signature: v=1; a=rsa-sha256; c=relaxed/relaxed; d=1e100.net; s=20230601; t=1760629745; x=1761234545; h=references:in-reply-to:cc:to:from:subject:message-id:date :x-gm-message-state:from:to:cc:subject:date:message-id:reply-to; bh=GeHrdGTmEZlY9MCjMl9xUx0YWtE6h3c/mrgacBfo5Jc=; b=bL/Qp3tQ1v2eozl92n0CVeVb2jH/GJ0B+v9PUK35lSGK+/SkumPfDbdwaUHXHuSwxj KBQuyAQlKtQIZSui1fty1p8HFrTwgOmWrUBygEOcosYzHVtbUKpFJ5oWhnM0thpW8U6W mahmWeadRfZ4Jv18ywqOCbkH8r+CM6JZVv8YHF294/9ELuy2+WVMTVNU+buwX26V18BZ 2lshJwuAXqh1/QWSK0ufEvvyV2KxdoC+KzFp96tCIN8Mvf1aIvydE5PIhroaUh6aYTsT gnRZkQINnNQgtz39zIz4xyL/+78W9UxIfJjzAAmI+RXryoJhFBDkRIJnyWLssFhVeJpI W1KQ== X-Gm-Message-State: AOJu0YyvaoBh3/9dEo020eQpIMPFlsCY61ZSfbaoKRuSjXjQ6hryUG2j r/Rj5yYfJ+yvqv1q+tl1g/Nt1qaL2RUwMHfZf9bHyuZKUuq5ZLIQ132YN0wE5tzol+Wmmt5li4a QKFehM0gJpFMGbPqYhJoxA+aFaSqPAQxMDU5BTiVgR2eA X-Gm-Gg: ASbGncvdSjpxfdjF/lFlsV9/5hbAjY95ZeosP15eXXaTS5DkPo7mvJ6FVWbQBvRdfew MVX5k8/8GvbBCkSlvilULpjPmzMJDrQvMZZrebgT6JIOMBGZXbpFhoqBsOQmamWHABYyx7em8KY UWezQSoZ3KGamHoLRFHbKOKvoUxDmxyzJy2oHXBUY2MMDMMse59KKWxLcw78QgwwFpicPTynfy3 SQ3JIwHq0RUe1xQktBMtwisNEBmbS9N+58iLwu+yL41q6SN8hBOlY3TDb/0jiAfUeeBnrgtCZzR kb79Xu8MEQRKKvk9xjlyVx95CoAtgUh42XovXxwdWJ2NVCUnxj7vSZ+H0QCGMHCeB7TIzhZW+Hf /20dLu0j/V3ezXNB+Yf5ARIKVuPX30RI= X-Google-Smtp-Source: AGHT+IGNluMffhoK9KsDxYpqUY+n02rF7R9yTY2ddOHkOJAQrzrF7ez+qUJLJr/ZwJNsXQs2M2brm1QG4fcj X-Received: by 2002:a17:902:cec7:b0:290:c09f:a48b with SMTP id d9443c01a7336-290c9ca3225mr5994315ad.16.1760629745185; Thu, 16 Oct 2025 08:49:05 -0700 (PDT) Received: from postal.iol.unh.edu (postal.iol.unh.edu. [132.177.123.84]) by smtp-relay.gmail.com with ESMTPS id d9443c01a7336-29099673f28sm3280995ad.37.2025.10.16.08.49.05 (version=TLS1_2 cipher=ECDHE-ECDSA-AES128-GCM-SHA256 bits=128/128); Thu, 16 Oct 2025 08:49:05 -0700 (PDT) X-Relaying-Domain: iol.unh.edu Date: Thu, 16 Oct 2025 08:49:05 -0700 (PDT) Message-ID: <68f113f1.170a0220.340141.ff7cSMTPIN_ADDED_MISSING@mx.google.com> Received: from [172.21.0.5] (unknown [172.18.0.240]) by postal.iol.unh.edu (Postfix) with ESMTP id 6426B6051830; Thu, 16 Oct 2025 11:49:04 -0400 (EDT) Subject: |SUCCESS| pw157689-157690 [PATCH] [v5,4/4] dma/hisi_acc: add doc From: dpdklab@iol.unh.edu To: Test Report Cc: dpdk-test-reports@iol.unh.edu In-Reply-To: <20251016015221.1423-5-fengchengwen@huawei.com> References: <20251016015221.1423-5-fengchengwen@huawei.com> Content-Type: text/plain X-BeenThere: test-report@dpdk.org X-Mailman-Version: 2.1.29 Precedence: list List-Id: automatic DPDK test reports List-Unsubscribe: , List-Archive: List-Post: List-Help: List-Subscribe: , Errors-To: test-report-bounces@dpdk.org Test-Label: iol-compile-arm64-testing Test-Status: SUCCESS http://dpdk.org/patch/157690 _Testing PASS_ Submitter: Chengwen Feng Date: Thursday, October 16 2025 01:52:21 DPDK git baseline: Repo:dpdk Branch: master CommitID:16f4c522003dcfecf23c8d38e009b95a3bbefd03 157689-157690 --> testing pass Upstream job id: Generic-DPDK-Compile-Meson#434691 Test environment and result as below: +------------------------------+--------------------+ | Environment | dpdk_meson_compile | +==============================+====================+ | CentOS Stream 9 | PASS | +------------------------------+--------------------+ | CentOS Stream 10 | PASS | +------------------------------+--------------------+ | Red Hat Enterprise Linux 9.5 | PASS | +------------------------------+--------------------+ | Fedora Linux 42 | PASS | +------------------------------+--------------------+ | Debian GNU/Linux 12 | PASS | +------------------------------+--------------------+ | Ubuntu 20.04 | PASS | +------------------------------+--------------------+ | Ubuntu 24.04 | PASS | +------------------------------+--------------------+ | Ubuntu 22.04 | PASS | +------------------------------+--------------------+ CentOS Stream 9 Kernel: 5.4 Compiler: gcc gcc (GCC) 11.5.0 20240719 (Red Hat 11.5.0-11) CentOS Stream 10 Kernel: 5.4 Compiler: gcc gcc (GCC) 14.2.1 20250110 (Red Hat 14.2.1-8) Red Hat Enterprise Linux 9.5 Kernel: 5.4 Compiler: gcc gcc (GCC) 11.5.0 20240719 (Red Hat 11.5.0-2) Fedora Linux 42 Kernel: 5.4 Compiler: gcc gcc (GCC) 15.2.1 20250808 (Red Hat 15.2.1-1) Debian GNU/Linux 12 Kernel: 5.4 Compiler: gcc gcc (Debian 12.2.0-14+deb12u1) 12.2.0 Ubuntu 20.04 Kernel: 5.4 Compiler: gcc gcc (Ubuntu 9.4.0-1ubuntu1~20.04.2) 9.4.0 Ubuntu 24.04 Kernel: 5.4 Compiler: gcc gcc (Ubuntu 13.3.0-6ubuntu2~24.04) 13.3.0 Ubuntu 22.04 Kernel: 5.4 Compiler: gcc gcc (Ubuntu 11.4.0-1ubuntu1~22.04) 11.4.0 To view detailed results, visit: https://lab.dpdk.org/results/dashboard/patchsets/34291/ UNH-IOL DPDK Community Lab To manage your email subscriptions, visit: https://lab.dpdk.org/results/dashboard/preferences/subscriptions/