From mboxrd@z Thu Jan 1 00:00:00 1970 Return-Path: Received: from mails.dpdk.org (mails.dpdk.org [217.70.189.124]) by inbox.dpdk.org (Postfix) with ESMTP id 9C66248954 for ; Thu, 16 Oct 2025 17:49:24 +0200 (CEST) Received: from mails.dpdk.org (localhost [127.0.0.1]) by mails.dpdk.org (Postfix) with ESMTP id 9724942789; Thu, 16 Oct 2025 17:49:24 +0200 (CEST) Received: from mail-pf1-f225.google.com (mail-pf1-f225.google.com [209.85.210.225]) by mails.dpdk.org (Postfix) with ESMTP id 39AC342789 for ; Thu, 16 Oct 2025 17:49:23 +0200 (CEST) Received: by mail-pf1-f225.google.com with SMTP id d2e1a72fcca58-77f5d497692so1252825b3a.1 for ; Thu, 16 Oct 2025 08:49:23 -0700 (PDT) DKIM-Signature: v=1; a=rsa-sha256; c=relaxed/relaxed; d=iol.unh.edu; s=unh-iol; t=1760629762; x=1761234562; darn=dpdk.org; h=references:in-reply-to:cc:to:from:subject:message-id:date:from:to :cc:subject:date:message-id:reply-to; bh=/V7KDFeeIDQ/sK82PhnFJvwItuXa+B/GSClHgj4rvx4=; b=TAB2NjKdrej5Nzq7/9kTiNKrufPCZ0YlGg7U6l1+mqvz83Rt3K7RDHTHy3iXzVfAaV WVXvOGP99va/+ufgaqmj03sDAoyNkv31m+RHrHrXPbA51v8nWf9Z2L/SKui7sN8oGbng spkoek8TCRRu+1zKE82uuTuSyJR/f1q1nQP1E= X-Google-DKIM-Signature: v=1; a=rsa-sha256; c=relaxed/relaxed; d=1e100.net; s=20230601; t=1760629762; x=1761234562; h=references:in-reply-to:cc:to:from:subject:message-id:date :x-gm-message-state:from:to:cc:subject:date:message-id:reply-to; bh=/V7KDFeeIDQ/sK82PhnFJvwItuXa+B/GSClHgj4rvx4=; b=M6Mri8NqI5pSzGEPPlAn7r6OrFNP5duYFgtbzBN/xH7N2KZwRJ5QK2YUa98gWTNTyH juoa6+MSAxLsxjg8QMiLplucUjlWQRnm71WQRoDB6W+48AIGurTW8Qi0pGhThqfGXlmU 8ZNQK6NOxFUHpQ8uGlE9UhE89rHylEJi7Ne9VhBp2DyMCAuI2L/SCQdBY8zUf0zYfq2j fA9zfpmr0VFj/SYvUQ1L9tB9grjdLcQrINcbSw080vdI8mpNsU3rmtHXwEJa2advx94j nlRfxVB++n6ANQwA2D0uojAjKCby9L3d0k9oGTQarNkZ96y2JgLnQjpBl6Ec73v+H4Et Dwsw== X-Gm-Message-State: AOJu0YynGYe4AYMoe1Mmhdpt2bUUiCUw7AhzHjOcv8Gd0t6ZbKkx2z5O blbgdVDs4fcwoP1USWcskVjzDFve35AP8MSK1QExH+Bo4WTfBtuZejX00B0szRtbntEvGlmU0de Au01AfGyI7kGMIYGynatBnA057Scao25UQZdoYhZdOWqKz40UC7kd99hJ3YLI X-Gm-Gg: ASbGnctiAaiJSiMfAzSe4DbegU1RcidignLdcaruGsrPTzIdjQ2KvoO3aaoeB3PVtmG 36b1O9U2MxSpRLM3ZC6UluF6elx8p2f4Fd5hdeF8oW85cfI8BYplng8ff2VC30RtVf6Y4oTmcuK Q8KieY4RvZf/UGx6LeRB8Mx6ptDbbwgBI4x9BJOHd7j8Fz2gYZV1qdriMy7LzNilHSSuIXCDPTY 9cKap7TgHLFDJzRtedNFOD+7oYw6q8rVG+tB8Jc+kiGw455R2cf7ak7eaF8LdGYqZsju55lZDiS qUEFqH7Ju90lJ0CibuHtlggoEA6zvjnEazH5uRhoN/+FvcN9BxkHe69EdQIVe/W9RqbrPZwDvt+ jaMn4+Var X-Google-Smtp-Source: AGHT+IEpAI9cYsF0+0IdsMdKIMbox8j0QJjw2YV43KBNnDI7iC4ASh2HAMjxmDIsooxNcaq3epjGG9PdS3xb X-Received: by 2002:a05:6a20:2590:b0:334:a775:a59b with SMTP id adf61e73a8af0-334a8650ca9mr506984637.58.1760629762252; Thu, 16 Oct 2025 08:49:22 -0700 (PDT) Received: from postal.iol.unh.edu (postal.iol.unh.edu. [2606:4100:3880:1234::84]) by smtp-relay.gmail.com with ESMTPS id 41be03b00d2f7-b6a22b2d732sm223026a12.10.2025.10.16.08.49.22 (version=TLS1_2 cipher=ECDHE-ECDSA-AES128-GCM-SHA256 bits=128/128); Thu, 16 Oct 2025 08:49:22 -0700 (PDT) X-Relaying-Domain: iol.unh.edu Date: Thu, 16 Oct 2025 08:49:22 -0700 (PDT) Message-ID: <68f11402.050a0220.39249f.b391SMTPIN_ADDED_MISSING@mx.google.com> Received: from [172.21.0.6] (unknown [172.18.0.240]) by postal.iol.unh.edu (Postfix) with ESMTP id 88E236051830; Thu, 16 Oct 2025 11:49:21 -0400 (EDT) Subject: |SUCCESS| pw157689-157690 [PATCH] [v5,4/4] dma/hisi_acc: add doc From: dpdklab@iol.unh.edu To: Test Report Cc: dpdk-test-reports@iol.unh.edu In-Reply-To: <20251016015221.1423-5-fengchengwen@huawei.com> References: <20251016015221.1423-5-fengchengwen@huawei.com> Content-Type: text/plain X-BeenThere: test-report@dpdk.org X-Mailman-Version: 2.1.29 Precedence: list List-Id: automatic DPDK test reports List-Unsubscribe: , List-Archive: List-Post: List-Help: List-Subscribe: , Errors-To: test-report-bounces@dpdk.org Test-Label: iol-compile-arm64-testing Test-Status: SUCCESS http://dpdk.org/patch/157690 _Testing PASS_ Submitter: Chengwen Feng Date: Thursday, October 16 2025 01:52:21 DPDK git baseline: Repo:dpdk Branch: master CommitID:16f4c522003dcfecf23c8d38e009b95a3bbefd03 157689-157690 --> testing pass Upstream job id: Generic-DPDK-Compile-Meson#434695 Test environment and result as below: +------------------------------+--------------------+ | Environment | dpdk_meson_compile | +==============================+====================+ | CentOS Stream 9 | PASS | +------------------------------+--------------------+ | CentOS Stream 10 | PASS | +------------------------------+--------------------+ | Red Hat Enterprise Linux 9.5 | PASS | +------------------------------+--------------------+ | Fedora Linux 42 | PASS | +------------------------------+--------------------+ | Debian GNU/Linux 12 | PASS | +------------------------------+--------------------+ | Ubuntu 20.04 | PASS | +------------------------------+--------------------+ | Ubuntu 24.04 | PASS | +------------------------------+--------------------+ | Ubuntu 22.04 | PASS | +------------------------------+--------------------+ CentOS Stream 9 Kernel: 5.4 Compiler: gcc gcc (GCC) 11.5.0 20240719 (Red Hat 11.5.0-11) CentOS Stream 10 Kernel: 5.4 Compiler: gcc gcc (GCC) 14.2.1 20250110 (Red Hat 14.2.1-8) Red Hat Enterprise Linux 9.5 Kernel: 5.4 Compiler: gcc gcc (GCC) 11.5.0 20240719 (Red Hat 11.5.0-2) Fedora Linux 42 Kernel: 5.4 Compiler: gcc gcc (GCC) 15.2.1 20250808 (Red Hat 15.2.1-1) Debian GNU/Linux 12 Kernel: 5.4 Compiler: gcc gcc (Debian 12.2.0-14+deb12u1) 12.2.0 Ubuntu 20.04 Kernel: 5.4 Compiler: gcc gcc (Ubuntu 9.4.0-1ubuntu1~20.04.2) 9.4.0 Ubuntu 24.04 Kernel: 5.4 Compiler: gcc gcc (Ubuntu 13.3.0-6ubuntu2~24.04) 13.3.0 Ubuntu 22.04 Kernel: 5.4 Compiler: gcc gcc (Ubuntu 11.4.0-1ubuntu1~22.04) 11.4.0 To view detailed results, visit: https://lab.dpdk.org/results/dashboard/patchsets/34291/ UNH-IOL DPDK Community Lab To manage your email subscriptions, visit: https://lab.dpdk.org/results/dashboard/preferences/subscriptions/