From mboxrd@z Thu Jan 1 00:00:00 1970 Return-Path: Received: from mails.dpdk.org (mails.dpdk.org [217.70.189.124]) by inbox.dpdk.org (Postfix) with ESMTP id 298E548954 for ; Thu, 16 Oct 2025 18:29:42 +0200 (CEST) Received: from mails.dpdk.org (localhost [127.0.0.1]) by mails.dpdk.org (Postfix) with ESMTP id 02AC94026D; Thu, 16 Oct 2025 18:29:42 +0200 (CEST) Received: from mail-pf1-f228.google.com (mail-pf1-f228.google.com [209.85.210.228]) by mails.dpdk.org (Postfix) with ESMTP id A37844026D for ; Thu, 16 Oct 2025 18:29:40 +0200 (CEST) Received: by mail-pf1-f228.google.com with SMTP id d2e1a72fcca58-77f5d497692so1308459b3a.1 for ; Thu, 16 Oct 2025 09:29:40 -0700 (PDT) DKIM-Signature: v=1; a=rsa-sha256; c=relaxed/relaxed; d=iol.unh.edu; s=unh-iol; t=1760632180; x=1761236980; darn=dpdk.org; h=references:in-reply-to:cc:to:from:subject:message-id:date:from:to :cc:subject:date:message-id:reply-to; bh=IVuI8ggucv75Lv24eEIXjuwUGk0jHlO/x9n4xdslSy0=; b=N5BL/gA1uC8gNNR4dspWZvwQItnaCgtCMWn7kEhQgNzjSc9ZO1qrxPnjqQfAuE9xVb zvjBxhrmqWedn7GbLaLMRfDgz7ziyF5VAR3LbkFosOOi14H9DJIkmyhVVxR5ZxLGG51H YBIJZBA5oD++w5vPf0DVUwlZxqdD2mMJv09eU= X-Google-DKIM-Signature: v=1; a=rsa-sha256; c=relaxed/relaxed; d=1e100.net; s=20230601; t=1760632180; x=1761236980; h=references:in-reply-to:cc:to:from:subject:message-id:date :x-gm-message-state:from:to:cc:subject:date:message-id:reply-to; bh=IVuI8ggucv75Lv24eEIXjuwUGk0jHlO/x9n4xdslSy0=; b=FNums3A9fimYek+4i/TkeAJwlmHROrPGGc2rjPNx0pSn4H+ZrB2Pqcsy8xQQFNRNCE 7eYEeuZQEfUkkxIMxuCmy5dDMPKr9nma/Q5diRzEsvZFmu0IO5m3vicGWRA7VGeM3cpZ Xz3FFuZZU7267FgMv4BNuePXLr3xYrQi2f5IzT0tW0GsEWRY581CRkcEgfI9HXMN5mdM zQV0WaMAi9Foa7qUYKFyRampG0gRsE1BPRwB59zj06/PjVos+9gSXJNY8se2Gjokae2H N8Tdp6RIJRdFAonOIRpQGaFRksQ+AMBeSKMBwCfHGR2yqwzvcBU0gTVomLFziJr2/CnI SobQ== X-Gm-Message-State: AOJu0YwBCLmf5+m9tupVbPirizlzVsEqnnMw+c+57wqYpIQJk3haAxNN 7ub2pSPQ9fozpqOrtmpv4j6VGnB+KhI3A5XEfygR/wKjTPLFMNbe1W425QvGiYOWqNotAOCKVgp YnFGFgW9EO2ioVSfpvnLkftNn13H67cA6DsFWYmd8jtMSxTm/CC015ZgMcpGo X-Gm-Gg: ASbGncsiq2zOSxx+b7jzfeIRC29KfOkGXBb+oLB9UHTGzN3VEqo5vT9jPowUzXuHukz AU+06JAxXOTGCR1gdDb/uFI8lUdmZeyF47ReAUZEH3Sp4Pb0ZahtO/hA4s+0oihmL5L6tnC4oOp +sUpWDA1+pcK4kMGXhSdDnn21LLrWN6xBNxk1xCDqQ7FmqYhmUPPrUooS7hDgeU3dVn/0ahuke0 IZyc9FUCIo1f2rYJeH0sZXKAgBa9/sk1VzuCYNa5Sv8NWRcZhIo1pIxwcTTZUId7qD7WrC1lQ8g 0T+XBYboh96afwSzblfmDnimN2ZPzIJTXXnvMnaaDQIGqhl7eO55K7wmtzdbkMaynFiaH8cwZRY 0K1QsQZFy X-Google-Smtp-Source: AGHT+IHtZDLqMVnCzonpQqcUFxTMGXev5iKNSgoBvQ5sGIXE54TiEC01pPyXJfoUCxc2vbuqMzvCSvBo8avi X-Received: by 2002:a05:6a20:9195:b0:2b7:949d:63e1 with SMTP id adf61e73a8af0-334a8617430mr820831637.32.1760632179652; Thu, 16 Oct 2025 09:29:39 -0700 (PDT) Received: from postal.iol.unh.edu (postal.iol.unh.edu. [2606:4100:3880:1234::84]) by smtp-relay.gmail.com with ESMTPS id d2e1a72fcca58-7993330deacsm1780906b3a.10.2025.10.16.09.29.39 (version=TLS1_2 cipher=ECDHE-ECDSA-AES128-GCM-SHA256 bits=128/128); Thu, 16 Oct 2025 09:29:39 -0700 (PDT) X-Relaying-Domain: iol.unh.edu Date: Thu, 16 Oct 2025 09:29:39 -0700 (PDT) Message-ID: <68f11d73.050a0220.2d27a7.9992SMTPIN_ADDED_MISSING@mx.google.com> Received: from [172.21.0.2] (unknown [172.18.0.240]) by postal.iol.unh.edu (Postfix) with ESMTP id E2334604D420; Thu, 16 Oct 2025 12:29:38 -0400 (EDT) Subject: |SUCCESS| pw157695-157696 [PATCH] [v6,4/4] dma/hisi_acc: add doc From: dpdklab@iol.unh.edu To: Test Report Cc: dpdk-test-reports@iol.unh.edu In-Reply-To: <20251016025318.14333-5-fengchengwen@huawei.com> References: <20251016025318.14333-5-fengchengwen@huawei.com> Content-Type: text/plain X-BeenThere: test-report@dpdk.org X-Mailman-Version: 2.1.29 Precedence: list List-Id: automatic DPDK test reports List-Unsubscribe: , List-Archive: List-Post: List-Help: List-Subscribe: , Errors-To: test-report-bounces@dpdk.org Test-Label: iol-compile-arm64-testing Test-Status: SUCCESS http://dpdk.org/patch/157696 _Testing PASS_ Submitter: Chengwen Feng Date: Thursday, October 16 2025 02:53:18 DPDK git baseline: Repo:dpdk Branch: master CommitID:16f4c522003dcfecf23c8d38e009b95a3bbefd03 157695-157696 --> testing pass Upstream job id: Generic-DPDK-Compile-Meson#434734 Test environment and result as below: +------------------------------+--------------------+ | Environment | dpdk_meson_compile | +==============================+====================+ | Red Hat Enterprise Linux 9.5 | PASS | +------------------------------+--------------------+ | Ubuntu 20.04 | PASS | +------------------------------+--------------------+ | Debian GNU/Linux 12 | PASS | +------------------------------+--------------------+ | Fedora Linux 42 | PASS | +------------------------------+--------------------+ | Ubuntu 22.04 | PASS | +------------------------------+--------------------+ | Ubuntu 24.04 | PASS | +------------------------------+--------------------+ | CentOS Stream 9 | PASS | +------------------------------+--------------------+ | CentOS Stream 10 | PASS | +------------------------------+--------------------+ Red Hat Enterprise Linux 9.5 Kernel: 5.4 Compiler: gcc gcc (GCC) 11.5.0 20240719 (Red Hat 11.5.0-2) Ubuntu 20.04 Kernel: 5.15 Compiler: aarch64-linux-gnu-gcc gcc (Ubuntu 9.4.0-1ubuntu1~20.04.2) 9.4.0 Debian GNU/Linux 12 Kernel: 5.4 Compiler: gcc gcc (Debian 12.2.0-14+deb12u1) 12.2.0 Fedora Linux 42 Kernel: 5.4 Compiler: gcc gcc (GCC) 15.2.1 20250808 (Red Hat 15.2.1-1) Ubuntu 22.04 Kernel: 5.4 Compiler: gcc gcc (Ubuntu 11.4.0-1ubuntu1~22.04) 11.4.0 Ubuntu 24.04 Kernel: 5.4 Compiler: gcc gcc (Ubuntu 13.3.0-6ubuntu2~24.04) 13.3.0 CentOS Stream 9 Kernel: 5.4 Compiler: gcc gcc (GCC) 11.5.0 20240719 (Red Hat 11.5.0-11) CentOS Stream 10 Kernel: 5.4 Compiler: gcc gcc (GCC) 14.2.1 20250110 (Red Hat 14.2.1-8) To view detailed results, visit: https://lab.dpdk.org/results/dashboard/patchsets/34293/ UNH-IOL DPDK Community Lab To manage your email subscriptions, visit: https://lab.dpdk.org/results/dashboard/preferences/subscriptions/