From mboxrd@z Thu Jan 1 00:00:00 1970 Return-Path: Received: from mails.dpdk.org (mails.dpdk.org [217.70.189.124]) by inbox.dpdk.org (Postfix) with ESMTP id 16D7F48954 for ; Thu, 16 Oct 2025 18:29:59 +0200 (CEST) Received: from mails.dpdk.org (localhost [127.0.0.1]) by mails.dpdk.org (Postfix) with ESMTP id 121F64026D; Thu, 16 Oct 2025 18:29:59 +0200 (CEST) Received: from mail-pj1-f97.google.com (mail-pj1-f97.google.com [209.85.216.97]) by mails.dpdk.org (Postfix) with ESMTP id 91BDC4026D for ; Thu, 16 Oct 2025 18:29:57 +0200 (CEST) Received: by mail-pj1-f97.google.com with SMTP id 98e67ed59e1d1-33ba5d8f3bfso925333a91.3 for ; Thu, 16 Oct 2025 09:29:57 -0700 (PDT) DKIM-Signature: v=1; a=rsa-sha256; c=relaxed/relaxed; d=iol.unh.edu; s=unh-iol; t=1760632197; x=1761236997; darn=dpdk.org; h=references:in-reply-to:cc:to:from:subject:message-id:date:from:to :cc:subject:date:message-id:reply-to; bh=OMHVO/4GK3FFjfTKvethUXSs0sTSERv6o3qx0yK1DGY=; b=F5KLfc5oBuW8ussh/xmtS/9G/IUhmlmzAYBws/MBn3MhgsY4jf3vAe3BmXHzCJhqUD p1Q61J72qnrmDdOxQvYhZ8BQao6+ls1Xu7srovBPh/9Qbo4QV9O2yyigQp6zQnvJweTa exDK2Z5ezUtn5XuEL4LVNpelUx5M5Apfl7xds= X-Google-DKIM-Signature: v=1; a=rsa-sha256; c=relaxed/relaxed; d=1e100.net; s=20230601; t=1760632197; x=1761236997; h=references:in-reply-to:cc:to:from:subject:message-id:date :x-gm-message-state:from:to:cc:subject:date:message-id:reply-to; bh=OMHVO/4GK3FFjfTKvethUXSs0sTSERv6o3qx0yK1DGY=; b=ghbZwYok4qFBiwuEAyLWl0O/CHxvut1tK9gU7UmSaJQyYh1O/cl1yIMTwtIymulQbf w29D/88e3C4Vt2qD9qxaQmFjZvKFO7s8hZiMvNFnD0NyZPdrnu0N49ABvu+T2LoVDfZJ crJ3I5x7WAI0vFhUVwWLJuaV0ZXtxlf9IjlIPE5AgICWYnM7cPpWZHegXN0ifpkXGs03 HuxRcHtVZUF53NIUOGrjsjuHQ3R4pJzmTWnEDU5Ff5R9WFuutKR5yC7EwuhlycWeIGA4 WMacgGpit+qlrcV6p+5lGrbqN4CBkFt8CyoZ+yPEtJbX6DOt0WIwX95Nnca261wGZ1sq pNYw== X-Gm-Message-State: AOJu0YwjO8WDqjUcQOwGnjyesbzWpBRxGT9uSrws17rvkkufMFmH9VBy IgNawFW+1LzV3eFPzIFui3Bw6YhzhNIllmM5mdaJxVV53OPwH4My30Hw+BbE6P0Gkua/NI1cp0X Kmn8ROFJOQvWhMBp6B++BtP9/9nQqnBxNOsxpOXJCWbsw X-Gm-Gg: ASbGnct4JFNi9XxlDPUkKtwi6igznFnmwvd/rutDGdOTjXqeGb3qfKTi164pKanuyZX N+Bv4UdDLRg71FPfAYpEfTIqq0iKSYWui0X6wGpzpzEwul49VDagPLGcICqfZDYFXUZWsKiNwpl uaLLe47RVfjt12368ebzWYarKxlZ9DLOmJXjZR9J1l8DHI6wKVH+hl5wheq5IrtGs5Y8ilcS2zv G7wUi1AmNAz02++TkubmsiGCaVY0g24s/i/5VPksntnFXSOvwPoFfgdHGi8fakb27kp40hI+KKK KIOlKzwCIITU7/OWyT4ipkc2HvJTJK8+RLgbgIdyHv/bi/j7sLCbUi0+wNpf8Po/aOrWslqJGlt 6f/p2qqNzlM0n5+9a5saaT3SskeH7QAo= X-Google-Smtp-Source: AGHT+IHKujmII248BejGhp7MC0tC/8tDLdaNG98XSTnNCu5tWkaMGRdjizMEOoKJEwCbjkMBYbwpuPXdFIqD X-Received: by 2002:a17:90b:17cb:b0:32a:34d8:33d3 with SMTP id 98e67ed59e1d1-33bcec1abbfmr495563a91.0.1760632196606; Thu, 16 Oct 2025 09:29:56 -0700 (PDT) Received: from postal.iol.unh.edu (postal.iol.unh.edu. [132.177.123.84]) by smtp-relay.gmail.com with ESMTPS id 98e67ed59e1d1-33bb663375asm160876a91.5.2025.10.16.09.29.56 (version=TLS1_2 cipher=ECDHE-ECDSA-AES128-GCM-SHA256 bits=128/128); Thu, 16 Oct 2025 09:29:56 -0700 (PDT) X-Relaying-Domain: iol.unh.edu Date: Thu, 16 Oct 2025 09:29:56 -0700 (PDT) Message-ID: <68f11d84.170a0220.3c3ce1.6e39SMTPIN_ADDED_MISSING@mx.google.com> Received: from [172.21.0.3] (unknown [172.18.0.240]) by postal.iol.unh.edu (Postfix) with ESMTP id D8449604D420; Thu, 16 Oct 2025 12:29:55 -0400 (EDT) Subject: |SUCCESS| pw157695-157696 [PATCH] [v6,4/4] dma/hisi_acc: add doc From: dpdklab@iol.unh.edu To: Test Report Cc: dpdk-test-reports@iol.unh.edu In-Reply-To: <20251016025318.14333-5-fengchengwen@huawei.com> References: <20251016025318.14333-5-fengchengwen@huawei.com> Content-Type: text/plain X-BeenThere: test-report@dpdk.org X-Mailman-Version: 2.1.29 Precedence: list List-Id: automatic DPDK test reports List-Unsubscribe: , List-Archive: List-Post: List-Help: List-Subscribe: , Errors-To: test-report-bounces@dpdk.org Test-Label: iol-compile-arm64-testing Test-Status: SUCCESS http://dpdk.org/patch/157696 _Testing PASS_ Submitter: Chengwen Feng Date: Thursday, October 16 2025 02:53:18 DPDK git baseline: Repo:dpdk Branch: master CommitID:16f4c522003dcfecf23c8d38e009b95a3bbefd03 157695-157696 --> testing pass Upstream job id: Generic-DPDK-Compile-Meson#434737 Test environment and result as below: +------------------------------+--------------------+ | Environment | dpdk_meson_compile | +==============================+====================+ | Red Hat Enterprise Linux 9.5 | PASS | +------------------------------+--------------------+ | Ubuntu 20.04 | PASS | +------------------------------+--------------------+ | Debian GNU/Linux 12 | PASS | +------------------------------+--------------------+ | Fedora Linux 42 | PASS | +------------------------------+--------------------+ | Ubuntu 22.04 | PASS | +------------------------------+--------------------+ | Ubuntu 24.04 | PASS | +------------------------------+--------------------+ | CentOS Stream 9 | PASS | +------------------------------+--------------------+ | CentOS Stream 10 | PASS | +------------------------------+--------------------+ Red Hat Enterprise Linux 9.5 Kernel: 5.4 Compiler: gcc gcc (GCC) 11.5.0 20240719 (Red Hat 11.5.0-2) Ubuntu 20.04 Kernel: 5.15 Compiler: aarch64-linux-gnu-gcc gcc (Ubuntu 9.4.0-1ubuntu1~20.04.2) 9.4.0 Debian GNU/Linux 12 Kernel: 5.4 Compiler: gcc gcc (Debian 12.2.0-14+deb12u1) 12.2.0 Fedora Linux 42 Kernel: 5.4 Compiler: gcc gcc (GCC) 15.2.1 20250808 (Red Hat 15.2.1-1) Ubuntu 22.04 Kernel: 5.4 Compiler: gcc gcc (Ubuntu 11.4.0-1ubuntu1~22.04) 11.4.0 Ubuntu 24.04 Kernel: 5.4 Compiler: gcc gcc (Ubuntu 13.3.0-6ubuntu2~24.04) 13.3.0 CentOS Stream 9 Kernel: 5.4 Compiler: gcc gcc (GCC) 11.5.0 20240719 (Red Hat 11.5.0-11) CentOS Stream 10 Kernel: 5.4 Compiler: gcc gcc (GCC) 14.2.1 20250110 (Red Hat 14.2.1-8) To view detailed results, visit: https://lab.dpdk.org/results/dashboard/patchsets/34293/ UNH-IOL DPDK Community Lab To manage your email subscriptions, visit: https://lab.dpdk.org/results/dashboard/preferences/subscriptions/