From mboxrd@z Thu Jan 1 00:00:00 1970 Return-Path: Received: from mails.dpdk.org (mails.dpdk.org [217.70.189.124]) by inbox.dpdk.org (Postfix) with ESMTP id 8549248954 for ; Thu, 16 Oct 2025 18:45:23 +0200 (CEST) Received: from mails.dpdk.org (localhost [127.0.0.1]) by mails.dpdk.org (Postfix) with ESMTP id 345D94026D; Thu, 16 Oct 2025 18:45:23 +0200 (CEST) Received: from mail-vs1-f100.google.com (mail-vs1-f100.google.com [209.85.217.100]) by mails.dpdk.org (Postfix) with ESMTP id 430C94026D for ; Thu, 16 Oct 2025 18:45:22 +0200 (CEST) Received: by mail-vs1-f100.google.com with SMTP id ada2fe7eead31-580a1f1f187so375497137.1 for ; Thu, 16 Oct 2025 09:45:22 -0700 (PDT) DKIM-Signature: v=1; a=rsa-sha256; c=relaxed/relaxed; d=iol.unh.edu; s=unh-iol; t=1760633121; x=1761237921; darn=dpdk.org; h=references:in-reply-to:cc:to:from:subject:message-id:date:from:to :cc:subject:date:message-id:reply-to; bh=7CJVIPpB2J3UCrsTTb0HF2c7DijyqJg3rsPvfIk/L1g=; b=XqrzHfRNrhsYLtkB8afbd9PYoxUfvPu9N1pUD/CyHYD7yhNz3zniFrhGK3WPTTttjn 7oxtU2P+E7wuyD+L1klrL4DcRTMUsxOrHxIy9dzdwf5eYN0QsYO1VtAOURDU2NkkcY8d v8siw8QYSqXg/rvz0nAD1M4hM+cTXY6wP1CHI= X-Google-DKIM-Signature: v=1; a=rsa-sha256; c=relaxed/relaxed; d=1e100.net; s=20230601; t=1760633121; x=1761237921; h=references:in-reply-to:cc:to:from:subject:message-id:date :x-gm-message-state:from:to:cc:subject:date:message-id:reply-to; bh=7CJVIPpB2J3UCrsTTb0HF2c7DijyqJg3rsPvfIk/L1g=; b=NdJidIRF96kpRVl4uSbH6KY1QevtYqbVmXgGHRI2t/hIjYFBApEZOgqmuxSSdtTJjg QyuJDriOrmW1qQNtL4qLooMFohkgR1dgiYc3/quGV8/NRyR4peI/SPZeBX2N1fWix734 D0aOfebQchwT7ZNuI3FBOv6e7/3yNGWAcDEWcWwaY55mgGN2oUsNhDC3PoApSij0Vekv x50NIPPg1lVB5Qp0e0O1hKNFfJZnuTL9X1BUbVJBN1GVWkPzBvydueMpPRPHvJ+OiU+u sKkYAL0qgNOvDKmUNiMtgFa/8qKFvSot3Ud7YUqLzB58MYhR5KQu+Ziby5j3xzR0kczp T7Qw== X-Gm-Message-State: AOJu0YyXfSRnZPbf8Gde9+5s284v+6GSMii4SlrrB2x5W3+FFxPH2lPf laOdvrTULBRmrRsoqH0cRpcrOiFMCt1rQttkL+QmPgb4MWy/x/ljdwmbstcFDUjuzSUwsbHg15d z31cgj/OKuSTGDIw4uYTofYjcnrryY3y/h/O/GgcvAcr7OJJpI1OSDB9cQhLy X-Gm-Gg: ASbGncvisWhP2E725Z71thKPdLvMPm62no8OFIgvqbH3Ub/nX+jO7U86y1wm5EJ5Q7d +GP3nIYWVBzDMJO6BWX8AwOpeRQWBbjtw7HwW3LyBNcMVvMzZSc1IkUb4LEE2FXvHCHenAi/6A+ 3NI30ZUSKwrg5mdUyYwxQ1wQrShf+6HvjYWlw0/QG7F/H41tWwA7SSONx9ory2IqMit316UCsFC dyuKMmRcMnTaTzPRFH9UQRoK5Auh20WgUGCrbh6XFSSWwR50npJzbWLJp/WT3N4UG/jIwldkSCY 46+R5Jw4+8A/mRWlJ974ANScYaBNcf8RkT6gkzGTihpAZlYTK/39W6jX4PFtAgvdp4EQQ7sV/f/ B+ajMFqP6 X-Google-Smtp-Source: AGHT+IF9NQPOFRrGM2iish7Kp4In/UmLanF/x3M6oKpWJBonHVmPlKoVVls4r5C5Z09sKOv8syXOBAGfD00U X-Received: by 2002:a05:6102:304a:b0:5d6:18cc:6087 with SMTP id ada2fe7eead31-5d7dd6d67e3mr439997137.30.1760633121571; Thu, 16 Oct 2025 09:45:21 -0700 (PDT) Received: from postal.iol.unh.edu (postal.iol.unh.edu. [2606:4100:3880:1234::84]) by smtp-relay.gmail.com with ESMTPS id a1e0cc1a2514c-930bf7bbc2bsm269218241.8.2025.10.16.09.45.21 (version=TLS1_2 cipher=ECDHE-ECDSA-AES128-GCM-SHA256 bits=128/128); Thu, 16 Oct 2025 09:45:21 -0700 (PDT) X-Relaying-Domain: iol.unh.edu Date: Thu, 16 Oct 2025 09:45:21 -0700 (PDT) Message-ID: <68f12121.050a0220.371745.cc83SMTPIN_ADDED_MISSING@mx.google.com> Received: from [172.21.0.5] (unknown [172.18.0.240]) by postal.iol.unh.edu (Postfix) with ESMTP id 4186E60003F7; Thu, 16 Oct 2025 12:45:21 -0400 (EDT) Subject: |SUCCESS| pw157756-157758 [PATCH] [v7,3/3] dts: update tx_offload te From: dpdklab@iol.unh.edu To: Test Report Cc: dpdk-test-reports@iol.unh.edu In-Reply-To: <20251016132421.12176-4-abailey@iol.unh.edu> References: <20251016132421.12176-4-abailey@iol.unh.edu> Content-Type: text/plain X-BeenThere: test-report@dpdk.org X-Mailman-Version: 2.1.29 Precedence: list List-Id: automatic DPDK test reports List-Unsubscribe: , List-Archive: List-Post: List-Help: List-Subscribe: , Errors-To: test-report-bounces@dpdk.org Test-Label: iol-compile-amd64-testing Test-Status: SUCCESS http://dpdk.org/patch/157758 _Testing PASS_ Submitter: Andrew Bailey Date: Thursday, October 16 2025 13:24:21 DPDK git baseline: Repo:dpdk-next-dts Branch: master CommitID:c1a9d3e5a721be9be66f0c4bfd9fa4d6e6af3b98 157756-157758 --> testing pass Upstream job id: Generic-DPDK-Compile-Meson#434817 Test environment and result as below: +---------------------+--------------------+-------------------+-------------------------+----------------------+ | Environment | dpdk_meson_compile | dpdk_msvc_compile | dpdk_llvm_clang_compile | dpdk_mingw64_compile | +=====================+====================+===================+=========================+======================+ | Ubuntu 20.04 | PASS | SKIPPED | SKIPPED | SKIPPED | +---------------------+--------------------+-------------------+-------------------------+----------------------+ | FreeBSD 14.2 | PASS | SKIPPED | SKIPPED | SKIPPED | +---------------------+--------------------+-------------------+-------------------------+----------------------+ | openSUSE Leap 15.6 | PASS | SKIPPED | SKIPPED | SKIPPED | +---------------------+--------------------+-------------------+-------------------------+----------------------+ | Windows Server 2022 | SKIPPED | PASS | PASS | PASS | +---------------------+--------------------+-------------------+-------------------------+----------------------+ Ubuntu 20.04 Kernel: 4.19 Compiler: gcc gcc (Ubuntu 9.4.0-1ubuntu1~20.04.2) 9.4.0 FreeBSD 14.2 Kernel: 14.2-RELEASE Compiler: clang 18.1.6 openSUSE Leap 15.6 Kernel: 5.15 Compiler: gcc gcc (SUSE Linux) 7.5.0 Windows Server 2022 Kernel: 10.0.20348.2031 Compiler: clang 15.0.7, gcc 14.1.0 (MinGW), and MSVC VS 19.39.33521 To view detailed results, visit: https://lab.dpdk.org/results/dashboard/patchsets/34301/ UNH-IOL DPDK Community Lab To manage your email subscriptions, visit: https://lab.dpdk.org/results/dashboard/preferences/subscriptions/