From mboxrd@z Thu Jan 1 00:00:00 1970 Return-Path: Received: from mails.dpdk.org (mails.dpdk.org [217.70.189.124]) by inbox.dpdk.org (Postfix) with ESMTP id 24C5748957 for ; Thu, 16 Oct 2025 18:53:51 +0200 (CEST) Received: from mails.dpdk.org (localhost [127.0.0.1]) by mails.dpdk.org (Postfix) with ESMTP id 110454026D; Thu, 16 Oct 2025 18:53:51 +0200 (CEST) Received: from mail-pl1-f228.google.com (mail-pl1-f228.google.com [209.85.214.228]) by mails.dpdk.org (Postfix) with ESMTP id B65E74026D for ; Thu, 16 Oct 2025 18:53:49 +0200 (CEST) Received: by mail-pl1-f228.google.com with SMTP id d9443c01a7336-29091d29fc8so10837235ad.0 for ; Thu, 16 Oct 2025 09:53:49 -0700 (PDT) DKIM-Signature: v=1; a=rsa-sha256; c=relaxed/relaxed; d=iol.unh.edu; s=unh-iol; t=1760633629; x=1761238429; darn=dpdk.org; h=cc:to:from:subject:message-id:date:from:to:cc:subject:date :message-id:reply-to; bh=RJB/MCfgRemlLYglQfUrwN7MG78Bdi0vcNyrOgcWqks=; b=jscnN8KuPXEDxs4kNOrU2qVLNhC/YUjHPJu7swiyweMv8xkou30vALgeo228zXI6Xm ubVCEqOqGGr0suVpFC23W1H9icwCHYaoD6VSu0xFiWfo1z6yZ3yJwoq4XP/ujfQa4YZr JaI12TyblTDcakamoYccXU9Yk2LYGYhHjESsE= X-Google-DKIM-Signature: v=1; a=rsa-sha256; c=relaxed/relaxed; d=1e100.net; s=20230601; t=1760633629; x=1761238429; h=cc:to:from:subject:message-id:date:x-gm-message-state:from:to:cc :subject:date:message-id:reply-to; bh=RJB/MCfgRemlLYglQfUrwN7MG78Bdi0vcNyrOgcWqks=; b=UIt5f45SXyGlI78ihhgTABnHJmfVW3LQPMgsRd60CDCB/jeLn/xzR+8BBZdFtb9awM FZ6JnF2v7nVMFu1o5g9Psft8GqwaglM/Nafdg2/oqpNa3JptAmNBNZGT3CtU7Yc6fIEC F2si/jnRENZMSDi8OB1fBbeeBh0AzuBhURhCVUUDPdnVB4gNgHtMjsx1bV/yd6V4MuR0 j5vQ3XBEZZwmfoyOBg+uQwRwrNPoTyaihwUWTw6LleG75BzZQDTD6Xmk3b4tukhhSOB9 8QgpOTHiFDVatIRDKDtXwnfsulGTbL4S8H2iPxzz8hHJdVfChgkVjGeSJjqbhWnK8pK/ zjmw== X-Gm-Message-State: AOJu0YzFY1iw0AMCGMVr/4P9RoI7VVyoZ+yKHPE9X0XiyIdbp0ao28E+ KEa1Vm02FP3WqRJiXt2eIde6XegTlB5k7EW859qZsnkHgcAjxJqjsV+HTmDQbGOE4Hoztju5ofm bwj6t2NTOwK5Pmqz57lw/6z8f2932SbAdixyNgc7NnGjD X-Gm-Gg: ASbGncsNlg2islH8uLOiHk6UV8nWZkRqJNgZ4P4cz85Bg7g1efybQ480s3pmraYumIN ItJRhilWKLAsJ3srWFb8TZ9/1kDAkhEMEJFKqlFR8zXioudgbRgqJYYzy21F5497G0vHPtn+SjJ b4JvE1Eh2HdKv1otKh9cSK7nuBxVVeTiqZItx2QwwawPK5NPvDqTGvWH/w4yLYnuh39fCPNvNks mvM81H4P4ZVvJfeQszz2HaJ1AfKO5wKYg2eEFWOcmzhnUrcMrIAxndW8m68g9xl3DUB1+n/EDwC xEBqBNaL9XWL93iJReB/Rw35JlybbdJLBo1d5M80w9b93+GwPzEBFeQqX3Y6xhx8M8dWDO6qfok Fsd2xQEBR05wNln/HsW/0h5VzBS6AJwg= X-Google-Smtp-Source: AGHT+IF+Tun3dE9PALgvqDmgRTmSe3AKRqRq5NrX/cf1/CUP72sDyQSwcntiFrmlyAKCBMS3qJaMj8G/8K2b X-Received: by 2002:a17:902:e80c:b0:290:2735:7285 with SMTP id d9443c01a7336-290cb278acamr7487585ad.47.1760633628916; Thu, 16 Oct 2025 09:53:48 -0700 (PDT) Received: from postal.iol.unh.edu (postal.iol.unh.edu. [132.177.123.84]) by smtp-relay.gmail.com with ESMTPS id d9443c01a7336-290bde0c6d4sm1544005ad.68.2025.10.16.09.53.48 (version=TLS1_2 cipher=ECDHE-ECDSA-AES128-GCM-SHA256 bits=128/128); Thu, 16 Oct 2025 09:53:48 -0700 (PDT) X-Relaying-Domain: iol.unh.edu Date: Thu, 16 Oct 2025 09:53:48 -0700 (PDT) Message-ID: <68f1231c.170a0220.25be59.6f4fSMTPIN_ADDED_MISSING@mx.google.com> Received: from [172.21.0.2] (unknown [172.18.0.240]) by postal.iol.unh.edu (Postfix) with ESMTP id 323D46051830; Thu, 16 Oct 2025 12:53:48 -0400 (EDT) Subject: |SUCCESS| [GIT MASTER] a62b0fbf8e367c88d28d78210db1b28c8eac4b1b From: dpdklab@iol.unh.edu To: Test Report Cc: dpdk-test-reports@iol.unh.edu, Chenbo Xia , Maxime Coquelin Content-Type: text/plain X-BeenThere: test-report@dpdk.org X-Mailman-Version: 2.1.29 Precedence: list List-Id: automatic DPDK test reports List-Unsubscribe: , List-Archive: List-Post: List-Help: List-Subscribe: , Errors-To: test-report-bounces@dpdk.org _Testing PASS_ Branch: dpdk-next-virtio a62b0fbf8e367c88d28d78210db1b28c8eac4b1b --> testing pass Upstream job id: Generic-DPDK-Compile-Meson#434853 Test environment and result as below: +-------------------------------+--------------------+-------------------+-------------------------+----------------------+------------------+-------------------+ | Environment | dpdk_meson_compile | dpdk_msvc_compile | dpdk_llvm_clang_compile | dpdk_mingw64_compile | dpdk_compile_ovs | dpdk_compile_spdk | +===============================+====================+===================+=========================+======================+==================+===================+ | FreeBSD 14.2 | PASS | SKIPPED | SKIPPED | SKIPPED | SKIPPED | SKIPPED | +-------------------------------+--------------------+-------------------+-------------------------+----------------------+------------------+-------------------+ | Ubuntu 20.04 | PASS | SKIPPED | SKIPPED | SKIPPED | SKIPPED | SKIPPED | +-------------------------------+--------------------+-------------------+-------------------------+----------------------+------------------+-------------------+ | Ubuntu 24.04 | PASS | SKIPPED | SKIPPED | SKIPPED | PASS | PASS | +-------------------------------+--------------------+-------------------+-------------------------+----------------------+------------------+-------------------+ | CentOS Stream 9 | PASS | SKIPPED | SKIPPED | SKIPPED | SKIPPED | PASS | +-------------------------------+--------------------+-------------------+-------------------------+----------------------+------------------+-------------------+ | CentOS Stream 10 | PASS | SKIPPED | SKIPPED | SKIPPED | SKIPPED | SKIPPED | +-------------------------------+--------------------+-------------------+-------------------------+----------------------+------------------+-------------------+ | Debian GNU/Linux 12 | PASS | SKIPPED | SKIPPED | SKIPPED | SKIPPED | PASS | +-------------------------------+--------------------+-------------------+-------------------------+----------------------+------------------+-------------------+ | Fedora Linux 42 | PASS | SKIPPED | SKIPPED | SKIPPED | PASS | PASS | +-------------------------------+--------------------+-------------------+-------------------------+----------------------+------------------+-------------------+ | openSUSE Leap 15.6 | PASS | SKIPPED | SKIPPED | SKIPPED | SKIPPED | SKIPPED | +-------------------------------+--------------------+-------------------+-------------------------+----------------------+------------------+-------------------+ | Red Hat Enterprise Linux 8.10 | PASS | SKIPPED | SKIPPED | SKIPPED | SKIPPED | SKIPPED | +-------------------------------+--------------------+-------------------+-------------------------+----------------------+------------------+-------------------+ | Red Hat Enterprise Linux 9.5 | PASS | SKIPPED | SKIPPED | SKIPPED | SKIPPED | SKIPPED | +-------------------------------+--------------------+-------------------+-------------------------+----------------------+------------------+-------------------+ | Ubuntu 22.04 | PASS | SKIPPED | SKIPPED | SKIPPED | SKIPPED | PASS | +-------------------------------+--------------------+-------------------+-------------------------+----------------------+------------------+-------------------+ | Alpine Linux 3.22.0 | PASS | SKIPPED | SKIPPED | SKIPPED | SKIPPED | SKIPPED | +-------------------------------+--------------------+-------------------+-------------------------+----------------------+------------------+-------------------+ | Windows Server 2022 | SKIPPED | PASS | PASS | PASS | SKIPPED | SKIPPED | +-------------------------------+--------------------+-------------------+-------------------------+----------------------+------------------+-------------------+ FreeBSD 14.2 Kernel: 14.2-RELEASE Compiler: clang 18.1.6 Ubuntu 20.04 Kernel: 4.19 Compiler: gcc gcc (Ubuntu 9.4.0-1ubuntu1~20.04.2) 9.4.0 Ubuntu 24.04 Kernel: 5.15 Compiler: gcc gcc (Ubuntu 13.3.0-6ubuntu2~24.04) 13.3.0 CentOS Stream 9 Kernel: 5.15 Compiler: gcc gcc (GCC) 11.5.0 20240719 (Red Hat 11.5.0-11) CentOS Stream 10 Kernel: 5.15 Compiler: gcc gcc (GCC) 14.2.1 20250110 (Red Hat 14.2.1-8) Debian GNU/Linux 12 Kernel: 5.15 Compiler: gcc gcc (Debian 12.2.0-14+deb12u1) 12.2.0 Fedora Linux 42 Kernel: 5.15 Compiler: clang gcc (GCC) 15.2.1 20250808 (Red Hat 15.2.1-1) openSUSE Leap 15.6 Kernel: 5.15 Compiler: gcc gcc (SUSE Linux) 7.5.0 Red Hat Enterprise Linux 8.10 Kernel: 5.15 Compiler: gcc gcc (GCC) 8.5.0 20210514 (Red Hat 8.5.0-22) Red Hat Enterprise Linux 9.5 Kernel: 5.15 Compiler: gcc gcc (GCC) 11.5.0 20240719 (Red Hat 11.5.0-2) Ubuntu 22.04 Kernel: 5.15 Compiler: gcc gcc (Ubuntu 11.4.0-1ubuntu1~22.04) 11.4.0 Alpine Linux 3.22.0 Kernel: 5.15 Compiler: gcc gcc (Alpine 14.2.0) 14.2.0 Windows Server 2022 Kernel: 10.0.20348.2031 Compiler: clang 15.0.7, gcc 14.1.0 (MinGW), and MSVC VS 19.39.33521 To view detailed results, visit: https://lab.dpdk.org/results/dashboard/tarballs/35230/ UNH-IOL DPDK Community Lab To manage your email subscriptions, visit: https://lab.dpdk.org/results/dashboard/preferences/subscriptions/