From mboxrd@z Thu Jan 1 00:00:00 1970 Return-Path: Received: from mails.dpdk.org (mails.dpdk.org [217.70.189.124]) by inbox.dpdk.org (Postfix) with ESMTP id 417D448957 for ; Thu, 16 Oct 2025 18:54:25 +0200 (CEST) Received: from mails.dpdk.org (localhost [127.0.0.1]) by mails.dpdk.org (Postfix) with ESMTP id 38127427AB; Thu, 16 Oct 2025 18:54:25 +0200 (CEST) Received: from mail-ot1-f100.google.com (mail-ot1-f100.google.com [209.85.210.100]) by mails.dpdk.org (Postfix) with ESMTP id B583D4026D for ; Thu, 16 Oct 2025 18:54:24 +0200 (CEST) Received: by mail-ot1-f100.google.com with SMTP id 46e09a7af769-7b4f7a855baso649370a34.3 for ; Thu, 16 Oct 2025 09:54:24 -0700 (PDT) DKIM-Signature: v=1; a=rsa-sha256; c=relaxed/relaxed; d=iol.unh.edu; s=unh-iol; t=1760633664; x=1761238464; darn=dpdk.org; h=cc:to:from:subject:message-id:date:from:to:cc:subject:date :message-id:reply-to; bh=BOzm+VE+6zzeHqRFRQMMSsXvp4ymK28pn5bdDb/RGLY=; b=YebyikSwGBshAqbRIEi1ktFkOYdD7sRuw3KRoD1kdqrbFTKVBVCxYNTXCr+5TJl/ZL xXETYq0cb692BnJ28saD2/VUmpy/HRanqIoCfOB6jqDl1oTlnSLpRhymTWKsBK/j8CHF nzH/mFrTHlN5olczIgmmZLMUidDoZlolC20f0= X-Google-DKIM-Signature: v=1; a=rsa-sha256; c=relaxed/relaxed; d=1e100.net; s=20230601; t=1760633664; x=1761238464; h=cc:to:from:subject:message-id:date:x-gm-message-state:from:to:cc :subject:date:message-id:reply-to; bh=BOzm+VE+6zzeHqRFRQMMSsXvp4ymK28pn5bdDb/RGLY=; b=UD6mlHO3x8riJIrckLpQBBKGjechYd3m452UNZXdLM/x5Idm0pU7YSvsw0RsyQO/AO 85BrU4Mr46SXoeFSj3pRxoER8AkYacTnduk7UNSToXHvSJ/yVytC8PW/JVJ/lOoKq+aU qw0UBBcnbAi/uCrjYPDWXpSxV1SBzAHY1Do5YwA6/7lVtSlJeMjhKAogZniQW7l+VVrt YADHLbO5Hw1UFFDLjom6Cbk/S40dQNaEhQow9iUpAGgZQcWwTCeuBwKbFlFamRsO95aC 8GCccbMSvOdinjA1SUK/2QSSQ73Q95d/fi6mWVuNLEewqY8ckiArtqEx3seBrFLs/+wo zOtg== X-Gm-Message-State: AOJu0YxJ3Pq+hcKhI7DsLSZMggTSdhOAB7Q8bp2EalHV994q4uivrZIy 0O2NYmAQajOZQxXVrEQqYst9eN8IZ3XMiJXrSf6tIxZU1q8CXelDbUwXxOUgSJTOTKgVhYCb6/W OOdem4S1ZW6uEW+o8+DdLj+wD+68zf6WbXBgra1r6kFYk62eI/QMS2Dec5GtB X-Gm-Gg: ASbGncvt3pq1o7R8ceBvt/3KdxIjLRtZyXb/+T3Hnd66JwJCtS14MYnpv8ijRzT/gUZ 9fVspqt6zv4ycs/yk35f+BBF6tFsqNbHj+wRj24VLmzSBX7e8lyFleexg0Z/zIioP8Axvkk/Eym Zv8wM+Ng1jbG8J4ruWCiXQBjYmJSZ3Be4QSZJ4iEmJJVCzFBbLgBHMMn3Z3+UWAwXChnM/fHUWs JXYD2PRB8n5glvPBTgmfLunnXo1cN6dlJIb1skXBp7fjJr0mMcC+nNElUXCDllFwl8zpmS0t+1/ 6zDBoHPKFXRZS3ZIm40ZjT4H8q8XaFqzh1AbuyMMwvLPV/7aqq6msdH576Sdh12p3dhWa5YOKGr m2oLDLY24 X-Google-Smtp-Source: AGHT+IEuNOGZResJWCEzP72+d+2ZGZg0ED++2Z5sxGczZtHiQhXUSA0+56JiyvGYIYdn0eyKeritCKjP2fRs X-Received: by 2002:a05:6830:6aeb:b0:745:a21c:6a57 with SMTP id 46e09a7af769-7c27cb46310mr268375a34.21.1760633663844; Thu, 16 Oct 2025 09:54:23 -0700 (PDT) Received: from postal.iol.unh.edu (postal.iol.unh.edu. [2606:4100:3880:1234::84]) by smtp-relay.gmail.com with ESMTPS id 46e09a7af769-7c0f90fe2eesm1662890a34.8.2025.10.16.09.54.23 (version=TLS1_2 cipher=ECDHE-ECDSA-AES128-GCM-SHA256 bits=128/128); Thu, 16 Oct 2025 09:54:23 -0700 (PDT) X-Relaying-Domain: iol.unh.edu Date: Thu, 16 Oct 2025 09:54:23 -0700 (PDT) Message-ID: <68f1233f.050a0220.fe632.1edbSMTPIN_ADDED_MISSING@mx.google.com> Received: from [172.21.0.2] (unknown [172.18.0.240]) by postal.iol.unh.edu (Postfix) with ESMTP id 5B89A6051830; Thu, 16 Oct 2025 12:54:23 -0400 (EDT) Subject: |WARNING| [GIT MASTER] 791cea04798a8e2de014b99c009cd25b5929000a From: dpdklab@iol.unh.edu To: Test Report Cc: dpdk-test-reports@iol.unh.edu, Stephen Hemminger Content-Type: text/plain X-BeenThere: test-report@dpdk.org X-Mailman-Version: 2.1.29 Precedence: list List-Id: automatic DPDK test reports List-Unsubscribe: , List-Archive: List-Post: List-Help: List-Subscribe: , Errors-To: test-report-bounces@dpdk.org _Testing issues_ Branch: dpdk-next-net 791cea04798a8e2de014b99c009cd25b5929000a --> testing issues Upstream job id: Generic-DPDK-Compile-Meson#434869 Test environment and result as below: +-------------------------------+-------------------------+-------------------+--------------------+----------------------+-------------------+------------------+ | Environment | dpdk_llvm_clang_compile | dpdk_msvc_compile | dpdk_meson_compile | dpdk_mingw64_compile | dpdk_compile_spdk | dpdk_compile_ovs | +===============================+=========================+===================+====================+======================+===================+==================+ | Windows Server 2022 | PASS | PASS | SKIPPED | PASS | SKIPPED | SKIPPED | +-------------------------------+-------------------------+-------------------+--------------------+----------------------+-------------------+------------------+ | FreeBSD 14.2 | SKIPPED | SKIPPED | PASS | SKIPPED | SKIPPED | SKIPPED | +-------------------------------+-------------------------+-------------------+--------------------+----------------------+-------------------+------------------+ | Ubuntu 20.04 | SKIPPED | SKIPPED | PASS | SKIPPED | SKIPPED | SKIPPED | +-------------------------------+-------------------------+-------------------+--------------------+----------------------+-------------------+------------------+ | CentOS Stream 9 | SKIPPED | SKIPPED | PASS | SKIPPED | WARN | SKIPPED | +-------------------------------+-------------------------+-------------------+--------------------+----------------------+-------------------+------------------+ | CentOS Stream 10 | SKIPPED | SKIPPED | PASS | SKIPPED | SKIPPED | SKIPPED | +-------------------------------+-------------------------+-------------------+--------------------+----------------------+-------------------+------------------+ | Debian GNU/Linux 12 | SKIPPED | SKIPPED | PASS | SKIPPED | WARN | SKIPPED | +-------------------------------+-------------------------+-------------------+--------------------+----------------------+-------------------+------------------+ | Fedora Linux 42 | SKIPPED | SKIPPED | PASS | SKIPPED | WARN | PASS | +-------------------------------+-------------------------+-------------------+--------------------+----------------------+-------------------+------------------+ | openSUSE Leap 15.6 | SKIPPED | SKIPPED | PASS | SKIPPED | SKIPPED | SKIPPED | +-------------------------------+-------------------------+-------------------+--------------------+----------------------+-------------------+------------------+ | Red Hat Enterprise Linux 8.10 | SKIPPED | SKIPPED | PASS | SKIPPED | SKIPPED | SKIPPED | +-------------------------------+-------------------------+-------------------+--------------------+----------------------+-------------------+------------------+ | Red Hat Enterprise Linux 9.5 | SKIPPED | SKIPPED | PASS | SKIPPED | SKIPPED | SKIPPED | +-------------------------------+-------------------------+-------------------+--------------------+----------------------+-------------------+------------------+ | Ubuntu 22.04 | SKIPPED | SKIPPED | PASS | SKIPPED | WARN | SKIPPED | +-------------------------------+-------------------------+-------------------+--------------------+----------------------+-------------------+------------------+ | Ubuntu 24.04 | SKIPPED | SKIPPED | PASS | SKIPPED | WARN | PASS | +-------------------------------+-------------------------+-------------------+--------------------+----------------------+-------------------+------------------+ | Alpine Linux 3.22.0 | SKIPPED | SKIPPED | PASS | SKIPPED | SKIPPED | SKIPPED | +-------------------------------+-------------------------+-------------------+--------------------+----------------------+-------------------+------------------+ ==== 20 line log output for Ubuntu 24.04 (dpdk_compile_spdk): ==== --- Failed to get log output --- ==== End log output ==== Windows Server 2022 Kernel: 10.0.20348.2031 Compiler: clang 15.0.7, gcc 14.1.0 (MinGW), and MSVC VS 19.39.33521 FreeBSD 14.2 Kernel: 14.2-RELEASE Compiler: clang 18.1.6 Ubuntu 20.04 Kernel: 4.19 Compiler: gcc gcc (Ubuntu 9.4.0-1ubuntu1~20.04.2) 9.4.0 CentOS Stream 9 Kernel: 5.15 Compiler: gcc gcc (GCC) 11.5.0 20240719 (Red Hat 11.5.0-11) CentOS Stream 10 Kernel: 5.15 Compiler: gcc gcc (GCC) 14.2.1 20250110 (Red Hat 14.2.1-8) Debian GNU/Linux 12 Kernel: 5.15 Compiler: gcc gcc (Debian 12.2.0-14+deb12u1) 12.2.0 Fedora Linux 42 Kernel: 5.15 Compiler: gcc gcc (GCC) 15.2.1 20250808 (Red Hat 15.2.1-1) openSUSE Leap 15.6 Kernel: 5.15 Compiler: gcc gcc (SUSE Linux) 7.5.0 Red Hat Enterprise Linux 8.10 Kernel: 5.15 Compiler: gcc gcc (GCC) 8.5.0 20210514 (Red Hat 8.5.0-22) Red Hat Enterprise Linux 9.5 Kernel: 5.15 Compiler: gcc gcc (GCC) 11.5.0 20240719 (Red Hat 11.5.0-2) Ubuntu 22.04 Kernel: 5.15 Compiler: gcc gcc (Ubuntu 11.4.0-1ubuntu1~22.04) 11.4.0 Ubuntu 24.04 Kernel: 5.15 Compiler: gcc gcc (Ubuntu 13.3.0-6ubuntu2~24.04) 13.3.0 Alpine Linux 3.22.0 Kernel: 5.15 Compiler: gcc gcc (Alpine 14.2.0) 14.2.0 To view detailed results, visit: https://lab.dpdk.org/results/dashboard/tarballs/35231/ UNH-IOL DPDK Community Lab To manage your email subscriptions, visit: https://lab.dpdk.org/results/dashboard/preferences/subscriptions/