From mboxrd@z Thu Jan 1 00:00:00 1970 Return-Path: Received: from mails.dpdk.org (mails.dpdk.org [217.70.189.124]) by inbox.dpdk.org (Postfix) with ESMTP id 4B5E548957 for ; Thu, 16 Oct 2025 18:54:28 +0200 (CEST) Received: from mails.dpdk.org (localhost [127.0.0.1]) by mails.dpdk.org (Postfix) with ESMTP id 46F414026D; Thu, 16 Oct 2025 18:54:28 +0200 (CEST) Received: from mail-oa1-f99.google.com (mail-oa1-f99.google.com [209.85.160.99]) by mails.dpdk.org (Postfix) with ESMTP id 31F594026D for ; Thu, 16 Oct 2025 18:54:25 +0200 (CEST) Received: by mail-oa1-f99.google.com with SMTP id 586e51a60fabf-3c9859913d0so297308fac.0 for ; Thu, 16 Oct 2025 09:54:25 -0700 (PDT) DKIM-Signature: v=1; a=rsa-sha256; c=relaxed/relaxed; d=iol.unh.edu; s=unh-iol; t=1760633664; x=1761238464; darn=dpdk.org; h=references:in-reply-to:cc:to:from:subject:message-id:date:from:to :cc:subject:date:message-id:reply-to; bh=Li1nSLC+2AgYWQj2u4MfuEdM1tFqLg+33DCanRuKHXA=; b=Trde+VblTur6ku+WCPwzWZzuSDUvYGfUjLl5B1b/4kZC2ZTNgINqruCgVIxvPeWQjo ZQ2GHG95f/lU01bcKwdiwwTWlHJmq+PwWLsIcyWSL8tsSQ0UOo2Yj66s8CxLa/NogWB4 8aZbDqrFa0trJ5PLk5GbVGZ5uoIczuKRzmiSs= X-Google-DKIM-Signature: v=1; a=rsa-sha256; c=relaxed/relaxed; d=1e100.net; s=20230601; t=1760633664; x=1761238464; h=references:in-reply-to:cc:to:from:subject:message-id:date :x-gm-message-state:from:to:cc:subject:date:message-id:reply-to; bh=Li1nSLC+2AgYWQj2u4MfuEdM1tFqLg+33DCanRuKHXA=; b=iCwthX+qb02nZBExJ0e4DusmaQtAanm0en8/nJKPiTVeHFDsyfRToh5C8CHlbkG7gF ZdncPFiW8rvJmbXiO5zwxFw4F75ELt4aA+ZSZjrVv46j1gb7/19crKMsd3YjZ9VFuzo1 pRroyUuMAOD9Zll+JDX6Yyx7amgLkOSv9ZZF2X5mIN45qVxYL0bPbcl3qNHiZ2oUnplD 5Nom1EUORgCq2F8ei51jq8pn95G4aD+NEbHnIkJds8nEpWQuCTeYt7U6B9QZpk8/ys/Y Iu1gM8HU/7uPTZTgVFCYqZkuhNapiEbGaoaJHhUdoyJfwVtQhmXMgOKJwXhypvse0+bj Q3xw== X-Gm-Message-State: AOJu0Yz/nqdKu3YDwO9GL2IuxDFeiica3o7/L4dOj0k6oKnMYhKJTdsm Rfc9rQMe6NfHcja/xJYlZ277u/pAMl3HZtxA3HTtXBTJInRIw6mRmGZSXQ5/9oIFVUabGmHuFd3 oexBAhjAWLnyFmMOynUCr9GlGH7KHet1EJyfcNGJedhkgxjWrYikwjvI12w9z X-Gm-Gg: ASbGncuf7qhuCguMqGr3dV8Gv7yZpJPB2hQUmCy5+j7iKWfXA6Tj6lznCFywFvlYZBx Sh2N3Sw0Hd9muIoBZwvIOqIO7LYXGhwGTC1Wk4IGazs0Jzg6Dxj8x/Ba4hXg9xhC+vLkBzV/BPC 1gJibt7JDV8HDaI6OYBDVBQrVKH/Lfe4IJibIWTDnRkgdgcA6Kdz+PK7+PNKQ9vTSXR782WL/S3 TDEQNCp616xXYLbl7T4DIyzvIeHIgYXRrObNDqNygyBasHWMDHLaOXR3Q1P/J+Z2NO2zGtHkvUI JOiEU+6PFX3kFpu+pDmLL0Tt132cKcnHxa98APVlmYZ4PGYO4xuU3L7Cuq7qv1HUCMUcvO6188T +3Z+BxgsJ X-Google-Smtp-Source: AGHT+IFpHvVt5FyJvmRr3khN+Wu8EPQsvbvK/WNWu1YtoqSYmud4W77e+mTVgeXQOnSbzfk+JIflWnWopVMl X-Received: by 2002:a05:6871:2b06:b0:342:6d27:2dc with SMTP id 586e51a60fabf-3c98d17cdb0mr198572fac.48.1760633664518; Thu, 16 Oct 2025 09:54:24 -0700 (PDT) Received: from postal.iol.unh.edu (postal.iol.unh.edu. [2606:4100:3880:1234::84]) by smtp-relay.gmail.com with ESMTPS id 586e51a60fabf-3c8c8b7b262sm1705987fac.6.2025.10.16.09.54.24 (version=TLS1_2 cipher=ECDHE-ECDSA-AES128-GCM-SHA256 bits=128/128); Thu, 16 Oct 2025 09:54:24 -0700 (PDT) X-Relaying-Domain: iol.unh.edu Date: Thu, 16 Oct 2025 09:54:24 -0700 (PDT) Message-ID: <68f12340.050a0220.1e6ce6.4ac8SMTPIN_ADDED_MISSING@mx.google.com> Received: from [172.21.0.4] (unknown [172.18.0.240]) by postal.iol.unh.edu (Postfix) with ESMTP id 0E50C6051830; Thu, 16 Oct 2025 12:54:24 -0400 (EDT) Subject: |SUCCESS| pw157759 [PATCH] [v2] net/zxdh: replace use of rte_memcpy From: dpdklab@iol.unh.edu To: Test Report Cc: dpdk-test-reports@iol.unh.edu, Stephen Hemminger In-Reply-To: <20251016152941.6592-1-stephen@networkplumber.org> References: <20251016152941.6592-1-stephen@networkplumber.org> Content-Type: text/plain X-BeenThere: test-report@dpdk.org X-Mailman-Version: 2.1.29 Precedence: list List-Id: automatic DPDK test reports List-Unsubscribe: , List-Archive: List-Post: List-Help: List-Subscribe: , Errors-To: test-report-bounces@dpdk.org Test-Label: iol-unit-amd64-testing Test-Status: SUCCESS http://dpdk.org/patch/157759 _Testing PASS_ Submitter: Stephen Hemminger Date: Thursday, October 16 2025 15:29:21 DPDK git baseline: Repo:dpdk-next-net Branch: master CommitID:791cea04798a8e2de014b99c009cd25b5929000a 157759 --> testing pass Upstream job id: Generic-VM-Unit-Test-DPDK#31854 Test environment and result as below: +-------------------------------+----------------+ | Environment | dpdk_unit_test | +===============================+================+ | CentOS Stream 9 | PASS | +-------------------------------+----------------+ | Debian GNU/Linux 12 | PASS | +-------------------------------+----------------+ | CentOS Stream 10 | PASS | +-------------------------------+----------------+ | Fedora Linux 41 | PASS | +-------------------------------+----------------+ | Fedora Linux 40 | PASS | +-------------------------------+----------------+ | Red Hat Enterprise Linux 8.10 | PASS | +-------------------------------+----------------+ | Fedora Linux 42 | PASS | +-------------------------------+----------------+ | Ubuntu 20.04 | PASS | +-------------------------------+----------------+ | Red Hat Enterprise Linux 9.5 | PASS | +-------------------------------+----------------+ | Ubuntu 22.04 | PASS | +-------------------------------+----------------+ | Ubuntu 24.04 | PASS | +-------------------------------+----------------+ | Windows Server 2022 | PASS | +-------------------------------+----------------+ CentOS Stream 9 Kernel: 5.15 Compiler: gcc gcc (GCC) 11.5.0 20240719 (Red Hat 11.5.0-11) Debian GNU/Linux 12 Kernel: 5.15 Compiler: gcc gcc (Debian 12.2.0-14+deb12u1) 12.2.0 CentOS Stream 10 Kernel: 5.15 Compiler: gcc gcc (GCC) 14.2.1 20250110 (Red Hat 14.2.1-8) Fedora Linux 41 Kernel: 5.15 Compiler: gcc gcc (GCC) 14.3.1 20250523 (Red Hat 14.3.1-1) Fedora Linux 40 Kernel: 5.15 Compiler: gcc gcc (GCC) 14.2.1 20240912 (Red Hat 14.2.1-3) Red Hat Enterprise Linux 8.10 Kernel: 5.15 Compiler: gcc gcc (GCC) 8.5.0 20210514 (Red Hat 8.5.0-22) Fedora Linux 42 Kernel: 5.15 Compiler: gcc gcc (GCC) 15.2.1 20250808 (Red Hat 15.2.1-1) Ubuntu 20.04 Kernel: 5.15 Compiler: gcc gcc (Ubuntu 9.4.0-1ubuntu1~20.04.2) 9.4.0 Red Hat Enterprise Linux 9.5 Kernel: 5.15 Compiler: gcc gcc (GCC) 11.5.0 20240719 (Red Hat 11.5.0-2) Ubuntu 22.04 Kernel: 5.15 Compiler: gcc gcc (Ubuntu 11.4.0-1ubuntu1~22.04) 11.4.0 Ubuntu 24.04 Kernel: 5.15 Compiler: gcc gcc (Ubuntu 13.3.0-6ubuntu2~24.04) 13.3.0 Windows Server 2022 Kernel: 10.0.20348.2031 Compiler: clang 15.0.7, gcc 14.1.0 (MinGW), and MSVC VS 19.39.33521 To view detailed results, visit: https://lab.dpdk.org/results/dashboard/patchsets/34302/ UNH-IOL DPDK Community Lab To manage your email subscriptions, visit: https://lab.dpdk.org/results/dashboard/preferences/subscriptions/