From mboxrd@z Thu Jan 1 00:00:00 1970 Return-Path: Received: from mails.dpdk.org (mails.dpdk.org [217.70.189.124]) by inbox.dpdk.org (Postfix) with ESMTP id 80E6D48957 for ; Thu, 16 Oct 2025 18:56:16 +0200 (CEST) Received: from mails.dpdk.org (localhost [127.0.0.1]) by mails.dpdk.org (Postfix) with ESMTP id 6F8254026D; Thu, 16 Oct 2025 18:56:16 +0200 (CEST) Received: from mail-io1-f99.google.com (mail-io1-f99.google.com [209.85.166.99]) by mails.dpdk.org (Postfix) with ESMTP id AFE304026D for ; Thu, 16 Oct 2025 18:56:15 +0200 (CEST) Received: by mail-io1-f99.google.com with SMTP id ca18e2360f4ac-93e3614d592so80232039f.3 for ; Thu, 16 Oct 2025 09:56:15 -0700 (PDT) DKIM-Signature: v=1; a=rsa-sha256; c=relaxed/relaxed; d=iol.unh.edu; s=unh-iol; t=1760633775; x=1761238575; darn=dpdk.org; h=references:in-reply-to:cc:to:from:subject:message-id:date:from:to :cc:subject:date:message-id:reply-to; bh=TSzrF41ziuEIjLyBrqI0ToYhf4bjZkx2eghvQeO1TNY=; b=fZkmj54IJY3O9yAJGs0LyEVyb2KZGwkQ/gWWRd7xLsLiGSc6kTPBJ/7HrwakqX+Q/v eUABlhj1rKp36wsNcORqh+Hcc35WQrI5hphHfwPhF5ahldoOZrm+lFj4/93wPnoHmoXy b9E/ArOVccWRT9xK3mSaHhAgA6SZiaofGA/XQ= X-Google-DKIM-Signature: v=1; a=rsa-sha256; c=relaxed/relaxed; d=1e100.net; s=20230601; t=1760633775; x=1761238575; h=references:in-reply-to:cc:to:from:subject:message-id:date :x-gm-message-state:from:to:cc:subject:date:message-id:reply-to; bh=TSzrF41ziuEIjLyBrqI0ToYhf4bjZkx2eghvQeO1TNY=; b=k1z2UTK4JtlQDaJ7c7GF7JJys264PR8S9D6dVFdBDp0BQS+XGwnFHPyAd4i6uwPQsB bzwySNURwli4yJr+Wwlva0XG1JgMnm3SmAtS/G8vFIjaI7daAnaTy3LQnXcy8H2nmu13 2f7A7rEolkeKnx4tttNG/SUoeYN40r0P45uSMdeMOK1b5/3oJ8WdPrJRmO4xc93KgNnk s0L6emAalMwrz6JYdhn9voFobuBGrC6jejRv7wY8wCORk1jnDj27xvMNls8OP1rwYmvs Zx84po75D8FvF2UD9591L5Ueaup0FC3odSq+qMj0jjVr+wJ/2qqQpi/RnCoAujeG2/cy sLEg== X-Gm-Message-State: AOJu0YyclX3zojC9mkbjBlg6MBcm0cnu3ILXfQFKF4R7FnjqdAKSTEAa HbpEZ1ChP1S67zTutmHJIIqEi4k24rPPAGjhFFTQuqCsLZqzuvLlckC5aVhMglgfbGYpGFPJjWA o75FMWegjV23wBWo4zfPSKIxXkd6N54bC9RxpX10x7xjp X-Gm-Gg: ASbGncvkhg0qoBTQrjzAv72M1xX565D1+nUrDUsC+ivY18MN+HZvPg1UH0QcCIwlqCR MRZivQ8sZANGlB75a3xWHwX91fuIVnAuQKekyWaZI+JAagcIyoIAE52pFShKiR6FrONHuPfNQ4T ijoFk3MAGI0kExFRfStg+W5EoThikelAdBooNLiFTHxhVnnWX2Q7uOKPTL/ey396jbV2ZFlFy5k keopoqwxlR8VW1ORqPL/GADbxf+u42fDt8wSHeJyC/lJQdR2CgmTXkse/o0mspavd/fQkVAbnLC lQM5s+GSeXh59/7Supe81vlqSqRc1fWljU03mIsyAs8r3l0cJRFDmYQJsado0jeIuYNev34B+Ps V6eqh+EpoQpcCcxYtoi5Kg1rMBmsnky4= X-Google-Smtp-Source: AGHT+IH9valMm7CBNQXjq2NcwAEZINebEhAv+og3Jyc61uLSu7O1T/55YjCzoP6WpXtw1NxJ0yAP4aNFT9aO X-Received: by 2002:a05:6e02:1947:b0:430:9f96:23bb with SMTP id e9e14a558f8ab-430c522319amr12468735ab.8.1760633774847; Thu, 16 Oct 2025 09:56:14 -0700 (PDT) Received: from postal.iol.unh.edu (postal.iol.unh.edu. [132.177.123.84]) by smtp-relay.gmail.com with ESMTPS id e9e14a558f8ab-430c2b1469bsm1296305ab.15.2025.10.16.09.56.14 (version=TLS1_2 cipher=ECDHE-ECDSA-AES128-GCM-SHA256 bits=128/128); Thu, 16 Oct 2025 09:56:14 -0700 (PDT) X-Relaying-Domain: iol.unh.edu Date: Thu, 16 Oct 2025 09:56:14 -0700 (PDT) Message-ID: <68f123ae.050a0220.3aefee.5c64SMTPIN_ADDED_MISSING@mx.google.com> Received: from [172.21.0.2] (unknown [172.18.0.240]) by postal.iol.unh.edu (Postfix) with ESMTP id 606B16051830; Thu, 16 Oct 2025 12:56:14 -0400 (EDT) Subject: |SUCCESS| pw157759 [PATCH] [v2] net/zxdh: replace use of rte_memcpy From: dpdklab@iol.unh.edu To: Test Report Cc: dpdk-test-reports@iol.unh.edu, Stephen Hemminger In-Reply-To: <20251016152941.6592-1-stephen@networkplumber.org> References: <20251016152941.6592-1-stephen@networkplumber.org> Content-Type: text/plain X-BeenThere: test-report@dpdk.org X-Mailman-Version: 2.1.29 Precedence: list List-Id: automatic DPDK test reports List-Unsubscribe: , List-Archive: List-Post: List-Help: List-Subscribe: , Errors-To: test-report-bounces@dpdk.org Test-Label: iol-compile-amd64-testing Test-Status: SUCCESS http://dpdk.org/patch/157759 _Testing PASS_ Submitter: Stephen Hemminger Date: Thursday, October 16 2025 15:29:21 DPDK git baseline: Repo:dpdk-next-net Branch: master CommitID:791cea04798a8e2de014b99c009cd25b5929000a 157759 --> testing pass Upstream job id: Windows-Compile-DPDK-Native#31684 Test environment and result as below: +---------------------+--------------------+-------------------------+-------------------+----------------------+ | Environment | dpdk_meson_compile | dpdk_llvm_clang_compile | dpdk_msvc_compile | dpdk_mingw64_compile | +=====================+====================+=========================+===================+======================+ | Ubuntu 20.04 | PASS | SKIPPED | SKIPPED | SKIPPED | +---------------------+--------------------+-------------------------+-------------------+----------------------+ | FreeBSD 14.2 | PASS | SKIPPED | SKIPPED | SKIPPED | +---------------------+--------------------+-------------------------+-------------------+----------------------+ | Windows Server 2022 | SKIPPED | PASS | PASS | PASS | +---------------------+--------------------+-------------------------+-------------------+----------------------+ Ubuntu 20.04 Kernel: 4.19 Compiler: gcc gcc (Ubuntu 9.4.0-1ubuntu1~20.04.2) 9.4.0 FreeBSD 14.2 Kernel: 14.2-RELEASE Compiler: clang 18.1.6 Windows Server 2022 Kernel: 10.0.20348.2031 Compiler: clang 15.0.7, gcc 14.1.0 (MinGW), and MSVC VS 19.39.33521 To view detailed results, visit: https://lab.dpdk.org/results/dashboard/patchsets/34302/ UNH-IOL DPDK Community Lab To manage your email subscriptions, visit: https://lab.dpdk.org/results/dashboard/preferences/subscriptions/