From mboxrd@z Thu Jan 1 00:00:00 1970 Return-Path: Received: from mails.dpdk.org (mails.dpdk.org [217.70.189.124]) by inbox.dpdk.org (Postfix) with ESMTP id D13EF48957 for ; Thu, 16 Oct 2025 18:59:19 +0200 (CEST) Received: from mails.dpdk.org (localhost [127.0.0.1]) by mails.dpdk.org (Postfix) with ESMTP id B015F4026D; Thu, 16 Oct 2025 18:59:19 +0200 (CEST) Received: from mail-io1-f99.google.com (mail-io1-f99.google.com [209.85.166.99]) by mails.dpdk.org (Postfix) with ESMTP id 954444026D for ; Thu, 16 Oct 2025 18:59:18 +0200 (CEST) Received: by mail-io1-f99.google.com with SMTP id ca18e2360f4ac-93bccd4901aso78910039f.2 for ; Thu, 16 Oct 2025 09:59:18 -0700 (PDT) DKIM-Signature: v=1; a=rsa-sha256; c=relaxed/relaxed; d=iol.unh.edu; s=unh-iol; t=1760633958; x=1761238758; darn=dpdk.org; h=references:in-reply-to:cc:to:from:subject:message-id:date:from:to :cc:subject:date:message-id:reply-to; bh=aH0aHraTesS/Os22R550zGy4BGT+odHOy/SoKhHrWVs=; b=K226UZzpU7LVRDIh7lWomSwGfJ4wXzJ2dJX+Yd8i2e6VrBbxAfbAbxLtgYVWdLmhQx B6jBkrnu6yb/haXxR4Yd+iPjHPGaQSAfBvchxuD5TW5mWWJZXxnOxCnAELGQap4Ji/9x vzltjqUOxOWx8I2RJ8HHAHgTvwCTA71zRKvxw= X-Google-DKIM-Signature: v=1; a=rsa-sha256; c=relaxed/relaxed; d=1e100.net; s=20230601; t=1760633958; x=1761238758; h=references:in-reply-to:cc:to:from:subject:message-id:date :x-gm-message-state:from:to:cc:subject:date:message-id:reply-to; bh=aH0aHraTesS/Os22R550zGy4BGT+odHOy/SoKhHrWVs=; b=rMrFLmXoBYhWKRd3dLHgJ3y1i+sUK44S+Mi2XyGrfuao1+pZ3iHYBZtxfnAAPdec7p V+DuvCuTfFzK+fbQLhUQ6TC9OKjfpTPENK9KJdzvlruHw2S+H5xmOuwx7EmESDTkffha OfToHmx2fWCeg0mn0JqhgABNGcAjT6eOpPkk+mc5O4wMAZ0rX925LXfpR9dsmJUcC4rB LFLSKMV0+eTPmPIpsoURtZP4Sk9mHgHb9WFRrMsA+t5SAPimHY6EOZjK9T3jzvk6cH0J 8MQLCqN2c9yHxz/jeNfdMhqaFTLwUHzA7uIYrTaXHkUoiDrcnr5kktPr9mXnfs5qZ7en 1m/g== X-Gm-Message-State: AOJu0YzdqEk5gXKVX33WReGGIY+MF3WU5AqpCS4RTXYgJ3vJV5R3Qqa/ RbA/jStIwxc8zCT33HoPk6LgeWT8cha/Aopl8s5scw2jzE+hJXwlVtDScJMzxNlgq2w2zfbQv9h TiC1p1GYS6+7US8+qDIbRSsQkxwZWAspfhCmllLEBOYn2nrnS3J9/udo3o4JE X-Gm-Gg: ASbGncv75oipbbNT6N5czXfoBDUpIhAs5GT53FCMpBFD09TR2szXGfpdqVSZGU8XOUN 1nORFqiW2CO1x3nEKMoApaVQvkWq3d5UWJXNqw5ZLI4kGJTO5dJcdH0OWM5JAtIz70DJOMzlIdB DnQ2ECr28mpHimCfbsQMam/DxBwbDp+XshknTgnl8dCyKYhW9ywDB+uwy4eSJAulNUQ98zkOgTM lH7HfkI2schLgUX0NJHGI4LIFnjFV+gq0WMv5aHVPLzqZYqreZswsgGgGbwVBI0L55IAcRlx49b znphj3MBRGgZNzZlzcaTx5OK4PxI7sqYJkRt3UnyNIpMWQRbZBsVxfUE1lIDClyXDKUCaEfUIAr W2RP4esNR X-Google-Smtp-Source: AGHT+IGyS0qlH03nEvyzdbz3Wf73vqCsZQqJNnSD1mZuIqZF9VezN+4mczkkF4hLFWGgiPXR0Bu4v7Cl4Q7g X-Received: by 2002:a05:6e02:156c:b0:42f:8b0f:bad2 with SMTP id e9e14a558f8ab-430c524715bmr16250605ab.10.1760633957768; Thu, 16 Oct 2025 09:59:17 -0700 (PDT) Received: from postal.iol.unh.edu (postal.iol.unh.edu. [2606:4100:3880:1234::84]) by smtp-relay.gmail.com with ESMTPS id e9e14a558f8ab-430bf3c5323sm1728385ab.31.2025.10.16.09.59.17 (version=TLS1_2 cipher=ECDHE-ECDSA-AES128-GCM-SHA256 bits=128/128); Thu, 16 Oct 2025 09:59:17 -0700 (PDT) X-Relaying-Domain: iol.unh.edu Date: Thu, 16 Oct 2025 09:59:17 -0700 (PDT) Message-ID: <68f12465.050a0220.165246.7aabSMTPIN_ADDED_MISSING@mx.google.com> Received: from [172.21.0.3] (unknown [172.18.0.240]) by postal.iol.unh.edu (Postfix) with ESMTP id 42B6B6051830; Thu, 16 Oct 2025 12:59:17 -0400 (EDT) Subject: |SUCCESS| pw157759 [PATCH] [v2] net/zxdh: replace use of rte_memcpy From: dpdklab@iol.unh.edu To: Test Report Cc: dpdk-test-reports@iol.unh.edu, Stephen Hemminger In-Reply-To: <20251016152941.6592-1-stephen@networkplumber.org> References: <20251016152941.6592-1-stephen@networkplumber.org> Content-Type: text/plain X-BeenThere: test-report@dpdk.org X-Mailman-Version: 2.1.29 Precedence: list List-Id: automatic DPDK test reports List-Unsubscribe: , List-Archive: List-Post: List-Help: List-Subscribe: , Errors-To: test-report-bounces@dpdk.org Test-Label: iol-unit-amd64-testing Test-Status: SUCCESS http://dpdk.org/patch/157759 _Testing PASS_ Submitter: Stephen Hemminger Date: Thursday, October 16 2025 15:29:21 DPDK git baseline: Repo:dpdk-next-net Branch: master CommitID:791cea04798a8e2de014b99c009cd25b5929000a 157759 --> testing pass Upstream job id: Generic-VM-Unit-Test-DPDK#31855 Test environment and result as below: +-------------------------------+----------------+ | Environment | dpdk_unit_test | +===============================+================+ | CentOS Stream 9 | PASS | +-------------------------------+----------------+ | Debian GNU/Linux 12 | PASS | +-------------------------------+----------------+ | CentOS Stream 10 | PASS | +-------------------------------+----------------+ | Fedora Linux 41 | PASS | +-------------------------------+----------------+ | Fedora Linux 40 | PASS | +-------------------------------+----------------+ | Red Hat Enterprise Linux 8.10 | PASS | +-------------------------------+----------------+ | Fedora Linux 42 | PASS | +-------------------------------+----------------+ | Ubuntu 20.04 | PASS | +-------------------------------+----------------+ | Red Hat Enterprise Linux 9.5 | PASS | +-------------------------------+----------------+ | Ubuntu 22.04 | PASS | +-------------------------------+----------------+ | Ubuntu 24.04 | PASS | +-------------------------------+----------------+ | Windows Server 2022 | PASS | +-------------------------------+----------------+ CentOS Stream 9 Kernel: 5.15 Compiler: gcc gcc (GCC) 11.5.0 20240719 (Red Hat 11.5.0-11) Debian GNU/Linux 12 Kernel: 5.15 Compiler: gcc gcc (Debian 12.2.0-14+deb12u1) 12.2.0 CentOS Stream 10 Kernel: 5.15 Compiler: gcc gcc (GCC) 14.2.1 20250110 (Red Hat 14.2.1-8) Fedora Linux 41 Kernel: 5.15 Compiler: gcc gcc (GCC) 14.3.1 20250523 (Red Hat 14.3.1-1) Fedora Linux 40 Kernel: 5.15 Compiler: gcc gcc (GCC) 14.2.1 20240912 (Red Hat 14.2.1-3) Red Hat Enterprise Linux 8.10 Kernel: 5.15 Compiler: gcc gcc (GCC) 8.5.0 20210514 (Red Hat 8.5.0-22) Fedora Linux 42 Kernel: 5.15 Compiler: gcc gcc (GCC) 15.2.1 20250808 (Red Hat 15.2.1-1) Ubuntu 20.04 Kernel: 5.15 Compiler: gcc gcc (Ubuntu 9.4.0-1ubuntu1~20.04.2) 9.4.0 Red Hat Enterprise Linux 9.5 Kernel: 5.15 Compiler: gcc gcc (GCC) 11.5.0 20240719 (Red Hat 11.5.0-2) Ubuntu 22.04 Kernel: 5.15 Compiler: gcc gcc (Ubuntu 11.4.0-1ubuntu1~22.04) 11.4.0 Ubuntu 24.04 Kernel: 5.15 Compiler: gcc gcc (Ubuntu 13.3.0-6ubuntu2~24.04) 13.3.0 Windows Server 2022 Kernel: 10.0.20348.2031 Compiler: clang 15.0.7, gcc 14.1.0 (MinGW), and MSVC VS 19.39.33521 To view detailed results, visit: https://lab.dpdk.org/results/dashboard/patchsets/34302/ UNH-IOL DPDK Community Lab To manage your email subscriptions, visit: https://lab.dpdk.org/results/dashboard/preferences/subscriptions/