From mboxrd@z Thu Jan 1 00:00:00 1970 Return-Path: Received: from mails.dpdk.org (mails.dpdk.org [217.70.189.124]) by inbox.dpdk.org (Postfix) with ESMTP id AE4B848957 for ; Thu, 16 Oct 2025 19:08:05 +0200 (CEST) Received: from mails.dpdk.org (localhost [127.0.0.1]) by mails.dpdk.org (Postfix) with ESMTP id A6FE94026D; Thu, 16 Oct 2025 19:08:05 +0200 (CEST) Received: from mail-vk1-f228.google.com (mail-vk1-f228.google.com [209.85.221.228]) by mails.dpdk.org (Postfix) with ESMTP id 156A34026D for ; Thu, 16 Oct 2025 19:08:04 +0200 (CEST) Received: by mail-vk1-f228.google.com with SMTP id 71dfb90a1353d-54b21395093so616516e0c.0 for ; Thu, 16 Oct 2025 10:08:04 -0700 (PDT) DKIM-Signature: v=1; a=rsa-sha256; c=relaxed/relaxed; d=iol.unh.edu; s=unh-iol; t=1760634483; x=1761239283; darn=dpdk.org; h=references:in-reply-to:cc:to:from:subject:message-id:date:from:to :cc:subject:date:message-id:reply-to; bh=21+9JDXRE470vjvcHNz/G2WK5ByOFQsKjZHtBmh/YX4=; b=FRLh804HjjplxGNOAYQPiz1Ffu2Su0BknoAcu4ArMmQs3MhfmR7IrDysCBvT7kgIPd owOhhDg1jQdw6unwraN15AH1VYw3+i3cPzhy6bWfq11VYPqO+bfGWv7qzFLxqd505BTD 3sRQB8tt4u71EUM5/Pq2wsoY2G8dYGhgAHQqU= X-Google-DKIM-Signature: v=1; a=rsa-sha256; c=relaxed/relaxed; d=1e100.net; s=20230601; t=1760634483; x=1761239283; h=references:in-reply-to:cc:to:from:subject:message-id:date :x-gm-message-state:from:to:cc:subject:date:message-id:reply-to; bh=21+9JDXRE470vjvcHNz/G2WK5ByOFQsKjZHtBmh/YX4=; b=g9hv533WLGFTvZMffZeABdlgdTgUjVlesv13H0XbriW3SZAy7gmIpAqjdcleiWk4Ft JrsOG6j2eEvuaGgGAk857YoF29St5xiDbUHFahE9zdSn9QEKC7vKhR6Adpx3NuXunC6c KqSvd11ZOp+bNKiDHvrDEQApgCWJpEqZShO5+czNZqq1/1sSaJ2aDEwcncExiNNkIWyl HLqBCBkdj9s8WelXkmuk4kyVerRe7mlutSXs5oH+GdDSEorZEVLoqrWxJ+GkJJdluijI OrSc1nsxpAt1IYBiNqqiBCYxG2eRW7sHkfZJdTOHtvA/RKUupl2wn2yGZbrPtnsDSxII Ob9w== X-Gm-Message-State: AOJu0YzYC0ID8ZWLBL7g41qjbzdOkxyqhir4jm3W3mFUrG3JKHzJ8Hty DENYsIV7EtQNHVh7boisAent94z+15ExKpTGhgYFYBaV1aLPqWhbV6YkFWJ3103yYDlzxn0lCSR lfK9myOtTWO7vEFcwetkPiCw7fr1E7i7ZG9bp8jRieloP X-Gm-Gg: ASbGncuHwkmCCsHDTp9luZulzgRXXM2eI8HKGCpRAJCN4JjijKhZFr7KHaQsOwaWQdB h34CQq9j/3BljUit++Hpl08hBFEywgl6IpCJC1amEk58tTtgby5d+PlAbIutExx3rixXw8gLGoC 3WlMvF2VyolsD5Xwfh1qGeItXf513hrmNaU64Okqtf7kaggbWzNnl0Uhq8USrf2vUJiRg/w0VRS pRK/nyvJe8ltctPIZWVXPtdkDXGXG0Uf3GzqXb6sGMFOCkRByIjXB/qEtVnNe+YQ6YX3I16rq0V 67MPmevvfA5sxvaUShDAchvrFImCVA36C8lM426fCVgN7EHpUWTjq81Tt1wj0wQp9dLm+qL76Ag /gqmmgIUc4AZPVdn9+B137rnKeOZFvQk= X-Google-Smtp-Source: AGHT+IE16KLARY6bJaNXuNmgOm5ZOfpBHuye7FpgUFNWSAndlDCsCt8bqtCXse1s3Ce1vfCSWdy5wneQQ9dl X-Received: by 2002:a05:6122:e41:b0:554:e726:7818 with SMTP id 71dfb90a1353d-55640026ea1mr1408955e0c.2.1760634483423; Thu, 16 Oct 2025 10:08:03 -0700 (PDT) Received: from postal.iol.unh.edu (postal.iol.unh.edu. [132.177.123.84]) by smtp-relay.gmail.com with ESMTPS id 6a1803df08f44-87c0129f706sm5161416d6.27.2025.10.16.10.08.03 (version=TLS1_2 cipher=ECDHE-ECDSA-AES128-GCM-SHA256 bits=128/128); Thu, 16 Oct 2025 10:08:03 -0700 (PDT) X-Relaying-Domain: iol.unh.edu Date: Thu, 16 Oct 2025 10:08:03 -0700 (PDT) Message-ID: <68f12673.050a0220.24d8ed.a266SMTPIN_ADDED_MISSING@mx.google.com> Received: from [172.21.0.2] (unknown [172.18.0.240]) by postal.iol.unh.edu (Postfix) with ESMTP id 198ED6051830; Thu, 16 Oct 2025 13:08:03 -0400 (EDT) Subject: |WARNING| pw157714 [PATCH] config/arm: fix inconsistency for Neovers From: dpdklab@iol.unh.edu To: Test Report Cc: dpdk-test-reports@iol.unh.edu In-Reply-To: <20251016080533.535266-1-thierry.herbelot@6wind.com> References: <20251016080533.535266-1-thierry.herbelot@6wind.com> Content-Type: text/plain X-BeenThere: test-report@dpdk.org X-Mailman-Version: 2.1.29 Precedence: list List-Id: automatic DPDK test reports List-Unsubscribe: , List-Archive: List-Post: List-Help: List-Subscribe: , Errors-To: test-report-bounces@dpdk.org Test-Label: iol-compile-amd64-testing Test-Status: WARNING http://dpdk.org/patch/157714 _Testing issues_ Submitter: Thierry Herbelot Date: Thursday, October 16 2025 08:05:33 DPDK git baseline: Repo:dpdk Branch: master CommitID:16f4c522003dcfecf23c8d38e009b95a3bbefd03 157714 --> testing issues Upstream job id: Generic-DPDK-Compile-Meson#434899 Test environment and result as below: +-------------------------------+--------------------+-------------------+-------------------------+----------------------+-------------------+------------------+ | Environment | dpdk_meson_compile | dpdk_msvc_compile | dpdk_llvm_clang_compile | dpdk_mingw64_compile | dpdk_compile_spdk | dpdk_compile_ovs | +===============================+====================+===================+=========================+======================+===================+==================+ | FreeBSD 14.2 | PASS | SKIPPED | SKIPPED | SKIPPED | SKIPPED | SKIPPED | +-------------------------------+--------------------+-------------------+-------------------------+----------------------+-------------------+------------------+ | Ubuntu 20.04 | PASS | SKIPPED | SKIPPED | SKIPPED | SKIPPED | SKIPPED | +-------------------------------+--------------------+-------------------+-------------------------+----------------------+-------------------+------------------+ | CentOS Stream 9 | PASS | SKIPPED | SKIPPED | SKIPPED | WARN | SKIPPED | +-------------------------------+--------------------+-------------------+-------------------------+----------------------+-------------------+------------------+ | CentOS Stream 10 | PASS | SKIPPED | SKIPPED | SKIPPED | SKIPPED | SKIPPED | +-------------------------------+--------------------+-------------------+-------------------------+----------------------+-------------------+------------------+ | Debian GNU/Linux 12 | PASS | SKIPPED | SKIPPED | SKIPPED | WARN | SKIPPED | +-------------------------------+--------------------+-------------------+-------------------------+----------------------+-------------------+------------------+ | Fedora Linux 42 | PASS | SKIPPED | SKIPPED | SKIPPED | WARN | PASS | +-------------------------------+--------------------+-------------------+-------------------------+----------------------+-------------------+------------------+ | openSUSE Leap 15.6 | PASS | SKIPPED | SKIPPED | SKIPPED | SKIPPED | SKIPPED | +-------------------------------+--------------------+-------------------+-------------------------+----------------------+-------------------+------------------+ | Red Hat Enterprise Linux 8.10 | PASS | SKIPPED | SKIPPED | SKIPPED | SKIPPED | SKIPPED | +-------------------------------+--------------------+-------------------+-------------------------+----------------------+-------------------+------------------+ | Red Hat Enterprise Linux 9.5 | PASS | SKIPPED | SKIPPED | SKIPPED | SKIPPED | SKIPPED | +-------------------------------+--------------------+-------------------+-------------------------+----------------------+-------------------+------------------+ | Ubuntu 22.04 | PASS | SKIPPED | SKIPPED | SKIPPED | WARN | SKIPPED | +-------------------------------+--------------------+-------------------+-------------------------+----------------------+-------------------+------------------+ | Windows Server 2022 | SKIPPED | PASS | PASS | PASS | SKIPPED | SKIPPED | +-------------------------------+--------------------+-------------------+-------------------------+----------------------+-------------------+------------------+ ==== 20 line log output for Ubuntu 22.04 (dpdk_compile_spdk): ==== --- Failed to get log output --- ==== End log output ==== FreeBSD 14.2 Kernel: 14.2-RELEASE Compiler: clang 18.1.6 Ubuntu 20.04 Kernel: 4.19 Compiler: gcc gcc (Ubuntu 9.4.0-1ubuntu1~20.04.2) 9.4.0 CentOS Stream 9 Kernel: 5.15 Compiler: gcc gcc (GCC) 11.5.0 20240719 (Red Hat 11.5.0-11) CentOS Stream 10 Kernel: 5.15 Compiler: gcc gcc (GCC) 14.2.1 20250110 (Red Hat 14.2.1-8) Debian GNU/Linux 12 Kernel: 5.15 Compiler: gcc gcc (Debian 12.2.0-14+deb12u1) 12.2.0 Fedora Linux 42 Kernel: 5.15 Compiler: clang gcc (GCC) 15.2.1 20250808 (Red Hat 15.2.1-1) openSUSE Leap 15.6 Kernel: 5.15 Compiler: gcc gcc (SUSE Linux) 7.5.0 Red Hat Enterprise Linux 8.10 Kernel: 5.15 Compiler: gcc gcc (GCC) 8.5.0 20210514 (Red Hat 8.5.0-22) Red Hat Enterprise Linux 9.5 Kernel: 5.15 Compiler: gcc gcc (GCC) 11.5.0 20240719 (Red Hat 11.5.0-2) Ubuntu 22.04 Kernel: 5.15 Compiler: gcc gcc (Ubuntu 11.4.0-1ubuntu1~22.04) 11.4.0 Windows Server 2022 Kernel: 10.0.20348.2031 Compiler: clang 15.0.7, gcc 14.1.0 (MinGW), and MSVC VS 19.39.33521 To view detailed results, visit: https://lab.dpdk.org/results/dashboard/patchsets/34294/ UNH-IOL DPDK Community Lab To manage your email subscriptions, visit: https://lab.dpdk.org/results/dashboard/preferences/subscriptions/