From mboxrd@z Thu Jan 1 00:00:00 1970 Return-Path: Received: from mails.dpdk.org (mails.dpdk.org [217.70.189.124]) by inbox.dpdk.org (Postfix) with ESMTP id 778A448957 for ; Thu, 16 Oct 2025 19:55:35 +0200 (CEST) Received: from mails.dpdk.org (localhost [127.0.0.1]) by mails.dpdk.org (Postfix) with ESMTP id 350644026D; Thu, 16 Oct 2025 19:55:35 +0200 (CEST) Received: from mail-il1-f225.google.com (mail-il1-f225.google.com [209.85.166.225]) by mails.dpdk.org (Postfix) with ESMTP id 492A54026D for ; Thu, 16 Oct 2025 19:55:34 +0200 (CEST) Received: by mail-il1-f225.google.com with SMTP id e9e14a558f8ab-430af8922bfso4377475ab.2 for ; Thu, 16 Oct 2025 10:55:34 -0700 (PDT) DKIM-Signature: v=1; a=rsa-sha256; c=relaxed/relaxed; d=iol.unh.edu; s=unh-iol; t=1760637333; x=1761242133; darn=dpdk.org; h=references:in-reply-to:cc:to:from:subject:message-id:date:from:to :cc:subject:date:message-id:reply-to; bh=aspQOBA2RpuR0nV7Bpuiq4eg97wy5ytDyxpBtQjH+LQ=; b=g7+uV5+7RZZelsHB35Vikm5sbnVDa4JxiDiPRitqUm2t7OSO2hbksgdQkstJ8WMkA7 AG57fUhfn7hOP7ynvmcMNVbEYbWPGSB9azMMCXXXCIVlsUXwzQS501wZNWTJltYQuYtL /wgK51idvy/eQXM48ygoUKTGr++YQSBqTupv0= X-Google-DKIM-Signature: v=1; a=rsa-sha256; c=relaxed/relaxed; d=1e100.net; s=20230601; t=1760637333; x=1761242133; h=references:in-reply-to:cc:to:from:subject:message-id:date :x-gm-message-state:from:to:cc:subject:date:message-id:reply-to; bh=aspQOBA2RpuR0nV7Bpuiq4eg97wy5ytDyxpBtQjH+LQ=; b=HzsGZhzSrwZhcDqiN2z5XOdzmF+74QhncqpTX+liQTWfLuWoWoI0AuW9bffGmRsghM HDs/ExSE9QJ+GVVa3xfys8cEr2UYObmlc6VZtKmZ59m7NfWwIKQKJdDl58ss3TpJG16J 4WjbdIV0QlJ/fzxBp+ROHxJp9HjtOUiqSl6ZXRsYqLk9SO3gZVIt0yjT7Swfjq9hagKD avLtv+HaMwoGQdQDOrL25ZconrAxyof88LKMtJgbhgcAyteSn7jyvEbBhtQl0H5O1E4g StDNdGzFLFJ1xfqnzF871FrEzvEP1WJQww6vzqQJRQVbcBHxU2EesXqsViWw8BwQCAJq eW6g== X-Gm-Message-State: AOJu0YwpxvljW3wMgmMabBjLeO+Cd3jAXRtwoxgTstf17tNseJoh4dwY gaCuDGIbRpP5E+onIJ6AvZE4g3CVrVFYdkPckjK0IlFRhtSMfaP6QBrquKgJ5a8OrVTPyPMiLOh 2OUyCJU/UzHm+fdIp1OLzw939JDHUR5xCAWiB+zsly8lsL5RA4nCuRc6MOKnd X-Gm-Gg: ASbGncunRxAUU4nApMJPzOuHmQ4NXi+L9v04R7Cr8St0ur17cakiXYJF59axRWoNu+e lRx9yqreqj6aQ5LGJ1K3PJrkqJhAVWVP29mzrG2J6ZkR97R0FCLCW1G6gArxQD17TDaoJmNhaV8 NBFvcMYCZ+L84kw1+Drzc/BuEYq9j9xYYxytRAAyQCQKPu9vCxODktZ3GNS5PFdfcrcZLfNlzUw m8VNxqQ9WrwhHQQtw2g8TMBoZjq7MNNEtIg3LC8I6M86kjQqXowfmDICJpN7Hsf5iAUw4LLDEU7 HzRdhUkAgg9JVNHm0+NOdIF5TCM4kIrzJhP/lKeTnmbsbxhil46yuDg5/ez78jJfT0HVzwZm7kh KPDV/y+X9 X-Google-Smtp-Source: AGHT+IEizJ/nNd6VLQfFyQ9EGWJGOflxWlTVbbhwBw49kMNZEA5wmLY43FVEVrSY5sbQgjC6NESXqdy1H8ta X-Received: by 2002:a05:6e02:1d94:b0:430:a7d5:2361 with SMTP id e9e14a558f8ab-430c522318fmr15445055ab.9.1760637332806; Thu, 16 Oct 2025 10:55:32 -0700 (PDT) Received: from postal.iol.unh.edu (postal.iol.unh.edu. [2606:4100:3880:1234::84]) by smtp-relay.gmail.com with ESMTPS id e9e14a558f8ab-430b50c5f52sm3115065ab.11.2025.10.16.10.55.32 (version=TLS1_2 cipher=ECDHE-ECDSA-AES128-GCM-SHA256 bits=128/128); Thu, 16 Oct 2025 10:55:32 -0700 (PDT) X-Relaying-Domain: iol.unh.edu Date: Thu, 16 Oct 2025 10:55:32 -0700 (PDT) Message-ID: <68f13194.050a0220.29be7d.efe9SMTPIN_ADDED_MISSING@mx.google.com> Received: from [172.21.0.3] (unknown [172.18.0.240]) by postal.iol.unh.edu (Postfix) with ESMTP id 532F76051830; Thu, 16 Oct 2025 13:55:02 -0400 (EDT) Subject: |SUCCESS| pw157689-157690 [PATCH] [v5,4/4] dma/hisi_acc: add doc From: dpdklab@iol.unh.edu To: Test Report Cc: dpdk-test-reports@iol.unh.edu In-Reply-To: <20251016015221.1423-5-fengchengwen@huawei.com> References: <20251016015221.1423-5-fengchengwen@huawei.com> Content-Type: text/plain X-BeenThere: test-report@dpdk.org X-Mailman-Version: 2.1.29 Precedence: list List-Id: automatic DPDK test reports List-Unsubscribe: , List-Archive: List-Post: List-Help: List-Subscribe: , Errors-To: test-report-bounces@dpdk.org Test-Label: iol-unit-arm64-testing Test-Status: SUCCESS http://dpdk.org/patch/157690 _Testing PASS_ Submitter: Chengwen Feng Date: Thursday, October 16 2025 01:52:21 DPDK git baseline: Repo:dpdk Branch: master CommitID:16f4c522003dcfecf23c8d38e009b95a3bbefd03 157689-157690 --> testing pass Upstream job id: Generic-Unit-Test-DPDK#381896 Test environment and result as below: +------------------------------+----------------+---------------------------+--------------+------------------------------+ | Environment | dpdk_unit_test | cryptodev_sw_zuc_autotest | lpm_autotest | cryptodev_sw_snow3g_autotest | +==============================+================+===========================+==============+==============================+ | Fedora Linux 42 | PASS | SKIPPED | SKIPPED | SKIPPED | +------------------------------+----------------+---------------------------+--------------+------------------------------+ | Fedora Linux 40 | PASS | SKIPPED | SKIPPED | SKIPPED | +------------------------------+----------------+---------------------------+--------------+------------------------------+ | Debian GNU/Linux 12 | PASS | SKIPPED | SKIPPED | SKIPPED | +------------------------------+----------------+---------------------------+--------------+------------------------------+ | Fedora Linux 41 | PASS | SKIPPED | SKIPPED | SKIPPED | +------------------------------+----------------+---------------------------+--------------+------------------------------+ | CentOS Stream 10 | PASS | SKIPPED | SKIPPED | SKIPPED | +------------------------------+----------------+---------------------------+--------------+------------------------------+ | CentOS Stream 9 | PASS | SKIPPED | SKIPPED | SKIPPED | +------------------------------+----------------+---------------------------+--------------+------------------------------+ | Red Hat Enterprise Linux 9.5 | PASS | SKIPPED | SKIPPED | SKIPPED | +------------------------------+----------------+---------------------------+--------------+------------------------------+ | Ubuntu 22.04 | PASS | SKIPPED | SKIPPED | SKIPPED | +------------------------------+----------------+---------------------------+--------------+------------------------------+ | Ubuntu 20.04 | PASS | SKIPPED | PASS | SKIPPED | +------------------------------+----------------+---------------------------+--------------+------------------------------+ | Ubuntu 24.04 | PASS | SKIPPED | SKIPPED | SKIPPED | +------------------------------+----------------+---------------------------+--------------+------------------------------+ | Debian 12 (arm) | SKIPPED | PASS | SKIPPED | PASS | +------------------------------+----------------+---------------------------+--------------+------------------------------+ Fedora Linux 42 Kernel: 5.4 Compiler: gcc gcc (GCC) 15.2.1 20250808 (Red Hat 15.2.1-1) Fedora Linux 40 Kernel: 5.4 Compiler: clang gcc (GCC) 14.2.1 20240912 (Red Hat 14.2.1-3) Debian GNU/Linux 12 Kernel: 5.4 Compiler: gcc gcc (Debian 12.2.0-14+deb12u1) 12.2.0 Fedora Linux 41 Kernel: 5.4 Compiler: gcc gcc (GCC) 14.3.1 20250523 (Red Hat 14.3.1-1) CentOS Stream 10 Kernel: 5.4 Compiler: gcc gcc (GCC) 14.2.1 20250110 (Red Hat 14.2.1-8) CentOS Stream 9 Kernel: 5.4 Compiler: gcc gcc (GCC) 11.5.0 20240719 (Red Hat 11.5.0-11) Red Hat Enterprise Linux 9.5 Kernel: 5.4 Compiler: gcc gcc (GCC) 11.5.0 20240719 (Red Hat 11.5.0-2) Ubuntu 22.04 Kernel: 5.4 Compiler: gcc gcc (Ubuntu 11.4.0-1ubuntu1~22.04) 11.4.0 Ubuntu 20.04 Kernel: 5.4 Compiler: gcc gcc (Ubuntu 9.4.0-1ubuntu1~20.04.2) 9.4.0 Ubuntu 24.04 Kernel: 5.4 Compiler: gcc gcc (Ubuntu 13.3.0-6ubuntu2~24.04) 13.3.0 Debian 12 (arm) Kernel: Depends on container host Compiler: gcc (Debian 12.2.0-14) 12.2.0 To view detailed results, visit: https://lab.dpdk.org/results/dashboard/patchsets/34291/ UNH-IOL DPDK Community Lab To manage your email subscriptions, visit: https://lab.dpdk.org/results/dashboard/preferences/subscriptions/