From mboxrd@z Thu Jan 1 00:00:00 1970 Return-Path: Received: from mails.dpdk.org (mails.dpdk.org [217.70.189.124]) by inbox.dpdk.org (Postfix) with ESMTP id D624D48959 for ; Thu, 16 Oct 2025 22:28:44 +0200 (CEST) Received: from mails.dpdk.org (localhost [127.0.0.1]) by mails.dpdk.org (Postfix) with ESMTP id B94474026D; Thu, 16 Oct 2025 22:28:44 +0200 (CEST) Received: from mail-oo1-f98.google.com (mail-oo1-f98.google.com [209.85.161.98]) by mails.dpdk.org (Postfix) with ESMTP id B49574026D for ; Thu, 16 Oct 2025 22:28:42 +0200 (CEST) Received: by mail-oo1-f98.google.com with SMTP id 006d021491bc7-651ca14a092so924eaf.1 for ; Thu, 16 Oct 2025 13:28:42 -0700 (PDT) DKIM-Signature: v=1; a=rsa-sha256; c=relaxed/relaxed; d=iol.unh.edu; s=unh-iol; t=1760646522; x=1761251322; darn=dpdk.org; h=references:in-reply-to:cc:to:from:subject:message-id:date:from:to :cc:subject:date:message-id:reply-to; bh=cJYQ1c6Lk/AHIN7C96uMI/0H3pHSmIwXs+6S+DvmOfg=; b=UVfC6Em0Ra/ezMB9I0ioFGpHycS+H+FTOc8BkWo4CE490ULD+JRLs0pDCS+mJMP7FM ro4zGNQSUkSZ3akHAXmQFJqnlLzLi8Yel7p2Qdnw4zR4vu2sRHzN3WEyjnh3Imbiq38/ EI2eO0j/SLKO3h1zBfBxuHMKSlBq4jebO7JOs= X-Google-DKIM-Signature: v=1; a=rsa-sha256; c=relaxed/relaxed; d=1e100.net; s=20230601; t=1760646522; x=1761251322; h=references:in-reply-to:cc:to:from:subject:message-id:date :x-gm-message-state:from:to:cc:subject:date:message-id:reply-to; bh=cJYQ1c6Lk/AHIN7C96uMI/0H3pHSmIwXs+6S+DvmOfg=; b=V8D3GYabvpTl7rhqnfsHU0TGPrWaaeNbZcvS+OcQTcuUAcyd02R6ExOvTxEl6oY+fe Q1iY3gZ2UKgnGtLV/95CNNDQLzxhPHop+SlUKXQ8QEAPKrPJn6RzKNQ0Ulq3vrqXzEKo epSVdiaeG49My4kXzBGQ5RngFO2oToBn8h4jn3P3ZSj7TYISGDKTjS7BkGCpLEdrRf7H F0ldQ6PGW9Es0BkSQTV1aYLBlEBfW5CjBb9oQEkC9dAJkP9+/WOLteKMFRrsS5wWb5Gt RJ5W4J7FC896EA6geTaDp2kU6dsjDdt0k98VOnDLAuuJqiRCf+pvaf7IaDVCcC1ynD2s U4Fw== X-Gm-Message-State: AOJu0YxAbC/L3nHPmvpbs/IWGCgjbRhonCNoxLSV6ObM442u1sbNm/7K ZI8vSIvp7lKddKS7RjnaYdzp5qXIOOeFqNQXhZS5eg70NQnLhRg7r1vfCXR+f3zhwgQ0Eq8TpqA KVoQRnvurG6EUI+yI6oJ+EzY5kj67b0FmsQ7GEPCI8Qq25MMlr9uMijjYgg8v X-Gm-Gg: ASbGncvgyoXwNWwrtp4/ue0m7jfT9ZFt45iUs8Lt8//qgkFBPwP62zrIKDVveu0tAKm 5Xe2ccmxDQanBG/mrZkS9wSih3jnKsKreeIwkx/KpA4fXHd/ZDUzn6ilqw/+mdREGXcjPytLppp qlx58l5FxZYa/l+mH+Rbiq+cNr2ouESIGv9knfLqgT+pEWrQESm8O3SARV/5QXRgXBbdLB+M4kG SMIMddM7oso8dOY8G5VAJ0z8W/wfpc6WrkYor2TtblVWchXYBm/52bM9YGIHdhs/qfLIzEDmwHl o66ksXsnyN0dFnezR2tSyouoB5Fr0wN5kG/0YiYVdF3rXgZtg4E8RNWy7NHvkAMPab5qox+N74W NWcgqi9Vj X-Google-Smtp-Source: AGHT+IFUGPjAYHHH/LtJmY8Bd+Bc/oM5MSuH0hQCuSqxAFN/IHCc8PeizDyHoSUbB2qgxj2McR4WiFuZYtH1 X-Received: by 2002:a05:6808:1b0d:b0:441:8f74:f11 with SMTP id 5614622812f47-443a314433fmr696113b6e.59.1760646521462; Thu, 16 Oct 2025 13:28:41 -0700 (PDT) Received: from postal.iol.unh.edu (postal.iol.unh.edu. [2606:4100:3880:1234::84]) by smtp-relay.gmail.com with ESMTPS id 006d021491bc7-650181451f3sm461903eaf.4.2025.10.16.13.28.41 (version=TLS1_2 cipher=ECDHE-ECDSA-AES128-GCM-SHA256 bits=128/128); Thu, 16 Oct 2025 13:28:41 -0700 (PDT) X-Relaying-Domain: iol.unh.edu Date: Thu, 16 Oct 2025 13:28:41 -0700 (PDT) Message-ID: <68f15579.4a0a0220.8ab6.6f70SMTPIN_ADDED_MISSING@mx.google.com> Received: from [172.21.0.2] (unknown [172.18.0.240]) by postal.iol.unh.edu (Postfix) with ESMTP id D925E6051830; Thu, 16 Oct 2025 16:28:40 -0400 (EDT) Subject: |SUCCESS| pw157692 [PATCH] dma/hisi_pciep: rename hisilicon driver From: dpdklab@iol.unh.edu To: Test Report Cc: dpdk-test-reports@iol.unh.edu In-Reply-To: <20251016023747.18871-1-fengchengwen@huawei.com> References: <20251016023747.18871-1-fengchengwen@huawei.com> Content-Type: text/plain X-BeenThere: test-report@dpdk.org X-Mailman-Version: 2.1.29 Precedence: list List-Id: automatic DPDK test reports List-Unsubscribe: , List-Archive: List-Post: List-Help: List-Subscribe: , Errors-To: test-report-bounces@dpdk.org Test-Label: iol-unit-arm64-testing Test-Status: SUCCESS http://dpdk.org/patch/157692 _Testing PASS_ Submitter: Chengwen Feng Date: Thursday, October 16 2025 02:37:47 DPDK git baseline: Repo:dpdk Branch: master CommitID:16f4c522003dcfecf23c8d38e009b95a3bbefd03 157692 --> testing pass Upstream job id: Generic-Unit-Test-DPDK#381909 Test environment and result as below: +------------------------------+----------------+---------------------------+--------------+------------------------------+ | Environment | dpdk_unit_test | cryptodev_sw_zuc_autotest | lpm_autotest | cryptodev_sw_snow3g_autotest | +==============================+================+===========================+==============+==============================+ | Fedora Linux 40 | PASS | SKIPPED | SKIPPED | SKIPPED | +------------------------------+----------------+---------------------------+--------------+------------------------------+ | CentOS Stream 10 | PASS | SKIPPED | SKIPPED | SKIPPED | +------------------------------+----------------+---------------------------+--------------+------------------------------+ | CentOS Stream 9 | PASS | SKIPPED | SKIPPED | SKIPPED | +------------------------------+----------------+---------------------------+--------------+------------------------------+ | Debian GNU/Linux 12 | PASS | SKIPPED | SKIPPED | SKIPPED | +------------------------------+----------------+---------------------------+--------------+------------------------------+ | Ubuntu 22.04 | PASS | SKIPPED | SKIPPED | SKIPPED | +------------------------------+----------------+---------------------------+--------------+------------------------------+ | Fedora Linux 41 | PASS | SKIPPED | SKIPPED | SKIPPED | +------------------------------+----------------+---------------------------+--------------+------------------------------+ | Red Hat Enterprise Linux 9.5 | PASS | SKIPPED | SKIPPED | SKIPPED | +------------------------------+----------------+---------------------------+--------------+------------------------------+ | Ubuntu 24.04 | PASS | SKIPPED | SKIPPED | SKIPPED | +------------------------------+----------------+---------------------------+--------------+------------------------------+ | Ubuntu 20.04 | PASS | SKIPPED | PASS | SKIPPED | +------------------------------+----------------+---------------------------+--------------+------------------------------+ | Fedora Linux 42 | PASS | SKIPPED | SKIPPED | SKIPPED | +------------------------------+----------------+---------------------------+--------------+------------------------------+ | Debian 12 (arm) | SKIPPED | PASS | SKIPPED | PASS | +------------------------------+----------------+---------------------------+--------------+------------------------------+ Fedora Linux 40 Kernel: 5.4 Compiler: clang gcc (GCC) 14.2.1 20240912 (Red Hat 14.2.1-3) CentOS Stream 10 Kernel: 5.4 Compiler: gcc gcc (GCC) 14.2.1 20250110 (Red Hat 14.2.1-8) CentOS Stream 9 Kernel: 5.4 Compiler: gcc gcc (GCC) 11.5.0 20240719 (Red Hat 11.5.0-11) Debian GNU/Linux 12 Kernel: 5.4 Compiler: gcc gcc (Debian 12.2.0-14+deb12u1) 12.2.0 Ubuntu 22.04 Kernel: 5.15 Compiler: gcc gcc (Ubuntu 11.4.0-1ubuntu1~22.04.2) 11.4.0 Fedora Linux 41 Kernel: 5.4 Compiler: clang gcc (GCC) 14.3.1 20250523 (Red Hat 14.3.1-1) Red Hat Enterprise Linux 9.5 Kernel: 5.4 Compiler: gcc gcc (GCC) 11.5.0 20240719 (Red Hat 11.5.0-2) Ubuntu 24.04 Kernel: 5.4 Compiler: gcc gcc (Ubuntu 13.3.0-6ubuntu2~24.04) 13.3.0 Ubuntu 20.04 Kernel: 5.4 Compiler: gcc gcc (Ubuntu 9.4.0-1ubuntu1~20.04.2) 9.4.0 Fedora Linux 42 Kernel: 5.4 Compiler: gcc gcc (GCC) 15.2.1 20250808 (Red Hat 15.2.1-1) Debian 12 (arm) Kernel: Depends on container host Compiler: gcc (Debian 12.2.0-14) 12.2.0 To view detailed results, visit: https://lab.dpdk.org/results/dashboard/patchsets/34292/ UNH-IOL DPDK Community Lab To manage your email subscriptions, visit: https://lab.dpdk.org/results/dashboard/preferences/subscriptions/