From mboxrd@z Thu Jan 1 00:00:00 1970 Return-Path: Received: from mails.dpdk.org (mails.dpdk.org [217.70.189.124]) by inbox.dpdk.org (Postfix) with ESMTP id CDEBF48959 for ; Thu, 16 Oct 2025 22:29:02 +0200 (CEST) Received: from mails.dpdk.org (localhost [127.0.0.1]) by mails.dpdk.org (Postfix) with ESMTP id C960A4026D; Thu, 16 Oct 2025 22:29:02 +0200 (CEST) Received: from mail-io1-f97.google.com (mail-io1-f97.google.com [209.85.166.97]) by mails.dpdk.org (Postfix) with ESMTP id C59984026D for ; Thu, 16 Oct 2025 22:29:00 +0200 (CEST) Received: by mail-io1-f97.google.com with SMTP id ca18e2360f4ac-91122373653so59755339f.1 for ; Thu, 16 Oct 2025 13:29:00 -0700 (PDT) DKIM-Signature: v=1; a=rsa-sha256; c=relaxed/relaxed; d=iol.unh.edu; s=unh-iol; t=1760646540; x=1761251340; darn=dpdk.org; h=references:in-reply-to:cc:to:from:subject:message-id:date:from:to :cc:subject:date:message-id:reply-to; bh=URZtjZ3QeHw99o0eFDvWUwOf83JKr5D1Jel4d4Aaauw=; b=SXBVixt+GKlz9dqKnevNyy3I2KMwvhzhmz4w3/UHa4AVKp/OwIiIw5M1BtYm8B8yP2 5beaxhMy7Ki6PH++mAWbZ0LC6+iL3GKABHcpWLiC9jygBSuamtAk/Q0L2H7Yq5Uwnqkr ESTSqq49QhE9mRsOrHdZmATXY2RNoYeTH4WXQ= X-Google-DKIM-Signature: v=1; a=rsa-sha256; c=relaxed/relaxed; d=1e100.net; s=20230601; t=1760646540; x=1761251340; h=references:in-reply-to:cc:to:from:subject:message-id:date :x-gm-message-state:from:to:cc:subject:date:message-id:reply-to; bh=URZtjZ3QeHw99o0eFDvWUwOf83JKr5D1Jel4d4Aaauw=; b=w6gUeWytKy3IUOXfEphKIKsdF4xMeL4MJd5XOlBKxWwN+IGhCFX7lrNy3aJdw+PeSk hMSMAm1LviZIN0RxtMKujHaGte5yygC/9+4EITDTOb+Humq/+LoCQtIhjxo5A9vv9wR4 f+iWFwRxwZ/9yZJ9ZwyrnnRloGRCzpxK67d5gp3BG8IZmH50wi9ZBpQZLXT0k/cbYAN0 E9geAY/uhFSZIqcwUyS6z+zLC14fUHhBmOXL7QR6MFf+2RLWv5KKgbMSkOqyJBH+SqRC o0oUJg/8tH+4DdW3b6g0FTRT5Kfl2KT2p0TKPc6avELNyd8lDi67Xj5cG4K6KeVq6WSv 02WQ== X-Gm-Message-State: AOJu0YxXuUY3SThNUWsjAyU85z0CetarKxPG6lAxiBj2Mc7VmK0vSEJd WmX6PPMjn59tZo23gzgVkKvhDhuVbi2kFNo+CAAfjyOFwbXxiBk2f4/sWcAtZtHT91QSf+/nreD BZgbW/B6+rmpLNBe/w+j4UKYM4nT+vTXUXtCc0xZiczvBaawxY9HWefazbBTU X-Gm-Gg: ASbGncsn873oTRevfdGjK9xnvAxNnswJB753HUMk0Bc9yt27IUweki0WNt4W4rJB81L ODvSZQCT9WCMmTrgPc1u9Y8E+sw7MQM2H2pibS1/w1myBJvhUhBScWGhiKHPj/r8ops99xHJ+/6 lpWXYB95ixmskZtgH4bdMUKviY59e4omDkZvWKigbIt3mP5tp1kPep4W8RmLYXmJHENsTX538dv GbBmde6cCNtkBG9/nL19XG2Nu4pci1SFK9ZG18jACB6HW1nrT5/gIbAlERDqqCBPngNOmjI+qPh nGLG6r2aTJS7H3/1Mz4nU6MTx0qMddBSV+Sd2n90CVLfGog/XxIas4/8Y0kfY+5MSxYWckXqE5l DiXmzskM7 X-Google-Smtp-Source: AGHT+IG907spATCziapis0iXmvBl4Ift5RwrTc2o9v2suSRR0YbI75DlfjpsGk9ujXPvWcILUj8KH7S9/lYW X-Received: by 2002:a05:6e02:1c0c:b0:430:a4cf:83df with SMTP id e9e14a558f8ab-430c528d4e3mr24933935ab.25.1760646540117; Thu, 16 Oct 2025 13:29:00 -0700 (PDT) Received: from postal.iol.unh.edu (postal.iol.unh.edu. [2606:4100:3880:1234::84]) by smtp-relay.gmail.com with ESMTPS id 8926c6da1cb9f-5a76f7403easm38747173.30.2025.10.16.13.29.00 (version=TLS1_2 cipher=ECDHE-ECDSA-AES128-GCM-SHA256 bits=128/128); Thu, 16 Oct 2025 13:29:00 -0700 (PDT) X-Relaying-Domain: iol.unh.edu Date: Thu, 16 Oct 2025 13:29:00 -0700 (PDT) Message-ID: <68f1558c.050a0220.4c40f.1dc8SMTPIN_ADDED_MISSING@mx.google.com> Received: from [172.21.0.2] (unknown [172.18.0.240]) by postal.iol.unh.edu (Postfix) with ESMTP id ACAD66051830; Thu, 16 Oct 2025 16:28:59 -0400 (EDT) Subject: |SUCCESS| pw157760-157652 [PATCH] [v3,54/54] net/bnxt/tf_ulp: remove From: dpdklab@iol.unh.edu To: Test Report Cc: dpdk-test-reports@iol.unh.edu In-Reply-To: <20251015090024.32250-55-manish.kurup@broadcom.com> References: <20251015090024.32250-55-manish.kurup@broadcom.com> Content-Type: text/plain X-BeenThere: test-report@dpdk.org X-Mailman-Version: 2.1.29 Precedence: list List-Id: automatic DPDK test reports List-Unsubscribe: , List-Archive: List-Post: List-Help: List-Subscribe: , Errors-To: test-report-bounces@dpdk.org Test-Label: iol-unit-amd64-testing Test-Status: SUCCESS http://dpdk.org/patch/157652 _Testing PASS_ Submitter: Manish Kurup Date: Wednesday, October 15 2025 09:00:24 DPDK git baseline: Repo:dpdk Branch: master CommitID:16f4c522003dcfecf23c8d38e009b95a3bbefd03 157760-157652 --> testing pass Upstream job id: Generic-VM-Unit-Test-DPDK#31856 Test environment and result as below: +-------------------------------+----------------+ | Environment | dpdk_unit_test | +===============================+================+ | Debian GNU/Linux 12 | PASS | +-------------------------------+----------------+ | CentOS Stream 9 | PASS | +-------------------------------+----------------+ | CentOS Stream 10 | PASS | +-------------------------------+----------------+ | Fedora Linux 41 | PASS | +-------------------------------+----------------+ | Fedora Linux 42 | PASS | +-------------------------------+----------------+ | Fedora Linux 40 | PASS | +-------------------------------+----------------+ | Red Hat Enterprise Linux 9.5 | PASS | +-------------------------------+----------------+ | Red Hat Enterprise Linux 8.10 | PASS | +-------------------------------+----------------+ | Ubuntu 22.04 | PASS | +-------------------------------+----------------+ | Ubuntu 20.04 | PASS | +-------------------------------+----------------+ | Ubuntu 24.04 | PASS | +-------------------------------+----------------+ | Windows Server 2022 | PASS | +-------------------------------+----------------+ Debian GNU/Linux 12 Kernel: 5.15 Compiler: gcc gcc (Debian 12.2.0-14+deb12u1) 12.2.0 CentOS Stream 9 Kernel: 5.15 Compiler: gcc gcc (GCC) 11.5.0 20240719 (Red Hat 11.5.0-11) CentOS Stream 10 Kernel: 5.15 Compiler: gcc gcc (GCC) 14.2.1 20250110 (Red Hat 14.2.1-8) Fedora Linux 41 Kernel: 5.15 Compiler: clang gcc (GCC) 14.3.1 20250523 (Red Hat 14.3.1-1) Fedora Linux 42 Kernel: 5.15 Compiler: gcc gcc (GCC) 15.2.1 20250808 (Red Hat 15.2.1-1) Fedora Linux 40 Kernel: 5.15 Compiler: clang gcc (GCC) 14.2.1 20240912 (Red Hat 14.2.1-3) Red Hat Enterprise Linux 9.5 Kernel: 5.15 Compiler: gcc gcc (GCC) 11.5.0 20240719 (Red Hat 11.5.0-2) Red Hat Enterprise Linux 8.10 Kernel: 5.15 Compiler: gcc gcc (GCC) 8.5.0 20210514 (Red Hat 8.5.0-22) Ubuntu 22.04 Kernel: 5.15 Compiler: gcc gcc (Ubuntu 11.4.0-1ubuntu1~22.04) 11.4.0 Ubuntu 20.04 Kernel: 5.15 Compiler: gcc gcc (Ubuntu 9.4.0-1ubuntu1~20.04.2) 9.4.0 Ubuntu 24.04 Kernel: 5.15 Compiler: gcc gcc (Ubuntu 13.3.0-6ubuntu2~24.04) 13.3.0 Windows Server 2022 Kernel: 10.0.20348.2031 Compiler: clang 15.0.7, gcc 14.1.0 (MinGW), and MSVC VS 19.39.33521 To view detailed results, visit: https://lab.dpdk.org/results/dashboard/patchsets/34303/ UNH-IOL DPDK Community Lab To manage your email subscriptions, visit: https://lab.dpdk.org/results/dashboard/preferences/subscriptions/