From mboxrd@z Thu Jan 1 00:00:00 1970 Return-Path: Received: from mails.dpdk.org (mails.dpdk.org [217.70.189.124]) by inbox.dpdk.org (Postfix) with ESMTP id 0FDE548959 for ; Thu, 16 Oct 2025 22:29:56 +0200 (CEST) Received: from mails.dpdk.org (localhost [127.0.0.1]) by mails.dpdk.org (Postfix) with ESMTP id 0988D4026D; Thu, 16 Oct 2025 22:29:56 +0200 (CEST) Received: from mail-pj1-f98.google.com (mail-pj1-f98.google.com [209.85.216.98]) by mails.dpdk.org (Postfix) with ESMTP id C82ED4026D for ; Thu, 16 Oct 2025 22:29:54 +0200 (CEST) Received: by mail-pj1-f98.google.com with SMTP id 98e67ed59e1d1-33badfbbc48so1524476a91.2 for ; Thu, 16 Oct 2025 13:29:54 -0700 (PDT) DKIM-Signature: v=1; a=rsa-sha256; c=relaxed/relaxed; d=iol.unh.edu; s=unh-iol; t=1760646594; x=1761251394; darn=dpdk.org; h=references:in-reply-to:cc:to:from:subject:message-id:date:from:to :cc:subject:date:message-id:reply-to; bh=OoeVOQ+7N1A2yqpva4sxuhwugz0m5nq+c6YBlKfJpw0=; b=NHhGMOvrHQN67Jl9IU8VVH/n3i4qQWB/4O2mixo0rNhoIKNMwWUjgc4walo/ZANhjo NmHK2Np52+3C+nHUMyZ2OXg9TO5ix0iMYxdw6G+1lnQWI5zYmTdsEn/YG926n51pfUtk fBBtIjcatjlPQr2ep8a6oAjDkfnWVDnMfcqqI= X-Google-DKIM-Signature: v=1; a=rsa-sha256; c=relaxed/relaxed; d=1e100.net; s=20230601; t=1760646594; x=1761251394; h=references:in-reply-to:cc:to:from:subject:message-id:date :x-gm-message-state:from:to:cc:subject:date:message-id:reply-to; bh=OoeVOQ+7N1A2yqpva4sxuhwugz0m5nq+c6YBlKfJpw0=; b=iwi4VfSwK7I/nlrOsP4Es83B6awI31Hijuqmg9Ak5SOpA6tFi+4UNfd8hSv2lh0Ooi 03D9B7AFPtjekucnPdnWBa96vGXtnEWH72dMaKZBZb6pD+6Y84LyQGgrAS8n5hdeAHuI ynrBZemEiC9Pqb+z/f0uxLsFnM895ezdX/O85xi2PS/Erup8UDmdfBZf3YS0Gvv49Wcd ZZzVEy2jmo+vIVIBHPzWj1npyUyV74Ah4X2GJxADg2e9PUNHyRWUpU16DOzhei1M8oc4 HEIddOvcXmWvL8OQTtmPrlCcoRvKSFKumqyN8pUOdauN/zC+z0j3W6c94jo2YL4xWbWS EwoQ== X-Gm-Message-State: AOJu0YylQTaXelxKFdbmMUHpO2HUksERITFcVeWP17izFj+mZ4sBjP4x mAsKjutt1CXynWzuHWeCzxDtle8etFLziwgTrLcapB68+hpYQCWd3yrJps7F5LkgGurUOQ6kOSQ /e0PHE4j5OXUCQO0C9zi6pdjf6k/U4qr6VJdqmrb1K7/Dat+QBEvzegUIChTI X-Gm-Gg: ASbGncuEGM1ktEA4krJEb4u/KOnSDx8UN/THH5G4lQ5UVVBGo/9omwS28jU+vlwHTuI ySxQ9eGOIPrpx/Ab4t94kccZ06I0GPN9qp29oGUNsSMkzIw/J4WmIKcHcsRlM8MZXBIgJ5hPeCD FrLXJSmY723vwkPBuG2+rAR7vq5psyuFSz/M2xEzlRMMpyk+Z4CRCKDwmaGzTKlxuzbEXZSibSH jPMrUS0WUqSovH6cIFWHfU2aJBTPYIn1bBHfIcBtrHZfq0A1vE4YyCGuH1RfXTbjHwP7H6NFHBs tQ2ZeLdDZAQV2O8qYeKhXPN6RChxy9WzMwOW0Mj0VRRKc8J3EffqBcTiV4PQmtpVNSZulGk/KDi x91qYIbem X-Google-Smtp-Source: AGHT+IHpUDyYX0wjC1LO1FrluT5dCrtn3OFF14Rsjd/kknrPNhf/8HImhYCQ9gcHiSQbzmlxUugPdy7R1UY0 X-Received: by 2002:a17:90b:3909:b0:332:84c1:31de with SMTP id 98e67ed59e1d1-33bcf913ebcmr1126222a91.25.1760646593911; Thu, 16 Oct 2025 13:29:53 -0700 (PDT) Received: from postal.iol.unh.edu (postal.iol.unh.edu. [2606:4100:3880:1234::84]) by smtp-relay.gmail.com with ESMTPS id 98e67ed59e1d1-33bb64885eesm235523a91.0.2025.10.16.13.29.53 (version=TLS1_2 cipher=ECDHE-ECDSA-AES128-GCM-SHA256 bits=128/128); Thu, 16 Oct 2025 13:29:53 -0700 (PDT) X-Relaying-Domain: iol.unh.edu Date: Thu, 16 Oct 2025 13:29:53 -0700 (PDT) Message-ID: <68f155c1.170a0220.51886.abc0SMTPIN_ADDED_MISSING@mx.google.com> Received: from [172.21.0.2] (unknown [172.18.0.240]) by postal.iol.unh.edu (Postfix) with ESMTP id 327196051830; Thu, 16 Oct 2025 16:29:53 -0400 (EDT) Subject: |SUCCESS| pw157760-157652 [PATCH] [v3,54/54] net/bnxt/tf_ulp: remove From: dpdklab@iol.unh.edu To: Test Report Cc: dpdk-test-reports@iol.unh.edu In-Reply-To: <20251015090024.32250-55-manish.kurup@broadcom.com> References: <20251015090024.32250-55-manish.kurup@broadcom.com> Content-Type: text/plain X-BeenThere: test-report@dpdk.org X-Mailman-Version: 2.1.29 Precedence: list List-Id: automatic DPDK test reports List-Unsubscribe: , List-Archive: List-Post: List-Help: List-Subscribe: , Errors-To: test-report-bounces@dpdk.org Test-Label: iol-compile-amd64-testing Test-Status: SUCCESS http://dpdk.org/patch/157652 _Testing PASS_ Submitter: Manish Kurup Date: Wednesday, October 15 2025 09:00:24 DPDK git baseline: Repo:dpdk Branch: master CommitID:16f4c522003dcfecf23c8d38e009b95a3bbefd03 157760-157652 --> testing pass Upstream job id: Windows-Compile-DPDK-Native#31686 Test environment and result as below: +---------------------+-------------------------+--------------------+-------------------+----------------------+ | Environment | dpdk_llvm_clang_compile | dpdk_meson_compile | dpdk_msvc_compile | dpdk_mingw64_compile | +=====================+=========================+====================+===================+======================+ | Windows Server 2022 | PASS | SKIPPED | PASS | PASS | +---------------------+-------------------------+--------------------+-------------------+----------------------+ | Ubuntu 20.04 | SKIPPED | PASS | SKIPPED | SKIPPED | +---------------------+-------------------------+--------------------+-------------------+----------------------+ | FreeBSD 14.2 | SKIPPED | PASS | SKIPPED | SKIPPED | +---------------------+-------------------------+--------------------+-------------------+----------------------+ Windows Server 2022 Kernel: 10.0.20348.2031 Compiler: clang 15.0.7, gcc 14.1.0 (MinGW), and MSVC VS 19.39.33521 Ubuntu 20.04 Kernel: 4.19 Compiler: gcc gcc (Ubuntu 9.4.0-1ubuntu1~20.04.2) 9.4.0 FreeBSD 14.2 Kernel: 14.2-RELEASE Compiler: clang 18.1.6 To view detailed results, visit: https://lab.dpdk.org/results/dashboard/patchsets/34303/ UNH-IOL DPDK Community Lab To manage your email subscriptions, visit: https://lab.dpdk.org/results/dashboard/preferences/subscriptions/