From mboxrd@z Thu Jan 1 00:00:00 1970 Return-Path: Received: from mails.dpdk.org (mails.dpdk.org [217.70.189.124]) by inbox.dpdk.org (Postfix) with ESMTP id 7BAC448959 for ; Thu, 16 Oct 2025 22:33:42 +0200 (CEST) Received: from mails.dpdk.org (localhost [127.0.0.1]) by mails.dpdk.org (Postfix) with ESMTP id 582324026D; Thu, 16 Oct 2025 22:33:42 +0200 (CEST) Received: from mail-pj1-f97.google.com (mail-pj1-f97.google.com [209.85.216.97]) by mails.dpdk.org (Postfix) with ESMTP id 04DBC4026D for ; Thu, 16 Oct 2025 22:33:40 +0200 (CEST) Received: by mail-pj1-f97.google.com with SMTP id 98e67ed59e1d1-33ba8d20888so1241552a91.0 for ; Thu, 16 Oct 2025 13:33:40 -0700 (PDT) DKIM-Signature: v=1; a=rsa-sha256; c=relaxed/relaxed; d=iol.unh.edu; s=unh-iol; t=1760646820; x=1761251620; darn=dpdk.org; h=references:in-reply-to:cc:to:from:subject:message-id:date:from:to :cc:subject:date:message-id:reply-to; bh=hK0eCCwqNkTNjqzgIuAebXWSA7f2DuMpoXE6nLasesM=; b=YPwbKV/0p3u/RUT3N8xL8WnVdnWXbWuuPZmQ5yqDQsJU9pCCuUodxGbNMAPPFLx3Ab GzIS36pN3LVTkykPiVITBPqI70DY9D5sDWoNTAaTowOH81fkik3lFd48IB87UmN/KAUO +9wcXoonPtvxySM0fiHaYGHCw0fGpQM2pLEwo= X-Google-DKIM-Signature: v=1; a=rsa-sha256; c=relaxed/relaxed; d=1e100.net; s=20230601; t=1760646820; x=1761251620; h=references:in-reply-to:cc:to:from:subject:message-id:date :x-gm-message-state:from:to:cc:subject:date:message-id:reply-to; bh=hK0eCCwqNkTNjqzgIuAebXWSA7f2DuMpoXE6nLasesM=; b=iWk//1Cj5Edo2ZysfRRFrUX2T6vgX0Jw2ons20FxZWXglbwFHMYCw9lmwtziquZl9b NPAchi8jwlb0jjZuM2t3Ixs+u727uHhZFpaOADMSEQpwU83eE6smwuKraYVHo0aIXO1a eW47zDOOWwJ12sNNR0YxdobBhptI3BVvvCBnaz+jctWolwDTMfcyy5dSasi6pwmOOxVU qXWjULdQSj0fzlro+woa/xx4rdJSgFbkcvOn5Sk6bVSszvFY4ECOlwKcgjly65NkWSR+ yP6DRbxe5Ju6+C1uQSY5dq0wyOiBdpKrbNZwoM3unOv/ol/lxYlAJSTxDxMT6bIfeTvj IABQ== X-Gm-Message-State: AOJu0YwylSs5WbYwAliKjmi8bbexToYVdAQ5Y12QzGCR5CaPE+GzqcZc FIanARaIVVUU7Gism1Q3GKc3A3LX0NwSqEkir7x//V7ji5dQaDyiKTOjhBvG8UUXiGx8vGOW3tv HuN1anguBZE9omMDT4y55NVqjbGOMsFNBUNJT2C1sb639WuT5mjD0GZf4YhpZ X-Gm-Gg: ASbGncsmcJt8mIsLF/13+41AWc+L98qlPhIKLN3aP/bkh8ITzn/TB6oNIt+hW5m7NUM s+WY0zWaaMktiOaymRNN55pHRk7HWHi5aGekBCzaxJvW1lbdgsVt3GnSSeL5RDW51UeLw8DVda1 5MD0oX4uFkJiSz+7uffJJM9Ae+WGz1e7zGgkKOfwXwaHFMc880PCJWmR1PG2SBzQP6XaDwKY+00 kNRmoyrsWyaFH849mWzM9LWJ32LQR3yfBNhlbOtGEKIxPW0tWGjDlPmc/PH3Ie7SDRaKcH0ah42 JHDeOYQLFWBUJNvDHnV1W84h6nh9TS6j/GB5zMOhEGkMQiSvfRWTMDiDN5oxNfI7gWeyUN2mvrG dOfPiT/WD X-Google-Smtp-Source: AGHT+IHNMza97OXR2fLj1cD9tQUWWuFDTi12CaW+5woULPrvbloO0llb9UVG11znGsrDOj2Vo3b7MvLg5ugF X-Received: by 2002:a17:90b:274c:b0:31f:ecf:36f with SMTP id 98e67ed59e1d1-33b9e090157mr6140317a91.1.1760646820056; Thu, 16 Oct 2025 13:33:40 -0700 (PDT) Received: from postal.iol.unh.edu (postal.iol.unh.edu. [2606:4100:3880:1234::84]) by smtp-relay.gmail.com with ESMTPS id 41be03b00d2f7-b6a228b9b57sm250686a12.7.2025.10.16.13.33.39 (version=TLS1_2 cipher=ECDHE-ECDSA-AES128-GCM-SHA256 bits=128/128); Thu, 16 Oct 2025 13:33:40 -0700 (PDT) X-Relaying-Domain: iol.unh.edu Date: Thu, 16 Oct 2025 13:33:40 -0700 (PDT) Message-ID: <68f156a4.630a0220.291e0a.cd74SMTPIN_ADDED_MISSING@mx.google.com> Received: from [172.21.0.2] (unknown [172.18.0.240]) by postal.iol.unh.edu (Postfix) with ESMTP id 4C07D6051830; Thu, 16 Oct 2025 16:33:39 -0400 (EDT) Subject: |SUCCESS| pw157760-157652 [PATCH] [v3,54/54] net/bnxt/tf_ulp: remove From: dpdklab@iol.unh.edu To: Test Report Cc: dpdk-test-reports@iol.unh.edu In-Reply-To: <20251015090024.32250-55-manish.kurup@broadcom.com> References: <20251015090024.32250-55-manish.kurup@broadcom.com> Content-Type: text/plain X-BeenThere: test-report@dpdk.org X-Mailman-Version: 2.1.29 Precedence: list List-Id: automatic DPDK test reports List-Unsubscribe: , List-Archive: List-Post: List-Help: List-Subscribe: , Errors-To: test-report-bounces@dpdk.org Test-Label: iol-unit-amd64-testing Test-Status: SUCCESS http://dpdk.org/patch/157652 _Testing PASS_ Submitter: Manish Kurup Date: Wednesday, October 15 2025 09:00:24 DPDK git baseline: Repo:dpdk Branch: master CommitID:16f4c522003dcfecf23c8d38e009b95a3bbefd03 157760-157652 --> testing pass Upstream job id: Generic-VM-Unit-Test-DPDK#31857 Test environment and result as below: +-------------------------------+----------------+ | Environment | dpdk_unit_test | +===============================+================+ | Debian GNU/Linux 12 | PASS | +-------------------------------+----------------+ | CentOS Stream 9 | PASS | +-------------------------------+----------------+ | CentOS Stream 10 | PASS | +-------------------------------+----------------+ | Fedora Linux 41 | PASS | +-------------------------------+----------------+ | Fedora Linux 42 | PASS | +-------------------------------+----------------+ | Fedora Linux 40 | PASS | +-------------------------------+----------------+ | Red Hat Enterprise Linux 9.5 | PASS | +-------------------------------+----------------+ | Red Hat Enterprise Linux 8.10 | PASS | +-------------------------------+----------------+ | Ubuntu 22.04 | PASS | +-------------------------------+----------------+ | Ubuntu 20.04 | PASS | +-------------------------------+----------------+ | Ubuntu 24.04 | PASS | +-------------------------------+----------------+ | Windows Server 2022 | PASS | +-------------------------------+----------------+ Debian GNU/Linux 12 Kernel: 5.15 Compiler: gcc gcc (Debian 12.2.0-14+deb12u1) 12.2.0 CentOS Stream 9 Kernel: 5.15 Compiler: gcc gcc (GCC) 11.5.0 20240719 (Red Hat 11.5.0-11) CentOS Stream 10 Kernel: 5.15 Compiler: gcc gcc (GCC) 14.2.1 20250110 (Red Hat 14.2.1-8) Fedora Linux 41 Kernel: 5.15 Compiler: clang gcc (GCC) 14.3.1 20250523 (Red Hat 14.3.1-1) Fedora Linux 42 Kernel: 5.15 Compiler: gcc gcc (GCC) 15.2.1 20250808 (Red Hat 15.2.1-1) Fedora Linux 40 Kernel: 5.15 Compiler: clang gcc (GCC) 14.2.1 20240912 (Red Hat 14.2.1-3) Red Hat Enterprise Linux 9.5 Kernel: 5.15 Compiler: gcc gcc (GCC) 11.5.0 20240719 (Red Hat 11.5.0-2) Red Hat Enterprise Linux 8.10 Kernel: 5.15 Compiler: gcc gcc (GCC) 8.5.0 20210514 (Red Hat 8.5.0-22) Ubuntu 22.04 Kernel: 5.15 Compiler: gcc gcc (Ubuntu 11.4.0-1ubuntu1~22.04) 11.4.0 Ubuntu 20.04 Kernel: 5.15 Compiler: gcc gcc (Ubuntu 9.4.0-1ubuntu1~20.04.2) 9.4.0 Ubuntu 24.04 Kernel: 5.15 Compiler: gcc gcc (Ubuntu 13.3.0-6ubuntu2~24.04) 13.3.0 Windows Server 2022 Kernel: 10.0.20348.2031 Compiler: clang 15.0.7, gcc 14.1.0 (MinGW), and MSVC VS 19.39.33521 To view detailed results, visit: https://lab.dpdk.org/results/dashboard/patchsets/34303/ UNH-IOL DPDK Community Lab To manage your email subscriptions, visit: https://lab.dpdk.org/results/dashboard/preferences/subscriptions/