From mboxrd@z Thu Jan 1 00:00:00 1970 Return-Path: Received: from mails.dpdk.org (mails.dpdk.org [217.70.189.124]) by inbox.dpdk.org (Postfix) with ESMTP id 0501F48959 for ; Thu, 16 Oct 2025 22:45:16 +0200 (CEST) Received: from mails.dpdk.org (localhost [127.0.0.1]) by mails.dpdk.org (Postfix) with ESMTP id ED7B24026D; Thu, 16 Oct 2025 22:45:15 +0200 (CEST) Received: from mail-pg1-f226.google.com (mail-pg1-f226.google.com [209.85.215.226]) by mails.dpdk.org (Postfix) with ESMTP id 679814026D for ; Thu, 16 Oct 2025 22:45:14 +0200 (CEST) Received: by mail-pg1-f226.google.com with SMTP id 41be03b00d2f7-b556284db11so994548a12.0 for ; Thu, 16 Oct 2025 13:45:14 -0700 (PDT) DKIM-Signature: v=1; a=rsa-sha256; c=relaxed/relaxed; d=iol.unh.edu; s=unh-iol; t=1760647513; x=1761252313; darn=dpdk.org; h=references:in-reply-to:cc:to:from:subject:message-id:date:from:to :cc:subject:date:message-id:reply-to; bh=V22k6vkO+hJKgG7rWCL8HPkTCe/G2tAfY6rgpGpP0Q8=; b=dzoLFuqQfedbpJPZfxcqNYAeQVNXfmYKg6XlOaRIZ7lJPJ056GGZNORHj6OYIW/vvK h4pasjp+M9iT0j3CmPObxfWwsnuyO8wCwB6oPGZxutPseDTBxs9ND4Yy8gY6ZsgKzN8t DumsNnNZGVs1fEtbjlHPro+0Jol/cie1rCVQA= X-Google-DKIM-Signature: v=1; a=rsa-sha256; c=relaxed/relaxed; d=1e100.net; s=20230601; t=1760647513; x=1761252313; h=references:in-reply-to:cc:to:from:subject:message-id:date :x-gm-message-state:from:to:cc:subject:date:message-id:reply-to; bh=V22k6vkO+hJKgG7rWCL8HPkTCe/G2tAfY6rgpGpP0Q8=; b=YeXQMCThyNbli4pKcp8GTXdIgpBoxdswVrRRddC5NBP4VL+VsOAtflegfVU2qCIAoI znauC3ztap5QupAYL/xr53nT30G1HOoVSFk/0OyaC4tsqmPEgCWfdjKx8nlvm44+Pfgk wm0/kih7n57p98ZexzEVOo8MOL4n/ldoEhmGZ8zr5TVYV/2ZP60snDESQlTmNtp70Do5 6+LN0IVjtdtc0OhALy8qiTC1KWi0w2MpSLe/wv60nUGX5YaB8IEOWX0GRiOoL1aqXMJg yiiJfWMHjOtzzEdIgf9qnIv9bd+ZBYG1MgUWALeP/ihypGelNSTcsyQNGXmYe8ftkwhE EuVw== X-Gm-Message-State: AOJu0YyhQqNOOz0KTtB1lpbXXLdi+Ene+yiWiouvGVZ4ZVmPDRwNXH2Z T8dWIyxazqRb/mcRI51G7ttHWBx0CPhlcg2iiWlxDYKIPZ4xhXlSEiP67JlFIN77egsTtFH0dTJ /DLQ+exl+T8MwXGCKYCxW3oXa+ilpmdUI+COLTmltpiqA X-Gm-Gg: ASbGncsgfpG3n7vT3zWCmBwlO2xAHQZAAaO2HT4ECSnOyj5eNHY2Io6cS9Ih+M0sYsk 7GJ4rd/ygcGs+UA16x/2qgVraqiUH0frkb9zUawgwyEx51oWe07NQ+Gp/9dZ3YHvHJE9DoW9SzX mrghgXtOvghCzAD3Zw17mpyrJlXhA6bLs2Hw3Lho7SyLzh4nsqGn8OqTynqsQY88WZ/TkQ9gnNd sCa4mXA9M6cD9lrS1YIBVpdkM24bTaNyHhbBcc/s/9kxtEJYSkOrBso9gmzVqyWDpp5MFU+xp5I Q157j8NwW8XrUlu9si7zwlQrs7J8sllpBgI/Vkf18CSbi9FICwIAD+sQvnksrIoXOt9TLOQjjd8 FmGC12daXNL0PUWQjSzdETKpBeZhFao0= X-Google-Smtp-Source: AGHT+IEPVbiGFAKbAAu3+lm9bnoYERD6F/eCY/Ix7Pq2p7FMVhK6FRpV93BkPSRuOr0dR73kku250gwMfbZc X-Received: by 2002:a17:903:19e5:b0:265:89c:251b with SMTP id d9443c01a7336-290caf8519dmr14411305ad.29.1760647513414; Thu, 16 Oct 2025 13:45:13 -0700 (PDT) Received: from postal.iol.unh.edu (postal.iol.unh.edu. [132.177.123.84]) by smtp-relay.gmail.com with ESMTPS id d9443c01a7336-29098e8abf6sm4190845ad.3.2025.10.16.13.45.13 (version=TLS1_2 cipher=ECDHE-ECDSA-AES128-GCM-SHA256 bits=128/128); Thu, 16 Oct 2025 13:45:13 -0700 (PDT) X-Relaying-Domain: iol.unh.edu Date: Thu, 16 Oct 2025 13:45:13 -0700 (PDT) Message-ID: <68f15959.170a0220.30a546.4bfbSMTPIN_ADDED_MISSING@mx.google.com> Received: from [172.21.0.2] (unknown [172.18.0.240]) by postal.iol.unh.edu (Postfix) with ESMTP id AC3226050A61; Thu, 16 Oct 2025 16:45:12 -0400 (EDT) Subject: |SUCCESS| pw157692 [PATCH] dma/hisi_pciep: rename hisilicon driver From: dpdklab@iol.unh.edu To: Test Report Cc: dpdk-test-reports@iol.unh.edu In-Reply-To: <20251016023747.18871-1-fengchengwen@huawei.com> References: <20251016023747.18871-1-fengchengwen@huawei.com> Content-Type: text/plain X-BeenThere: test-report@dpdk.org X-Mailman-Version: 2.1.29 Precedence: list List-Id: automatic DPDK test reports List-Unsubscribe: , List-Archive: List-Post: List-Help: List-Subscribe: , Errors-To: test-report-bounces@dpdk.org Test-Label: iol-compile-arm64-testing Test-Status: SUCCESS http://dpdk.org/patch/157692 _Testing PASS_ Submitter: Chengwen Feng Date: Thursday, October 16 2025 02:37:47 DPDK git baseline: Repo:dpdk Branch: master CommitID:16f4c522003dcfecf23c8d38e009b95a3bbefd03 157692 --> testing pass Upstream job id: Generic-DPDK-Compile-Meson#434713 Test environment and result as below: +------------------------------+--------------------+ | Environment | dpdk_meson_compile | +==============================+====================+ | Ubuntu 20.04 | PASS | +------------------------------+--------------------+ | Red Hat Enterprise Linux 9.5 | PASS | +------------------------------+--------------------+ | Fedora Linux 42 | PASS | +------------------------------+--------------------+ | Debian GNU/Linux 12 | PASS | +------------------------------+--------------------+ | Ubuntu 22.04 | PASS | +------------------------------+--------------------+ | Ubuntu 24.04 | PASS | +------------------------------+--------------------+ | CentOS Stream 9 | PASS | +------------------------------+--------------------+ | CentOS Stream 10 | PASS | +------------------------------+--------------------+ Ubuntu 20.04 Kernel: 5.15 Compiler: aarch64-linux-gnu-gcc gcc (Ubuntu 9.4.0-1ubuntu1~20.04.2) 9.4.0 Red Hat Enterprise Linux 9.5 Kernel: 5.4 Compiler: gcc gcc (GCC) 11.5.0 20240719 (Red Hat 11.5.0-2) Fedora Linux 42 Kernel: 5.4 Compiler: gcc gcc (GCC) 15.2.1 20250808 (Red Hat 15.2.1-1) Debian GNU/Linux 12 Kernel: 5.4 Compiler: gcc gcc (Debian 12.2.0-14+deb12u1) 12.2.0 Ubuntu 22.04 Kernel: 5.4 Compiler: gcc gcc (Ubuntu 11.4.0-1ubuntu1~22.04) 11.4.0 Ubuntu 24.04 Kernel: 5.4 Compiler: gcc gcc (Ubuntu 13.3.0-6ubuntu2~24.04) 13.3.0 CentOS Stream 9 Kernel: 5.4 Compiler: gcc gcc (GCC) 11.5.0 20240719 (Red Hat 11.5.0-11) CentOS Stream 10 Kernel: 5.4 Compiler: gcc gcc (GCC) 14.2.1 20250110 (Red Hat 14.2.1-8) To view detailed results, visit: https://lab.dpdk.org/results/dashboard/patchsets/34292/ UNH-IOL DPDK Community Lab To manage your email subscriptions, visit: https://lab.dpdk.org/results/dashboard/preferences/subscriptions/