From mboxrd@z Thu Jan 1 00:00:00 1970 Return-Path: Received: from mails.dpdk.org (mails.dpdk.org [217.70.189.124]) by inbox.dpdk.org (Postfix) with ESMTP id 85CF348959 for ; Thu, 16 Oct 2025 22:48:43 +0200 (CEST) Received: from mails.dpdk.org (localhost [127.0.0.1]) by mails.dpdk.org (Postfix) with ESMTP id 8099F4026D; Thu, 16 Oct 2025 22:48:43 +0200 (CEST) Received: from mail-il1-f227.google.com (mail-il1-f227.google.com [209.85.166.227]) by mails.dpdk.org (Postfix) with ESMTP id 97ADD4026D for ; Thu, 16 Oct 2025 22:48:41 +0200 (CEST) Received: by mail-il1-f227.google.com with SMTP id e9e14a558f8ab-430aff9aab1so5663575ab.3 for ; Thu, 16 Oct 2025 13:48:41 -0700 (PDT) DKIM-Signature: v=1; a=rsa-sha256; c=relaxed/relaxed; d=iol.unh.edu; s=unh-iol; t=1760647721; x=1761252521; darn=dpdk.org; h=cc:to:from:subject:message-id:date:from:to:cc:subject:date :message-id:reply-to; bh=t6PcgOpSdl69byl/rhrEIZw0rh0zpzkAihl7xcY+62s=; b=LlGSZc1Qf2RL4NHHeEAuEMId7hSlFV2t7tw6nhY0VrsfvpoXLlLe0bBay1RUjbK3kO QSFH4UNbbNL0kaynA/BUksQzvu9b4lXGoYdQlnXlHbXHyEBhZPRM6Rr/JPsQxFV7Yesu duCTa+isPCgqGRi57/NAGJqUrvb/V5YTw4LbE= X-Google-DKIM-Signature: v=1; a=rsa-sha256; c=relaxed/relaxed; d=1e100.net; s=20230601; t=1760647721; x=1761252521; h=cc:to:from:subject:message-id:date:x-gm-message-state:from:to:cc :subject:date:message-id:reply-to; bh=t6PcgOpSdl69byl/rhrEIZw0rh0zpzkAihl7xcY+62s=; b=PsJHwczIUerkhNWtmBlbDOpPwE3fIVt7igX0QKKfiEDmZwrh2Q7yRyVtJjFOEhwtpN RbcPBkMwE75BkPb8GOlazt9Nd2oWwRGFZkcttsRePhG2S/b64gHXwApEVIgEumZikPCw hWq1aIs792ILkGpVdeX9Qt6y68JcwgEyn/p08q4yQ/xBdVCv0hWrxyHGKBJ3OnUmwngR Goh3bD+RzYT0U3PWJPYAfrif2QA4LKCbVbKfpPRSPxOSgCg1xbNfzX3iTN8jxtvpoaDU wQPEryJcolcJtSChZvOCItsU1IR58Z8D+00yXWLp9/brpMtqzbrXjcF7/ZdAQ/XOFkk5 7YRA== X-Gm-Message-State: AOJu0Yzy2PEPoFpv/ydriY3Hw/tXYs+qGxT/P1RuAyX81oG0W5q4mclU Q/0Vmn9QgeLrrjLU9wpAh6SNtXEm4RzYPgBkvO+DdC35Tpj+RxB409Lt5DYKI7u3+yDMb4gkA/U 5w3frqIraFeYVS25x5nRzhlyZZKtzYjU4FIXs X-Gm-Gg: ASbGnctJdJCzn3JZeCMbDBCKgn4VXK5cyz+Tzy94USGiFfPHxIdi2CV0jhs4OdGrfNO ukCAJFulbF+jwSGcx86pDDosHLGVp+p/EWLCRF3P+pepM023fU0n8cAm4cxPsLLB4t+A4p8pmLl fELC1se6nH3E3L23Nov/likZn3CCSPPlc8zI2Mr8DlOU0r5q1rJK+ysUwpEDAFpmQMlFQnTjImQ G6RLypdN1LzuEoAPGinnEma8phOoeKQ8G/a9cTXmav80/gZljqBA1gMZQIvFgDoVMruTmqDbYgH YeFLzZrupx8isnpruma3AsSX+78En8KKRMCqWoSTFlBRO3nELefzU3MruDNZUVLCqoNSKbPLyrM wegeTJ0CX/qVFD3q4zI5nypv8vqD/2I4= X-Google-Smtp-Source: AGHT+IHnkE23Ohd0mA3JdUwc/YpeK66KcoxWRgSI6ABY9vfM/pxbGzvOOShMu0oLkeqMslO8enTnZj+iTfUU X-Received: by 2002:a92:c245:0:b0:429:4c65:e8f7 with SMTP id e9e14a558f8ab-430c52d775cmr21663745ab.24.1760647720919; Thu, 16 Oct 2025 13:48:40 -0700 (PDT) Received: from postal.iol.unh.edu (postal.iol.unh.edu. [132.177.123.84]) by smtp-relay.gmail.com with ESMTPS id 8926c6da1cb9f-5a76f742c56sm41681173.33.2025.10.16.13.48.40 (version=TLS1_2 cipher=ECDHE-ECDSA-AES128-GCM-SHA256 bits=128/128); Thu, 16 Oct 2025 13:48:40 -0700 (PDT) X-Relaying-Domain: iol.unh.edu Date: Thu, 16 Oct 2025 13:48:40 -0700 (PDT) Message-ID: <68f15a28.050a0220.246fec.2213SMTPIN_ADDED_MISSING@mx.google.com> Received: from [172.21.0.2] (unknown [172.18.0.240]) by postal.iol.unh.edu (Postfix) with ESMTP id 7D2DF6051830; Thu, 16 Oct 2025 16:48:40 -0400 (EDT) Subject: |SUCCESS| [GIT MASTER] 3b43ce3f4a54468e7ef65760c2fd7b4d6ee6d9fc From: dpdklab@iol.unh.edu To: Test Report Cc: dpdk-test-reports@iol.unh.edu, Xueming Li , Christian Ehrhardt , Kevin Traynor , Luca Boccassi Content-Type: text/plain X-BeenThere: test-report@dpdk.org X-Mailman-Version: 2.1.29 Precedence: list List-Id: automatic DPDK test reports List-Unsubscribe: , List-Archive: List-Post: List-Help: List-Subscribe: , Errors-To: test-report-bounces@dpdk.org _Testing PASS_ Branch: tags/v22.11 3b43ce3f4a54468e7ef65760c2fd7b4d6ee6d9fc --> testing pass Upstream job id: Generic-DPDK-Compile-Meson#434805 Test environment and result as below: +------------------------------+--------------------+ | Environment | dpdk_meson_compile | +==============================+====================+ | Red Hat Enterprise Linux 9.5 | PASS | +------------------------------+--------------------+ | Ubuntu 20.04 | PASS | +------------------------------+--------------------+ | Debian GNU/Linux 12 | PASS | +------------------------------+--------------------+ | Fedora Linux 42 | PASS | +------------------------------+--------------------+ | Ubuntu 22.04 | PASS | +------------------------------+--------------------+ | Ubuntu 24.04 | PASS | +------------------------------+--------------------+ | CentOS Stream 9 | PASS | +------------------------------+--------------------+ | CentOS Stream 10 | PASS | +------------------------------+--------------------+ Red Hat Enterprise Linux 9.5 Kernel: 5.4 Compiler: gcc gcc (GCC) 11.5.0 20240719 (Red Hat 11.5.0-2) Ubuntu 20.04 Kernel: 5.4 Compiler: gcc gcc (Ubuntu 9.4.0-1ubuntu1~20.04.2) 9.4.0 Debian GNU/Linux 12 Kernel: 5.4 Compiler: gcc gcc (Debian 12.2.0-14+deb12u1) 12.2.0 Fedora Linux 42 Kernel: 5.4 Compiler: gcc gcc (GCC) 15.2.1 20250808 (Red Hat 15.2.1-1) Ubuntu 22.04 Kernel: 5.4 Compiler: gcc gcc (Ubuntu 11.4.0-1ubuntu1~22.04) 11.4.0 Ubuntu 24.04 Kernel: 5.4 Compiler: gcc gcc (Ubuntu 13.3.0-6ubuntu2~24.04) 13.3.0 CentOS Stream 9 Kernel: 5.4 Compiler: gcc gcc (GCC) 11.5.0 20240719 (Red Hat 11.5.0-11) CentOS Stream 10 Kernel: 5.4 Compiler: gcc gcc (GCC) 14.2.1 20250110 (Red Hat 14.2.1-8) To view detailed results, visit: https://lab.dpdk.org/results/dashboard/tarballs/35227/ UNH-IOL DPDK Community Lab To manage your email subscriptions, visit: https://lab.dpdk.org/results/dashboard/preferences/subscriptions/