From mboxrd@z Thu Jan 1 00:00:00 1970 Return-Path: Received: from mails.dpdk.org (mails.dpdk.org [217.70.189.124]) by inbox.dpdk.org (Postfix) with ESMTP id CCE6F48959 for ; Thu, 16 Oct 2025 23:22:31 +0200 (CEST) Received: from mails.dpdk.org (localhost [127.0.0.1]) by mails.dpdk.org (Postfix) with ESMTP id AD89D4026D; Thu, 16 Oct 2025 23:22:31 +0200 (CEST) Received: from mail-pg1-f226.google.com (mail-pg1-f226.google.com [209.85.215.226]) by mails.dpdk.org (Postfix) with ESMTP id 027144026D for ; Thu, 16 Oct 2025 23:22:31 +0200 (CEST) Received: by mail-pg1-f226.google.com with SMTP id 41be03b00d2f7-b6093f8f71dso811810a12.3 for ; Thu, 16 Oct 2025 14:22:30 -0700 (PDT) DKIM-Signature: v=1; a=rsa-sha256; c=relaxed/relaxed; d=iol.unh.edu; s=unh-iol; t=1760649750; x=1761254550; darn=dpdk.org; h=references:in-reply-to:cc:to:from:subject:message-id:date:from:to :cc:subject:date:message-id:reply-to; bh=EX54P3SajOIkQ+si4sfWOhYgMBztabFK83EScZNiLzs=; b=fCdJHh7SJZ3DIkye0P0Q+b7fyrwCVzf1zObE7G4uZVRTWLCFN0Sv4LDJgVBeoI3jZK fthPtBN8jv0GIOPTaZi3ibay65PPU4U9wnlwdLkXEL2riQqtJY6J5W32UqStZoNbrlWl Y5wc93I94ZiB1HQUU6Mz6BP84WmTY6+94EgzM= X-Google-DKIM-Signature: v=1; a=rsa-sha256; c=relaxed/relaxed; d=1e100.net; s=20230601; t=1760649750; x=1761254550; h=references:in-reply-to:cc:to:from:subject:message-id:date :x-gm-message-state:from:to:cc:subject:date:message-id:reply-to; bh=EX54P3SajOIkQ+si4sfWOhYgMBztabFK83EScZNiLzs=; b=OO1W/D7+WbQMFq8U7USP1uJMeMzfCQvAWfdejumRmzALYj60VZJLw2w9wJTlPtK6rH MCpG8fL4brfuD7vBpR0KJ607sQsSUPJuPz7r67ii8ElgKPqqTzeLYkKa3WfAdJ/tDbNx 6e8rdhyjGIL6F0Bt1DTkO8zzFgGwYgne68Wod+l+48GfnXH9Bi5TUOuwNZyqSWuVZJer M6xEc7Fr7iWvntT6khdnf0Cf9cceNNwHxsoPj96JMTb4Sww+nWX8q2A43qPgHhRz4QBv gHC8Fyk54T3A5aNllmMApSom0CpCHQfVBDb0E+rplCIIA3IGS+9x0aqYrzyAdMR10Gmq uitA== X-Gm-Message-State: AOJu0YwMANfZqwqqjgdQsOz6k+ypKXkHhKk38DJqW8hopMPINAc4wJVr Lnzd22fuQbG+UX852B5rZGc2WJ3tPcqPglS4t/sUpBioy/I96JISER704t37ahiOIFkDZRSWo6C BYT5WBMfUEvwjGw4GzlDSlXJqCTrE7Am5eZ25EpIY9M/V X-Gm-Gg: ASbGncvT1ptSbvuAY1y+5HLsv7qeviY09EhzTRWwPJdZBwQYXWX46942i6AMc7mMIbL 6TTgVVb3+Cu57NaliKfFvf2NwDaK+OzkZC1bToM7SIWhwtI4d4dlOmhGVKaJldza1yKDTuuoArL ALA1t8jJFrP9gvmvN7+dNZw9iSeGxnIOK8XWj6QNRrfpvvBp8SPwzT4gty2oljCe29vOW/16Qdh dYcOiHCz2C9P5bAxcoKmFYfKDa2bdiPOeqjF8try4oD/uLuXIDyo8fF1cfLRjRIaqtdVgaI9va3 DOp23PRGflxOks95OxuZ1H7198061TZfDdg+QaOF8NPXHYvhgO8xjRpzzmD0/WCLQrB6ZEoaGcu ZlV3j1WxcAetrXysv986OYkk6dGgVa2I= X-Google-Smtp-Source: AGHT+IF4koahADAzLvW+cX8CeN/mB8m6a+AlFAB/6LFkrcPihdWsLHL6VZc7oXZl5yt/agT8sO6xhP6r7+ZI X-Received: by 2002:a17:902:f543:b0:24c:965a:f97e with SMTP id d9443c01a7336-290c9cf2e68mr17130145ad.2.1760649750246; Thu, 16 Oct 2025 14:22:30 -0700 (PDT) Received: from postal.iol.unh.edu (postal.iol.unh.edu. [132.177.123.84]) by smtp-relay.gmail.com with ESMTPS id d9443c01a7336-2909967556esm3875675ad.41.2025.10.16.14.22.30 (version=TLS1_2 cipher=ECDHE-ECDSA-AES128-GCM-SHA256 bits=128/128); Thu, 16 Oct 2025 14:22:30 -0700 (PDT) X-Relaying-Domain: iol.unh.edu Date: Thu, 16 Oct 2025 14:22:30 -0700 (PDT) Message-ID: <68f16216.170a0220.25af43.3554SMTPIN_ADDED_MISSING@mx.google.com> Received: from [172.21.0.3] (unknown [172.18.0.240]) by postal.iol.unh.edu (Postfix) with ESMTP id 824286051830; Thu, 16 Oct 2025 17:22:29 -0400 (EDT) Subject: |WARNING| pw157714 [PATCH] config/arm: fix inconsistency for Neovers From: dpdklab@iol.unh.edu To: Test Report Cc: dpdk-test-reports@iol.unh.edu In-Reply-To: <20251016080533.535266-1-thierry.herbelot@6wind.com> References: <20251016080533.535266-1-thierry.herbelot@6wind.com> Content-Type: text/plain X-BeenThere: test-report@dpdk.org X-Mailman-Version: 2.1.29 Precedence: list List-Id: automatic DPDK test reports List-Unsubscribe: , List-Archive: List-Post: List-Help: List-Subscribe: , Errors-To: test-report-bounces@dpdk.org Test-Label: iol-compile-amd64-testing Test-Status: WARNING http://dpdk.org/patch/157714 _Testing issues_ Submitter: Thierry Herbelot Date: Thursday, October 16 2025 08:05:33 DPDK git baseline: Repo:dpdk Branch: master CommitID:16f4c522003dcfecf23c8d38e009b95a3bbefd03 157714 --> testing issues Upstream job id: Generic-DPDK-Compile-Meson#434908 Test environment and result as below: +-------------------------------+--------------------+-------------------+-------------------------+----------------------+-------------------+------------------+ | Environment | dpdk_meson_compile | dpdk_msvc_compile | dpdk_llvm_clang_compile | dpdk_mingw64_compile | dpdk_compile_spdk | dpdk_compile_ovs | +===============================+====================+===================+=========================+======================+===================+==================+ | FreeBSD 14.2 | PASS | SKIPPED | SKIPPED | SKIPPED | SKIPPED | SKIPPED | +-------------------------------+--------------------+-------------------+-------------------------+----------------------+-------------------+------------------+ | Ubuntu 20.04 | PASS | SKIPPED | SKIPPED | SKIPPED | SKIPPED | SKIPPED | +-------------------------------+--------------------+-------------------+-------------------------+----------------------+-------------------+------------------+ | CentOS Stream 9 | PASS | SKIPPED | SKIPPED | SKIPPED | WARN | SKIPPED | +-------------------------------+--------------------+-------------------+-------------------------+----------------------+-------------------+------------------+ | CentOS Stream 10 | PASS | SKIPPED | SKIPPED | SKIPPED | SKIPPED | SKIPPED | +-------------------------------+--------------------+-------------------+-------------------------+----------------------+-------------------+------------------+ | Debian GNU/Linux 12 | PASS | SKIPPED | SKIPPED | SKIPPED | WARN | SKIPPED | +-------------------------------+--------------------+-------------------+-------------------------+----------------------+-------------------+------------------+ | Fedora Linux 42 | PASS | SKIPPED | SKIPPED | SKIPPED | WARN | PASS | +-------------------------------+--------------------+-------------------+-------------------------+----------------------+-------------------+------------------+ | openSUSE Leap 15.6 | PASS | SKIPPED | SKIPPED | SKIPPED | SKIPPED | SKIPPED | +-------------------------------+--------------------+-------------------+-------------------------+----------------------+-------------------+------------------+ | Red Hat Enterprise Linux 8.10 | PASS | SKIPPED | SKIPPED | SKIPPED | SKIPPED | SKIPPED | +-------------------------------+--------------------+-------------------+-------------------------+----------------------+-------------------+------------------+ | Red Hat Enterprise Linux 9.5 | PASS | SKIPPED | SKIPPED | SKIPPED | SKIPPED | SKIPPED | +-------------------------------+--------------------+-------------------+-------------------------+----------------------+-------------------+------------------+ | Ubuntu 22.04 | PASS | SKIPPED | SKIPPED | SKIPPED | WARN | SKIPPED | +-------------------------------+--------------------+-------------------+-------------------------+----------------------+-------------------+------------------+ | Ubuntu 24.04 | PASS | SKIPPED | SKIPPED | SKIPPED | WARN | PASS | +-------------------------------+--------------------+-------------------+-------------------------+----------------------+-------------------+------------------+ | Alpine Linux 3.22.0 | PASS | SKIPPED | SKIPPED | SKIPPED | SKIPPED | SKIPPED | +-------------------------------+--------------------+-------------------+-------------------------+----------------------+-------------------+------------------+ | Windows Server 2022 | SKIPPED | PASS | PASS | PASS | SKIPPED | SKIPPED | +-------------------------------+--------------------+-------------------+-------------------------+----------------------+-------------------+------------------+ ==== 20 line log output for Ubuntu 24.04 (dpdk_compile_spdk): ==== --- Failed to get log output --- ==== End log output ==== FreeBSD 14.2 Kernel: 14.2-RELEASE Compiler: clang 18.1.6 Ubuntu 20.04 Kernel: 4.19 Compiler: gcc gcc (Ubuntu 9.4.0-1ubuntu1~20.04.2) 9.4.0 CentOS Stream 9 Kernel: 5.15 Compiler: gcc gcc (GCC) 11.5.0 20240719 (Red Hat 11.5.0-11) CentOS Stream 10 Kernel: 5.15 Compiler: gcc gcc (GCC) 14.2.1 20250110 (Red Hat 14.2.1-8) Debian GNU/Linux 12 Kernel: 5.15 Compiler: gcc gcc (Debian 12.2.0-14+deb12u1) 12.2.0 Fedora Linux 42 Kernel: 5.15 Compiler: clang gcc (GCC) 15.2.1 20250808 (Red Hat 15.2.1-1) openSUSE Leap 15.6 Kernel: 5.15 Compiler: gcc gcc (SUSE Linux) 7.5.0 Red Hat Enterprise Linux 8.10 Kernel: 5.15 Compiler: gcc gcc (GCC) 8.5.0 20210514 (Red Hat 8.5.0-22) Red Hat Enterprise Linux 9.5 Kernel: 5.15 Compiler: gcc gcc (GCC) 11.5.0 20240719 (Red Hat 11.5.0-2) Ubuntu 22.04 Kernel: 5.15 Compiler: gcc gcc (Ubuntu 11.4.0-1ubuntu1~22.04) 11.4.0 Ubuntu 24.04 Kernel: 5.15 Compiler: gcc gcc (Ubuntu 13.3.0-6ubuntu2~24.04) 13.3.0 Alpine Linux 3.22.0 Kernel: 5.15 Compiler: gcc gcc (Alpine 14.2.0) 14.2.0 Windows Server 2022 Kernel: 10.0.20348.2031 Compiler: clang 15.0.7, gcc 14.1.0 (MinGW), and MSVC VS 19.39.33521 To view detailed results, visit: https://lab.dpdk.org/results/dashboard/patchsets/34294/ UNH-IOL DPDK Community Lab To manage your email subscriptions, visit: https://lab.dpdk.org/results/dashboard/preferences/subscriptions/