From mboxrd@z Thu Jan 1 00:00:00 1970 Return-Path: Received: from mails.dpdk.org (mails.dpdk.org [217.70.189.124]) by inbox.dpdk.org (Postfix) with ESMTP id 66DDF48959 for ; Thu, 16 Oct 2025 23:49:46 +0200 (CEST) Received: from mails.dpdk.org (localhost [127.0.0.1]) by mails.dpdk.org (Postfix) with ESMTP id 4ACE24026D; Thu, 16 Oct 2025 23:49:46 +0200 (CEST) Received: from mail-qv1-f100.google.com (mail-qv1-f100.google.com [209.85.219.100]) by mails.dpdk.org (Postfix) with ESMTP id 56D554026D for ; Thu, 16 Oct 2025 23:49:44 +0200 (CEST) Received: by mail-qv1-f100.google.com with SMTP id 6a1803df08f44-79599d65f75so16035706d6.2 for ; Thu, 16 Oct 2025 14:49:44 -0700 (PDT) DKIM-Signature: v=1; a=rsa-sha256; c=relaxed/relaxed; d=iol.unh.edu; s=unh-iol; t=1760651383; x=1761256183; darn=dpdk.org; h=references:in-reply-to:cc:to:from:subject:message-id:date:from:to :cc:subject:date:message-id:reply-to; bh=W4WWjOWfUfzvb++VERZdNlELLOcQyw/1+va3uhilZI4=; b=hfMwPU/17nx7G1P58CBXfcZ7srud4LgApVMjslHrMxWq+uMCYCWgiJ4jK3AKM2VG4v etdE4TPnPncF1ce4tVFkHl0+U0spvFvtGSfveGmiDR964MlsTPcOkWA7bIJCi0pPPgvS nbyOY0oppMMAwyxIL0OupJvXV7hV3IZXCnx/E= X-Google-DKIM-Signature: v=1; a=rsa-sha256; c=relaxed/relaxed; d=1e100.net; s=20230601; t=1760651383; x=1761256183; h=references:in-reply-to:cc:to:from:subject:message-id:date :x-gm-message-state:from:to:cc:subject:date:message-id:reply-to; bh=W4WWjOWfUfzvb++VERZdNlELLOcQyw/1+va3uhilZI4=; b=C9edO4ztuDey/DyffQcEgEWYE/HoDGekdGnFF25YJeHpo9VpGW/QChMHtaWGwKb+FH EI87jXI0BjeCRe9SEZP5RARzi5y7tUPC1yit/DfBJJIGRksFbO03PhuL9b0JwlK4fZ+e ambsgcAZLObvk3PFjvbpFd+4PdL+3JItdTRJzXFcBQfJNf6yIs+QBM1tvUOhP+MZzrg0 3m+MuCpCtkrDRBdUTIQTXP4Wpu0/sBzkDL81BtZdrNp60AOh1DQvbJB2zzXE5WVF/q8V KBOQ2QtQ3ISXcW9BEDmCxYEXHi6b6FPgeazedXuR6fvI2+sDgpXXE4KD+87/ItyzoWqW Yg3w== X-Gm-Message-State: AOJu0YwrPozRTbB1irkyZ5AiSk8pNsoGytNOmvOSZcEPpQmNiN4LyfWM WjXZ1/5IrnZVN3rIsAuYIWjCbZaFSHZMPjYud4Lhs1I4UCTJN+oZwuS9dyII/EhePbUHjym0iWr b5L4EgPjfqD5iO5g20z7ZKi9E4vdVbLhB6iGE3Zkra3Yy X-Gm-Gg: ASbGncvj9vSOeShpoyEsMF7wG46bJPfT0QUIGATK2y9QI4VEAMrZB31/zfNYe9mCejs jxTTNwlKaDwMXGIsAIMPHbAfbq1ilAbL+SVMuGNpt1z5KFAES9TaHBd5yCev/LqGl2NyMZKEwVM W/06NgJsB2Lg54eO/C3h4LzkdYgbojCAGYGYxl0xJA6ceWreSY3W8R1AIU8WFZwYA2X+2xHEXPn ewCjTLGvDTaFEtba9GsimjoXXj0f2d37LiIq0BcHUQARCu6FNSOMMV+DuzyADBLOZFOlVx59x6g 1pH4k+M7/U9YhmZFcz+caXAGLKW1qN/WJCxj27+DoQ6WsG+yJxh3jqMNIglgo6tVmqof9Jj/Uyv qiPzh9YrwO6eFOvFQYhW7d3175BaUEJg= X-Google-Smtp-Source: AGHT+IGXKjNydxcmGunU2vs97Cz6UczIJdejdXix14j6DXbGhfG36ltMEoWr0vaFxiSaazXryGGMFB/zO2bZ X-Received: by 2002:ad4:5cc1:0:b0:815:2c80:5538 with SMTP id 6a1803df08f44-87c2063367bmr24850116d6.35.1760651383634; Thu, 16 Oct 2025 14:49:43 -0700 (PDT) Received: from postal.iol.unh.edu (postal.iol.unh.edu. [132.177.123.84]) by smtp-relay.gmail.com with ESMTPS id 6a1803df08f44-87c08c9f932sm4487056d6.3.2025.10.16.14.49.43 (version=TLS1_2 cipher=ECDHE-ECDSA-AES128-GCM-SHA256 bits=128/128); Thu, 16 Oct 2025 14:49:43 -0700 (PDT) X-Relaying-Domain: iol.unh.edu Date: Thu, 16 Oct 2025 14:49:43 -0700 (PDT) Message-ID: <68f16877.d40a0220.12cc92.6ca8SMTPIN_ADDED_MISSING@mx.google.com> Received: from [172.21.0.4] (unknown [172.18.0.240]) by postal.iol.unh.edu (Postfix) with ESMTP id 557AF6051830; Thu, 16 Oct 2025 17:49:43 -0400 (EDT) Subject: |WARNING| pw157716-157715 [PATCH] [v1,2/2] benchmark report for rte_ From: dpdklab@iol.unh.edu To: Test Report Cc: dpdk-test-reports@iol.unh.edu In-Reply-To: <20251016090934.1166954-3-chen.qiguo@zte.com.cn> References: <20251016090934.1166954-3-chen.qiguo@zte.com.cn> Content-Type: text/plain X-BeenThere: test-report@dpdk.org X-Mailman-Version: 2.1.29 Precedence: list List-Id: automatic DPDK test reports List-Unsubscribe: , List-Archive: List-Post: List-Help: List-Subscribe: , Errors-To: test-report-bounces@dpdk.org Test-Label: iol-compile-amd64-testing Test-Status: WARNING http://dpdk.org/patch/157715 _Testing issues_ Submitter: Qiguo Chen Date: Thursday, October 16 2025 09:09:34 DPDK git baseline: Repo:dpdk Branch: master CommitID:16f4c522003dcfecf23c8d38e009b95a3bbefd03 157716-157715 --> testing issues Upstream job id: Generic-DPDK-Compile-Meson#434948 Test environment and result as below: +-------------------------------+--------------------+-------------------+-------------------------+----------------------+-------------------+------------------+ | Environment | dpdk_meson_compile | dpdk_msvc_compile | dpdk_llvm_clang_compile | dpdk_mingw64_compile | dpdk_compile_spdk | dpdk_compile_ovs | +===============================+====================+===================+=========================+======================+===================+==================+ | FreeBSD 14.2 | PASS | SKIPPED | SKIPPED | SKIPPED | SKIPPED | SKIPPED | +-------------------------------+--------------------+-------------------+-------------------------+----------------------+-------------------+------------------+ | Ubuntu 20.04 | PASS | SKIPPED | SKIPPED | SKIPPED | SKIPPED | SKIPPED | +-------------------------------+--------------------+-------------------+-------------------------+----------------------+-------------------+------------------+ | CentOS Stream 9 | PASS | SKIPPED | SKIPPED | SKIPPED | WARN | SKIPPED | +-------------------------------+--------------------+-------------------+-------------------------+----------------------+-------------------+------------------+ | CentOS Stream 10 | PASS | SKIPPED | SKIPPED | SKIPPED | SKIPPED | SKIPPED | +-------------------------------+--------------------+-------------------+-------------------------+----------------------+-------------------+------------------+ | Debian GNU/Linux 12 | PASS | SKIPPED | SKIPPED | SKIPPED | WARN | SKIPPED | +-------------------------------+--------------------+-------------------+-------------------------+----------------------+-------------------+------------------+ | Fedora Linux 42 | PASS | SKIPPED | SKIPPED | SKIPPED | WARN | PASS | +-------------------------------+--------------------+-------------------+-------------------------+----------------------+-------------------+------------------+ | openSUSE Leap 15.6 | PASS | SKIPPED | SKIPPED | SKIPPED | SKIPPED | SKIPPED | +-------------------------------+--------------------+-------------------+-------------------------+----------------------+-------------------+------------------+ | Red Hat Enterprise Linux 8.10 | PASS | SKIPPED | SKIPPED | SKIPPED | SKIPPED | SKIPPED | +-------------------------------+--------------------+-------------------+-------------------------+----------------------+-------------------+------------------+ | Ubuntu 22.04 | PASS | SKIPPED | SKIPPED | SKIPPED | WARN | SKIPPED | +-------------------------------+--------------------+-------------------+-------------------------+----------------------+-------------------+------------------+ | Red Hat Enterprise Linux 9.5 | PASS | SKIPPED | SKIPPED | SKIPPED | SKIPPED | SKIPPED | +-------------------------------+--------------------+-------------------+-------------------------+----------------------+-------------------+------------------+ | Ubuntu 24.04 | PASS | SKIPPED | SKIPPED | SKIPPED | WARN | PASS | +-------------------------------+--------------------+-------------------+-------------------------+----------------------+-------------------+------------------+ | Alpine Linux 3.22.0 | PASS | SKIPPED | SKIPPED | SKIPPED | SKIPPED | SKIPPED | +-------------------------------+--------------------+-------------------+-------------------------+----------------------+-------------------+------------------+ | Windows Server 2022 | SKIPPED | PASS | PASS | PASS | SKIPPED | SKIPPED | +-------------------------------+--------------------+-------------------+-------------------------+----------------------+-------------------+------------------+ ==== 20 line log output for Ubuntu 24.04 (dpdk_compile_spdk): ==== --- Failed to get log output --- ==== End log output ==== FreeBSD 14.2 Kernel: 14.2-RELEASE Compiler: clang 18.1.6 Ubuntu 20.04 Kernel: 4.19 Compiler: gcc gcc (Ubuntu 9.4.0-1ubuntu1~20.04.2) 9.4.0 CentOS Stream 9 Kernel: 5.15 Compiler: gcc gcc (GCC) 11.5.0 20240719 (Red Hat 11.5.0-11) CentOS Stream 10 Kernel: 5.15 Compiler: gcc gcc (GCC) 14.2.1 20250110 (Red Hat 14.2.1-8) Debian GNU/Linux 12 Kernel: 5.15 Compiler: gcc gcc (Debian 12.2.0-14+deb12u1) 12.2.0 Fedora Linux 42 Kernel: 5.15 Compiler: clang gcc (GCC) 15.2.1 20250808 (Red Hat 15.2.1-1) openSUSE Leap 15.6 Kernel: 5.15 Compiler: gcc gcc (SUSE Linux) 7.5.0 Red Hat Enterprise Linux 8.10 Kernel: 5.15 Compiler: gcc gcc (GCC) 8.5.0 20210514 (Red Hat 8.5.0-22) Ubuntu 22.04 Kernel: 5.15 Compiler: gcc gcc (Ubuntu 11.4.0-1ubuntu1~22.04) 11.4.0 Red Hat Enterprise Linux 9.5 Kernel: 5.15 Compiler: gcc gcc (GCC) 11.5.0 20240719 (Red Hat 11.5.0-2) Ubuntu 24.04 Kernel: 5.15 Compiler: gcc gcc (Ubuntu 13.3.0-6ubuntu2~24.04) 13.3.0 Alpine Linux 3.22.0 Kernel: 5.15 Compiler: gcc gcc (Alpine 14.2.0) 14.2.0 Windows Server 2022 Kernel: 10.0.20348.2031 Compiler: clang 15.0.7, gcc 14.1.0 (MinGW), and MSVC VS 19.39.33521 To view detailed results, visit: https://lab.dpdk.org/results/dashboard/patchsets/34296/ UNH-IOL DPDK Community Lab To manage your email subscriptions, visit: https://lab.dpdk.org/results/dashboard/preferences/subscriptions/