From mboxrd@z Thu Jan 1 00:00:00 1970 Return-Path: Received: from mails.dpdk.org (mails.dpdk.org [217.70.189.124]) by inbox.dpdk.org (Postfix) with ESMTP id 5A56048959 for ; Thu, 16 Oct 2025 23:49:54 +0200 (CEST) Received: from mails.dpdk.org (localhost [127.0.0.1]) by mails.dpdk.org (Postfix) with ESMTP id 5670E4026D; Thu, 16 Oct 2025 23:49:54 +0200 (CEST) Received: from mail-pl1-f227.google.com (mail-pl1-f227.google.com [209.85.214.227]) by mails.dpdk.org (Postfix) with ESMTP id 1EBED4026D for ; Thu, 16 Oct 2025 23:49:53 +0200 (CEST) Received: by mail-pl1-f227.google.com with SMTP id d9443c01a7336-27ee41e0798so19667175ad.1 for ; Thu, 16 Oct 2025 14:49:53 -0700 (PDT) DKIM-Signature: v=1; a=rsa-sha256; c=relaxed/relaxed; d=iol.unh.edu; s=unh-iol; t=1760651392; x=1761256192; darn=dpdk.org; h=references:in-reply-to:cc:to:from:subject:message-id:date:from:to :cc:subject:date:message-id:reply-to; bh=IrKlTw34gH9V70WwfxvAE99hqDEi8ewJgsomGVy3xB4=; b=C9+Eq7nMD+OgSTXpI9KxWnNuWBk7CFw59mxDEyLW7Kby7vtTr+HERSp8Y9fY7H3iif bw5h7SNQS6OCzlTQN9kmXUUJlw10VULjhyEmBH8+ua4+v6yhO3KDrssBYBcR/k9kKyUU oWug3KmoxBYk9FmIae3E1h97KJWHbNltOBNkA= X-Google-DKIM-Signature: v=1; a=rsa-sha256; c=relaxed/relaxed; d=1e100.net; s=20230601; t=1760651392; x=1761256192; h=references:in-reply-to:cc:to:from:subject:message-id:date :x-gm-message-state:from:to:cc:subject:date:message-id:reply-to; bh=IrKlTw34gH9V70WwfxvAE99hqDEi8ewJgsomGVy3xB4=; b=IE3SqLP8N7Rurr6MNmcS+guau37npL0qv2c4CiJxS+zEDkX49J1rE9hEvRWcy488AK 2dCT/gjTu+7N5ZeZnyF3TqyLuGJNv31L4Si3qNyIP+iM30xZZhK0XoSGj79V94ViX4zv 7ldadI3qCsGCtYTnkyIVARqkJKAlqwndCjfnhPV6YPfWwSUO4whuhcsSyPpmSIxBq1Xn xqSOeGEa7eaoSBH9fbsQoH04VrbZy2Pc/TQJNjtmPexV02VBmgpGpQFYCZc3a0dpfxaZ tGug7KwTxVOxDnTttHxkEx0HTCEN+LpKxlHIEk4UI4CCYTPVRYfQ3eQROFc02OSrN1DB veUg== X-Gm-Message-State: AOJu0Yy6jRrGGdNbNjbDTVECMwKLkN0XY+BRAmxiV4dan2PskjOjWJBk KKofUERy+loyINEc0ymSpRCPtoSzAYVc4SxgQ/iLThIybsqGofcpl4ipXQtX0sD9xbWfyZ8/4Qx PCRDj0JKBIK1P2u5vyHGStli2fX9YR8mk+Gup6dOSkmNDFdetw0wpBeKcFDq0 X-Gm-Gg: ASbGncsd2febi7bPRVLK2y762aFB44TdUDaHlBg8EgSKshl5z6Bj/HOg3wQL+JxTONV ysLTnztmRnfRM43XX3AaPvx9qZt/WLE9jqX+CB2MU9yvy+g177S9P2D4uQWBF+3cTM5yvxVxo7/ OxuKhthkk50wgYIjz/msVAqcSePhnhN5HOopXeG4ItjmhvDLkGdfcak+NNzXO6W/VpdP9g0RIIl sjhU4zTjGiM2y7JqA1ac/QTBcoHE3hIyJaHQbEzaGJSIK1mrgpoUY9IrKSDqo/s4wmhx/BdiX5O QG/fNBmHxGQlSsC+GIqYI59ngcz6sIxFVfd+vPLkRox4lVmq/geZBdqNUyKipCw4IGVkKDlSEUq eTuxKtq8p X-Google-Smtp-Source: AGHT+IFD0IgIhV5Ca8o45D3jmJABzf7cl3m7ycgdQkpZOYlrYY7abzaXAiyVPW3YX6i7I9ENLOeA+7gUj90e X-Received: by 2002:a17:903:3586:b0:262:cd8c:bfa8 with SMTP id d9443c01a7336-290cb9473f9mr15273555ad.34.1760651392186; Thu, 16 Oct 2025 14:49:52 -0700 (PDT) Received: from postal.iol.unh.edu (postal.iol.unh.edu. [2606:4100:3880:1234::84]) by smtp-relay.gmail.com with ESMTPS id d9443c01a7336-29098e8d903sm4350935ad.9.2025.10.16.14.49.52 (version=TLS1_2 cipher=ECDHE-ECDSA-AES128-GCM-SHA256 bits=128/128); Thu, 16 Oct 2025 14:49:52 -0700 (PDT) X-Relaying-Domain: iol.unh.edu Date: Thu, 16 Oct 2025 14:49:52 -0700 (PDT) Message-ID: <68f16880.170a0220.219f07.5d00SMTPIN_ADDED_MISSING@mx.google.com> Received: from [172.21.0.5] (unknown [172.18.0.240]) by postal.iol.unh.edu (Postfix) with ESMTP id 74F8A6051830; Thu, 16 Oct 2025 17:49:51 -0400 (EDT) Subject: |SUCCESS| pw157695-157696 [PATCH] [v6,4/4] dma/hisi_acc: add doc From: dpdklab@iol.unh.edu To: Test Report Cc: dpdk-test-reports@iol.unh.edu In-Reply-To: <20251016025318.14333-5-fengchengwen@huawei.com> References: <20251016025318.14333-5-fengchengwen@huawei.com> Content-Type: text/plain X-BeenThere: test-report@dpdk.org X-Mailman-Version: 2.1.29 Precedence: list List-Id: automatic DPDK test reports List-Unsubscribe: , List-Archive: List-Post: List-Help: List-Subscribe: , Errors-To: test-report-bounces@dpdk.org Test-Label: iol-unit-arm64-testing Test-Status: SUCCESS http://dpdk.org/patch/157696 _Testing PASS_ Submitter: Chengwen Feng Date: Thursday, October 16 2025 02:53:18 DPDK git baseline: Repo:dpdk Branch: master CommitID:16f4c522003dcfecf23c8d38e009b95a3bbefd03 157695-157696 --> testing pass Upstream job id: Generic-Unit-Test-DPDK#381948 Test environment and result as below: +------------------------------+----------------+--------------+---------------------------+------------------------------+ | Environment | dpdk_unit_test | lpm_autotest | cryptodev_sw_zuc_autotest | cryptodev_sw_snow3g_autotest | +==============================+================+==============+===========================+==============================+ | CentOS Stream 9 | PASS | SKIPPED | SKIPPED | SKIPPED | +------------------------------+----------------+--------------+---------------------------+------------------------------+ | CentOS Stream 10 | PASS | SKIPPED | SKIPPED | SKIPPED | +------------------------------+----------------+--------------+---------------------------+------------------------------+ | Debian GNU/Linux 12 | PASS | SKIPPED | SKIPPED | SKIPPED | +------------------------------+----------------+--------------+---------------------------+------------------------------+ | Fedora Linux 40 | PASS | SKIPPED | SKIPPED | SKIPPED | +------------------------------+----------------+--------------+---------------------------+------------------------------+ | Red Hat Enterprise Linux 9.5 | PASS | SKIPPED | SKIPPED | SKIPPED | +------------------------------+----------------+--------------+---------------------------+------------------------------+ | Fedora Linux 41 | PASS | SKIPPED | SKIPPED | SKIPPED | +------------------------------+----------------+--------------+---------------------------+------------------------------+ | Fedora Linux 42 | PASS | SKIPPED | SKIPPED | SKIPPED | +------------------------------+----------------+--------------+---------------------------+------------------------------+ | Ubuntu 22.04 | PASS | SKIPPED | SKIPPED | SKIPPED | +------------------------------+----------------+--------------+---------------------------+------------------------------+ | Ubuntu 20.04 | PASS | PASS | SKIPPED | SKIPPED | +------------------------------+----------------+--------------+---------------------------+------------------------------+ | Ubuntu 24.04 | PASS | SKIPPED | SKIPPED | SKIPPED | +------------------------------+----------------+--------------+---------------------------+------------------------------+ | Debian 12 (arm) | SKIPPED | SKIPPED | PASS | PASS | +------------------------------+----------------+--------------+---------------------------+------------------------------+ CentOS Stream 9 Kernel: 5.4 Compiler: gcc gcc (GCC) 11.5.0 20240719 (Red Hat 11.5.0-11) CentOS Stream 10 Kernel: 5.4 Compiler: gcc gcc (GCC) 14.2.1 20250110 (Red Hat 14.2.1-8) Debian GNU/Linux 12 Kernel: 5.4 Compiler: gcc gcc (Debian 12.2.0-14+deb12u1) 12.2.0 Fedora Linux 40 Kernel: 5.4 Compiler: gcc gcc (GCC) 14.2.1 20240912 (Red Hat 14.2.1-3) Red Hat Enterprise Linux 9.5 Kernel: 5.4 Compiler: gcc gcc (GCC) 11.5.0 20240719 (Red Hat 11.5.0-2) Fedora Linux 41 Kernel: 5.4 Compiler: gcc gcc (GCC) 14.3.1 20250523 (Red Hat 14.3.1-1) Fedora Linux 42 Kernel: 5.4 Compiler: gcc gcc (GCC) 15.2.1 20250808 (Red Hat 15.2.1-1) Ubuntu 22.04 Kernel: 5.4 Compiler: gcc gcc (Ubuntu 11.4.0-1ubuntu1~22.04) 11.4.0 Ubuntu 20.04 Kernel: 5.4 Compiler: gcc gcc (Ubuntu 9.4.0-1ubuntu1~20.04.2) 9.4.0 Ubuntu 24.04 Kernel: 5.4 Compiler: gcc gcc (Ubuntu 13.3.0-6ubuntu2~24.04) 13.3.0 Debian 12 (arm) Kernel: Depends on container host Compiler: gcc (Debian 12.2.0-14) 12.2.0 To view detailed results, visit: https://lab.dpdk.org/results/dashboard/patchsets/34293/ UNH-IOL DPDK Community Lab To manage your email subscriptions, visit: https://lab.dpdk.org/results/dashboard/preferences/subscriptions/