From mboxrd@z Thu Jan 1 00:00:00 1970 Return-Path: Received: from mails.dpdk.org (mails.dpdk.org [217.70.189.124]) by inbox.dpdk.org (Postfix) with ESMTP id 6780748959 for ; Thu, 16 Oct 2025 23:50:08 +0200 (CEST) Received: from mails.dpdk.org (localhost [127.0.0.1]) by mails.dpdk.org (Postfix) with ESMTP id 646E14026D; Thu, 16 Oct 2025 23:50:08 +0200 (CEST) Received: from mail-pl1-f226.google.com (mail-pl1-f226.google.com [209.85.214.226]) by mails.dpdk.org (Postfix) with ESMTP id D8BBA4026D for ; Thu, 16 Oct 2025 23:50:06 +0200 (CEST) Received: by mail-pl1-f226.google.com with SMTP id d9443c01a7336-26a0a694ea8so9682065ad.3 for ; Thu, 16 Oct 2025 14:50:06 -0700 (PDT) DKIM-Signature: v=1; a=rsa-sha256; c=relaxed/relaxed; d=iol.unh.edu; s=unh-iol; t=1760651406; x=1761256206; darn=dpdk.org; h=cc:to:from:subject:message-id:date:from:to:cc:subject:date :message-id:reply-to; bh=pl9LecVGpylJJ2SvvG7yvUWEym3eTIFOF4sDSW9oixI=; b=dGN7wxjhnBja7JwvwH+Qo3sAXbwOo/cC9rolkPF/grO/qFvT3bjukOJOMIAU1ZSZKM 42tYJxp71emgbKIqcXmnOZ+iisyCd4PtniGZawaSwXX7MvXFzDT/DqLWOnd8JlAcda2l ZyGAhsM8cjDCNjCHnDEgQ1oz3pKJe3rPsU8Xo= X-Google-DKIM-Signature: v=1; a=rsa-sha256; c=relaxed/relaxed; d=1e100.net; s=20230601; t=1760651406; x=1761256206; h=cc:to:from:subject:message-id:date:x-gm-message-state:from:to:cc :subject:date:message-id:reply-to; bh=pl9LecVGpylJJ2SvvG7yvUWEym3eTIFOF4sDSW9oixI=; b=qPrzng9baJUCjJPIUqzEdiZJgFsXJsby1ixzJ9z48V0xsu9nzA7M782FGPJE0fhtYd gFy5keUnu8NszNh1kXtvnLcZoYkjaAr3gSCOMh4s8Bqrmwgs3dA/ws/gp9rvM4yI93Do NgpZySEwIrpOaRDdWHMKqYRImz23rXZ25aEmwr+/+AWtQID0mc8l2bkk3W3VMLHaayfG Ck02TZW0+YUFhetPm3nhFiQ3+krYdnKiFkjedppB2Zh6fLrxXgkWMP96ztSZrj8oV+UE 1FXmzNvmyr2l93RRsHHdBbJ/hVDPpURoy8vZO14K86a6nw2BepJkjazhrWMeMgWsxP9r z9jA== X-Gm-Message-State: AOJu0YwTU5malhRexIa6+9+gNHskVzXFByWlK6XF5jguLXTOzxdJcoP5 k1wwbbQ5slfMUIfOQtYvehg5h5RP5SR0gIEEpqyPtkNOP0DNQmGll2wj1prUCqvwThwUhIPIchj 3uyMLcf8LO+RWhuBkl1E8Z6X/evcEmlB6WMkDv2fxVd67 X-Gm-Gg: ASbGncvU9Vj5YVsDUx6wSfJPg4Y2krz0pCfJJXwgNusfvZ1rpB/WjAICqc4JC4BbcJ6 E0ulZI9XpIXub27xwI9ckEVr7j61WVwUlFTji05uxooVOVQz5aKwIRP3mjR2GXMRMrpskEBHOn6 5fLhoF73y/yE83dyySb5hZr3YWH6epz9ZkoxhX5OYRCTdPHPYXO9TWebstaMR139+S/LRoE++XL Rn6OIzoBc9JINM+YS40A6+tEanEz9nP8rhU8oXBOMdVc02eEX+xb8K65T5xfzZ5eQW4MMXB/bTS rdUhka0UXKNHL+Fmg9USEVt6lMBy0hAZPJJNYE99VTcwcAPFTNHYmlwGSmsOR3sIM+FF+d5FevT PWG9a1Gd/9uTw2GrbbSiYoRo4v2VgHQc= X-Google-Smtp-Source: AGHT+IGhtckHYGubGg+qNv5kMEJn00plAMKirhwlQHeJwILMNmML2KPk8CSHKZSiQsAuos3HVV2HlY4grj1i X-Received: by 2002:a17:902:cf12:b0:28e:80d7:663e with SMTP id d9443c01a7336-290cb079e2dmr17961235ad.40.1760651406092; Thu, 16 Oct 2025 14:50:06 -0700 (PDT) Received: from postal.iol.unh.edu (postal.iol.unh.edu. [132.177.123.84]) by smtp-relay.gmail.com with ESMTPS id d9443c01a7336-290996755ffsm4320515ad.32.2025.10.16.14.50.05 (version=TLS1_2 cipher=ECDHE-ECDSA-AES128-GCM-SHA256 bits=128/128); Thu, 16 Oct 2025 14:50:06 -0700 (PDT) X-Relaying-Domain: iol.unh.edu Date: Thu, 16 Oct 2025 14:50:06 -0700 (PDT) Message-ID: <68f1688e.170a0220.2469e5.4c81SMTPIN_ADDED_MISSING@mx.google.com> Received: from [172.21.0.9] (unknown [172.18.0.240]) by postal.iol.unh.edu (Postfix) with ESMTP id 6170F6051830; Thu, 16 Oct 2025 17:50:05 -0400 (EDT) Subject: |SUCCESS| [GIT MASTER] a62b0fbf8e367c88d28d78210db1b28c8eac4b1b From: dpdklab@iol.unh.edu To: Test Report Cc: dpdk-test-reports@iol.unh.edu, Chenbo Xia , Maxime Coquelin Content-Type: text/plain X-BeenThere: test-report@dpdk.org X-Mailman-Version: 2.1.29 Precedence: list List-Id: automatic DPDK test reports List-Unsubscribe: , List-Archive: List-Post: List-Help: List-Subscribe: , Errors-To: test-report-bounces@dpdk.org _Testing PASS_ Branch: dpdk-next-virtio a62b0fbf8e367c88d28d78210db1b28c8eac4b1b --> testing pass Upstream job id: Generic-DPDK-Compile-Meson#434843 Test environment and result as below: +------------------------------+--------------------+ | Environment | dpdk_meson_compile | +==============================+====================+ | Red Hat Enterprise Linux 9.5 | PASS | +------------------------------+--------------------+ | Ubuntu 20.04 | PASS | +------------------------------+--------------------+ | Debian GNU/Linux 12 | PASS | +------------------------------+--------------------+ | Fedora Linux 42 | PASS | +------------------------------+--------------------+ | Ubuntu 22.04 | PASS | +------------------------------+--------------------+ | Ubuntu 24.04 | PASS | +------------------------------+--------------------+ | CentOS Stream 10 | PASS | +------------------------------+--------------------+ | CentOS Stream 9 | PASS | +------------------------------+--------------------+ Red Hat Enterprise Linux 9.5 Kernel: 5.4 Compiler: gcc gcc (GCC) 11.5.0 20240719 (Red Hat 11.5.0-2) Ubuntu 20.04 Kernel: 5.15 Compiler: aarch64-linux-gnu-gcc gcc (Ubuntu 9.4.0-1ubuntu1~20.04.2) 9.4.0 Debian GNU/Linux 12 Kernel: 5.4 Compiler: gcc gcc (Debian 12.2.0-14+deb12u1) 12.2.0 Fedora Linux 42 Kernel: 5.4 Compiler: gcc gcc (GCC) 15.2.1 20250808 (Red Hat 15.2.1-1) Ubuntu 22.04 Kernel: 5.4 Compiler: gcc gcc (Ubuntu 11.4.0-1ubuntu1~22.04) 11.4.0 Ubuntu 24.04 Kernel: 5.4 Compiler: gcc gcc (Ubuntu 13.3.0-6ubuntu2~24.04) 13.3.0 CentOS Stream 10 Kernel: 5.4 Compiler: gcc gcc (GCC) 14.2.1 20250110 (Red Hat 14.2.1-8) CentOS Stream 9 Kernel: 5.4 Compiler: gcc gcc (GCC) 11.5.0 20240719 (Red Hat 11.5.0-11) To view detailed results, visit: https://lab.dpdk.org/results/dashboard/tarballs/35230/ UNH-IOL DPDK Community Lab To manage your email subscriptions, visit: https://lab.dpdk.org/results/dashboard/preferences/subscriptions/