From mboxrd@z Thu Jan 1 00:00:00 1970 Return-Path: Received: from mails.dpdk.org (mails.dpdk.org [217.70.189.124]) by inbox.dpdk.org (Postfix) with ESMTP id 73C7D48959 for ; Thu, 16 Oct 2025 23:50:23 +0200 (CEST) Received: from mails.dpdk.org (localhost [127.0.0.1]) by mails.dpdk.org (Postfix) with ESMTP id 6FF7F4026D; Thu, 16 Oct 2025 23:50:23 +0200 (CEST) Received: from mail-qv1-f98.google.com (mail-qv1-f98.google.com [209.85.219.98]) by mails.dpdk.org (Postfix) with ESMTP id CE4D64026D for ; Thu, 16 Oct 2025 23:50:21 +0200 (CEST) Received: by mail-qv1-f98.google.com with SMTP id 6a1803df08f44-87c1877b428so19660706d6.1 for ; Thu, 16 Oct 2025 14:50:21 -0700 (PDT) DKIM-Signature: v=1; a=rsa-sha256; c=relaxed/relaxed; d=iol.unh.edu; s=unh-iol; t=1760651421; x=1761256221; darn=dpdk.org; h=references:in-reply-to:cc:to:from:subject:message-id:date:from:to :cc:subject:date:message-id:reply-to; bh=Jj/x/h+BINpZwlLJNh6ul2RQq/0VJI0LBhmPC49KjRU=; b=ehe9liRoidIwq61VQ6bwyzwMo4kL0v/SWlDxJ7HYSfzsmDvETAIfPYFH7Y8ZGoei4C 53mQVrchEJG2gkCZqkmgU+DVBYckiJuC49uOH/Yvzzp+tuC007krZsAyfDIyAPW7RW59 1cLmqXB9qCKF7mw6rWcLPjz+ha4QNp1P6Uzjc= X-Google-DKIM-Signature: v=1; a=rsa-sha256; c=relaxed/relaxed; d=1e100.net; s=20230601; t=1760651421; x=1761256221; h=references:in-reply-to:cc:to:from:subject:message-id:date :x-gm-message-state:from:to:cc:subject:date:message-id:reply-to; bh=Jj/x/h+BINpZwlLJNh6ul2RQq/0VJI0LBhmPC49KjRU=; b=Jb9CfUDIe7NnonQ6CihK9JfPqf+IFhSUwdOHuqTeoio+bK2T2jKd5PUl00DIN2mNXa PT4xDb1lDUs+vIz1J7xLWVpqRA8fd2CM5X6/fiAM6k3uN42l3j5B32dZTwoYD3gjcuDe pUmoGjeUhQxhFSUm94/3opiqz7bXXXOQGz/nrr8hhIWrRWSr8fRsNJM394WLleD4WnBE W1eSeRi+egH+sQKPgMw56TPXPv8tNT88fAI7W6G0ioyofu0KbV1i3FOHgx3i6N5roT87 IOREg9EnWe8/V+Lxm2m8CWlQFBBgrHSaxB7P+It83mHNNmHJZxe2ytbWRt+bayeWCRwE Vpkw== X-Gm-Message-State: AOJu0YylP+kPUgmyhcaV0InoX5MoBNofatJVB+XFYvGVCBxSCylSCMt0 LIjQH4a4Uwom0lNxRDIJ1UvhXoALLhtCwDtr/AbOuUVA4Ehxhku0cS7KUS3XYFHnaDDmXXs5TKR SQV3AU6XuqZSMWpR7c86MszTMumkxVvwF5Msz1Np5gOv6 X-Gm-Gg: ASbGnculhKK6qnR4mxBVoPjHQujxK4VhiRt8rqvf6en0Zo5N1wvRSiq7NbMMjsVAhrL Mih/vcnVTx6iDSxS6qOmOAI7wR/Rn20YoGQKvMmbOfZZ4oVIC5+owIqJp+f9yKKbrL03FnlH8qy ltrlh1UiEMKm5z0XG/hjaQ0VxPjB4uaYAJQr6uj23Z/ubi8f8tHS89v4w/B1yY2igk2keH6wYYX ryYNHYYe3u5wn/eiq7ymMpBV0DmsjCqpN6WebywDNGPBtCetLpcfX1657BO5Dxr9+4sCiDJmMXT XCaq7W6V8w3bP+voRpEe6lOIWbomlvacbNpcvZVuDuBUcFx4v+ejB4nLxPH68NVdyU8Zr2YUWaR WsyZLKnx96ns+3oCwwS+LNLdQKL+eIkg= X-Google-Smtp-Source: AGHT+IGv+p9nis3BvCNRfGScse+AjbkmGJGvl4fypwruxuoLZwVA+a7VDkXpZDvqxc26S7q02LYERvYZYEx6 X-Received: by 2002:a05:6214:610d:b0:87c:22c4:18cd with SMTP id 6a1803df08f44-87c22c419femr13153426d6.54.1760651421251; Thu, 16 Oct 2025 14:50:21 -0700 (PDT) Received: from postal.iol.unh.edu (postal.iol.unh.edu. [132.177.123.84]) by smtp-relay.gmail.com with ESMTPS id 6a1803df08f44-87c0120fcb3sm5866136d6.5.2025.10.16.14.50.21 (version=TLS1_2 cipher=ECDHE-ECDSA-AES128-GCM-SHA256 bits=128/128); Thu, 16 Oct 2025 14:50:21 -0700 (PDT) X-Relaying-Domain: iol.unh.edu Date: Thu, 16 Oct 2025 14:50:21 -0700 (PDT) Message-ID: <68f1689d.050a0220.2f62f5.cc84SMTPIN_ADDED_MISSING@mx.google.com> Received: from [172.21.0.2] (unknown [172.18.0.240]) by postal.iol.unh.edu (Postfix) with ESMTP id 063596051830; Thu, 16 Oct 2025 17:50:21 -0400 (EDT) Subject: |WARNING| pw157716-157715 [PATCH] [v1,2/2] benchmark report for rte_ From: dpdklab@iol.unh.edu To: Test Report Cc: dpdk-test-reports@iol.unh.edu In-Reply-To: <20251016090934.1166954-3-chen.qiguo@zte.com.cn> References: <20251016090934.1166954-3-chen.qiguo@zte.com.cn> Content-Type: text/plain X-BeenThere: test-report@dpdk.org X-Mailman-Version: 2.1.29 Precedence: list List-Id: automatic DPDK test reports List-Unsubscribe: , List-Archive: List-Post: List-Help: List-Subscribe: , Errors-To: test-report-bounces@dpdk.org Test-Label: iol-compile-amd64-testing Test-Status: WARNING http://dpdk.org/patch/157715 _Testing issues_ Submitter: Qiguo Chen Date: Thursday, October 16 2025 09:09:34 DPDK git baseline: Repo:dpdk Branch: master CommitID:16f4c522003dcfecf23c8d38e009b95a3bbefd03 157716-157715 --> testing issues Upstream job id: Generic-DPDK-Compile-Meson#434947 Test environment and result as below: +-------------------------------+--------------------+-------------------+-------------------------+----------------------+-------------------+------------------+ | Environment | dpdk_meson_compile | dpdk_msvc_compile | dpdk_llvm_clang_compile | dpdk_mingw64_compile | dpdk_compile_spdk | dpdk_compile_ovs | +===============================+====================+===================+=========================+======================+===================+==================+ | FreeBSD 14.2 | PASS | SKIPPED | SKIPPED | SKIPPED | SKIPPED | SKIPPED | +-------------------------------+--------------------+-------------------+-------------------------+----------------------+-------------------+------------------+ | Ubuntu 20.04 | PASS | SKIPPED | SKIPPED | SKIPPED | SKIPPED | SKIPPED | +-------------------------------+--------------------+-------------------+-------------------------+----------------------+-------------------+------------------+ | CentOS Stream 9 | PASS | SKIPPED | SKIPPED | SKIPPED | WARN | SKIPPED | +-------------------------------+--------------------+-------------------+-------------------------+----------------------+-------------------+------------------+ | CentOS Stream 10 | PASS | SKIPPED | SKIPPED | SKIPPED | SKIPPED | SKIPPED | +-------------------------------+--------------------+-------------------+-------------------------+----------------------+-------------------+------------------+ | Debian GNU/Linux 12 | PASS | SKIPPED | SKIPPED | SKIPPED | WARN | SKIPPED | +-------------------------------+--------------------+-------------------+-------------------------+----------------------+-------------------+------------------+ | Fedora Linux 42 | PASS | SKIPPED | SKIPPED | SKIPPED | WARN | PASS | +-------------------------------+--------------------+-------------------+-------------------------+----------------------+-------------------+------------------+ | openSUSE Leap 15.6 | PASS | SKIPPED | SKIPPED | SKIPPED | SKIPPED | SKIPPED | +-------------------------------+--------------------+-------------------+-------------------------+----------------------+-------------------+------------------+ | Red Hat Enterprise Linux 8.10 | PASS | SKIPPED | SKIPPED | SKIPPED | SKIPPED | SKIPPED | +-------------------------------+--------------------+-------------------+-------------------------+----------------------+-------------------+------------------+ | Ubuntu 22.04 | PASS | SKIPPED | SKIPPED | SKIPPED | WARN | SKIPPED | +-------------------------------+--------------------+-------------------+-------------------------+----------------------+-------------------+------------------+ | Red Hat Enterprise Linux 9.5 | PASS | SKIPPED | SKIPPED | SKIPPED | SKIPPED | SKIPPED | +-------------------------------+--------------------+-------------------+-------------------------+----------------------+-------------------+------------------+ | Ubuntu 24.04 | PASS | SKIPPED | SKIPPED | SKIPPED | WARN | PASS | +-------------------------------+--------------------+-------------------+-------------------------+----------------------+-------------------+------------------+ | Alpine Linux 3.22.0 | PASS | SKIPPED | SKIPPED | SKIPPED | SKIPPED | SKIPPED | +-------------------------------+--------------------+-------------------+-------------------------+----------------------+-------------------+------------------+ | Windows Server 2022 | SKIPPED | PASS | PASS | PASS | SKIPPED | SKIPPED | +-------------------------------+--------------------+-------------------+-------------------------+----------------------+-------------------+------------------+ ==== 20 line log output for Ubuntu 24.04 (dpdk_compile_spdk): ==== --- Failed to get log output --- ==== End log output ==== FreeBSD 14.2 Kernel: 14.2-RELEASE Compiler: clang 18.1.6 Ubuntu 20.04 Kernel: 4.19 Compiler: gcc gcc (Ubuntu 9.4.0-1ubuntu1~20.04.2) 9.4.0 CentOS Stream 9 Kernel: 5.15 Compiler: gcc gcc (GCC) 11.5.0 20240719 (Red Hat 11.5.0-11) CentOS Stream 10 Kernel: 5.15 Compiler: gcc gcc (GCC) 14.2.1 20250110 (Red Hat 14.2.1-8) Debian GNU/Linux 12 Kernel: 5.15 Compiler: gcc gcc (Debian 12.2.0-14+deb12u1) 12.2.0 Fedora Linux 42 Kernel: 5.15 Compiler: clang gcc (GCC) 15.2.1 20250808 (Red Hat 15.2.1-1) openSUSE Leap 15.6 Kernel: 5.15 Compiler: gcc gcc (SUSE Linux) 7.5.0 Red Hat Enterprise Linux 8.10 Kernel: 5.15 Compiler: gcc gcc (GCC) 8.5.0 20210514 (Red Hat 8.5.0-22) Ubuntu 22.04 Kernel: 5.15 Compiler: gcc gcc (Ubuntu 11.4.0-1ubuntu1~22.04) 11.4.0 Red Hat Enterprise Linux 9.5 Kernel: 5.15 Compiler: gcc gcc (GCC) 11.5.0 20240719 (Red Hat 11.5.0-2) Ubuntu 24.04 Kernel: 5.15 Compiler: gcc gcc (Ubuntu 13.3.0-6ubuntu2~24.04) 13.3.0 Alpine Linux 3.22.0 Kernel: 5.15 Compiler: gcc gcc (Alpine 14.2.0) 14.2.0 Windows Server 2022 Kernel: 10.0.20348.2031 Compiler: clang 15.0.7, gcc 14.1.0 (MinGW), and MSVC VS 19.39.33521 To view detailed results, visit: https://lab.dpdk.org/results/dashboard/patchsets/34296/ UNH-IOL DPDK Community Lab To manage your email subscriptions, visit: https://lab.dpdk.org/results/dashboard/preferences/subscriptions/