From mboxrd@z Thu Jan 1 00:00:00 1970 Return-Path: Received: from mails.dpdk.org (mails.dpdk.org [217.70.189.124]) by inbox.dpdk.org (Postfix) with ESMTP id 85F5448959 for ; Thu, 16 Oct 2025 23:50:52 +0200 (CEST) Received: from mails.dpdk.org (localhost [127.0.0.1]) by mails.dpdk.org (Postfix) with ESMTP id 81E7F4026D; Thu, 16 Oct 2025 23:50:52 +0200 (CEST) Received: from mail-qk1-f228.google.com (mail-qk1-f228.google.com [209.85.222.228]) by mails.dpdk.org (Postfix) with ESMTP id 4DA5C4026D for ; Thu, 16 Oct 2025 23:50:51 +0200 (CEST) Received: by mail-qk1-f228.google.com with SMTP id af79cd13be357-88e525f912fso178675085a.1 for ; Thu, 16 Oct 2025 14:50:51 -0700 (PDT) DKIM-Signature: v=1; a=rsa-sha256; c=relaxed/relaxed; d=iol.unh.edu; s=unh-iol; t=1760651450; x=1761256250; darn=dpdk.org; h=references:in-reply-to:cc:to:from:subject:message-id:date:from:to :cc:subject:date:message-id:reply-to; bh=rhhmt2rSZC3f9za/gY/4vs+bIP/u+mawfiP7cQcqBR0=; b=N4oyQfD6W8N6dWmIjQOowp5Bs3TcriiVz3XYnYfqgkcgdysqlzVF8OixfEG0C1gGFC +vCYFwghspVwYCxu9O3ShZUgZnkcexd+HXJqzIXkmU4LiG/06tgTV12RXFLAGwbhpylS AX4fQ+6MCynyBOBihYTBOqFeQKjQP73R99KGI= X-Google-DKIM-Signature: v=1; a=rsa-sha256; c=relaxed/relaxed; d=1e100.net; s=20230601; t=1760651450; x=1761256250; h=references:in-reply-to:cc:to:from:subject:message-id:date :x-gm-message-state:from:to:cc:subject:date:message-id:reply-to; bh=rhhmt2rSZC3f9za/gY/4vs+bIP/u+mawfiP7cQcqBR0=; b=BguoUz27zWJlktC650aXvu9Qc4DQ4imAIsZ08/qBViBeWXnWAzEKgUkZ9I7VP70Xij lygznkJEl8o7UddfMMsPsUrcR/SMNBAenNEMz2akTT62mrI1PJYrvNvEONPM4LD0hpKf NIV18BHe+X9r4WbIWc520ZG0dfk3tmwThHiTUaJPtHFpWkH4ikqOyovLug6tg78Wnk3n 8KQ7+qIpaHl0IdmPdkTU6gTNbSo0Tb3A8Orx3A5DpZK7nlmqYhB1OZ00ra6VFH9pw/BM /mBn4QEE9ijnRj3tIWdj+naKZ7qltu/j6s6Wj/CSSQI40Ok/NBrMjOYd/Vh8O5EzKjiB psgg== X-Gm-Message-State: AOJu0Yw49HRbahqz3ceYYrMu6M+XNzKRrzDnEBTo2/EQYkiM8S0CFP34 JPe/cI6j3h7zv+Xi+IoWIsohnHqhDpBvx35BInnTGHS5rPbDYxzE59znlZXKNZWDXSry47JWY1s aedAK2hJfTc9NA5JI9xmlcOvB7+p9r8SlOjglH6DAIxBHg2/48r9gFSJlMpGe X-Gm-Gg: ASbGncui33w8BKJ90aG4j+1H5JZpA2wLE07yzbhWeMsz67u+okVooah98PLUB8DoMbc 50beGiGH4c3yAxAWRjUrNW7+jnPxlOeQQ/nitkYCXNcdktAlJ0Q2OqMlU1dynahnntwuuIKIEw9 CRBBWZjtJlxgutbDTSxOvwmms54w1Ein2wLXsB3qYKjP1BCKx9OommS7dc9vQOTfPiOUecMEVvX ZrRikXedu/SLnV+7WkvHfOOHEEKA/erA0ouJmx8CIqQwjKMhoS/e3Ho65A+CTY1kLSZONjm2Jgu kVs+9l3AfNe96VvWFrd7e6maC12wM6uDtCThZOvafoKRNuFFuSKtRPPJrePhRJGjw6VGNzYAvaV TQ5efJp0r X-Google-Smtp-Source: AGHT+IH1L52VjiJKYtADmC6h0EmsNfcG5/LM1xdZdP4v8Z5dJWbyiRGzBSYnfURmdAG9++JH4TBV49aE3Bja X-Received: by 2002:a05:620a:4141:b0:85b:a906:127c with SMTP id af79cd13be357-890708f27bemr188983985a.54.1760651450664; Thu, 16 Oct 2025 14:50:50 -0700 (PDT) Received: from postal.iol.unh.edu (postal.iol.unh.edu. [2606:4100:3880:1234::84]) by smtp-relay.gmail.com with ESMTPS id af79cd13be357-88f3822df84sm26427485a.7.2025.10.16.14.50.50 (version=TLS1_2 cipher=ECDHE-ECDSA-AES128-GCM-SHA256 bits=128/128); Thu, 16 Oct 2025 14:50:50 -0700 (PDT) X-Relaying-Domain: iol.unh.edu Date: Thu, 16 Oct 2025 14:50:50 -0700 (PDT) Message-ID: <68f168ba.050a0220.574ab.ccceSMTPIN_ADDED_MISSING@mx.google.com> Received: from [172.21.0.6] (unknown [172.18.0.240]) by postal.iol.unh.edu (Postfix) with ESMTP id 2D67C6051830; Thu, 16 Oct 2025 17:50:50 -0400 (EDT) Subject: |WARNING| pw157697-157712 [PATCH] [v13,17/17] net/nbl: add nbl devic From: dpdklab@iol.unh.edu To: Test Report Cc: dpdk-test-reports@iol.unh.edu, Stephen Hemminger In-Reply-To: <20251016080128.3133579-18-dimon.zhao@nebula-matrix.com> References: <20251016080128.3133579-18-dimon.zhao@nebula-matrix.com> Content-Type: text/plain X-BeenThere: test-report@dpdk.org X-Mailman-Version: 2.1.29 Precedence: list List-Id: automatic DPDK test reports List-Unsubscribe: , List-Archive: List-Post: List-Help: List-Subscribe: , Errors-To: test-report-bounces@dpdk.org Test-Label: iol-compile-amd64-testing Test-Status: WARNING http://dpdk.org/patch/157712 _Testing issues_ Submitter: Dimon Zhao Date: Thursday, October 16 2025 08:01:28 DPDK git baseline: Repo:dpdk-next-net Branch: master CommitID:791cea04798a8e2de014b99c009cd25b5929000a 157697-157712 --> testing issues Upstream job id: Generic-DPDK-Compile-Meson#434922 Test environment and result as below: +-------------------------------+--------------------+-------------------+-------------------------+----------------------+-------------------+------------------+ | Environment | dpdk_meson_compile | dpdk_msvc_compile | dpdk_llvm_clang_compile | dpdk_mingw64_compile | dpdk_compile_spdk | dpdk_compile_ovs | +===============================+====================+===================+=========================+======================+===================+==================+ | FreeBSD 14.2 | PASS | SKIPPED | SKIPPED | SKIPPED | SKIPPED | SKIPPED | +-------------------------------+--------------------+-------------------+-------------------------+----------------------+-------------------+------------------+ | Ubuntu 20.04 | PASS | SKIPPED | SKIPPED | SKIPPED | SKIPPED | SKIPPED | +-------------------------------+--------------------+-------------------+-------------------------+----------------------+-------------------+------------------+ | CentOS Stream 9 | PASS | SKIPPED | SKIPPED | SKIPPED | WARN | SKIPPED | +-------------------------------+--------------------+-------------------+-------------------------+----------------------+-------------------+------------------+ | CentOS Stream 10 | PASS | SKIPPED | SKIPPED | SKIPPED | SKIPPED | SKIPPED | +-------------------------------+--------------------+-------------------+-------------------------+----------------------+-------------------+------------------+ | Debian GNU/Linux 12 | PASS | SKIPPED | SKIPPED | SKIPPED | WARN | SKIPPED | +-------------------------------+--------------------+-------------------+-------------------------+----------------------+-------------------+------------------+ | Fedora Linux 42 | PASS | SKIPPED | SKIPPED | SKIPPED | WARN | PASS | +-------------------------------+--------------------+-------------------+-------------------------+----------------------+-------------------+------------------+ | openSUSE Leap 15.6 | PASS | SKIPPED | SKIPPED | SKIPPED | SKIPPED | SKIPPED | +-------------------------------+--------------------+-------------------+-------------------------+----------------------+-------------------+------------------+ | Red Hat Enterprise Linux 8.10 | PASS | SKIPPED | SKIPPED | SKIPPED | SKIPPED | SKIPPED | +-------------------------------+--------------------+-------------------+-------------------------+----------------------+-------------------+------------------+ | Red Hat Enterprise Linux 9.5 | PASS | SKIPPED | SKIPPED | SKIPPED | SKIPPED | SKIPPED | +-------------------------------+--------------------+-------------------+-------------------------+----------------------+-------------------+------------------+ | Ubuntu 22.04 | PASS | SKIPPED | SKIPPED | SKIPPED | WARN | SKIPPED | +-------------------------------+--------------------+-------------------+-------------------------+----------------------+-------------------+------------------+ | Ubuntu 24.04 | PASS | SKIPPED | SKIPPED | SKIPPED | WARN | PASS | +-------------------------------+--------------------+-------------------+-------------------------+----------------------+-------------------+------------------+ | Alpine Linux 3.22.0 | PASS | SKIPPED | SKIPPED | SKIPPED | SKIPPED | SKIPPED | +-------------------------------+--------------------+-------------------+-------------------------+----------------------+-------------------+------------------+ | Windows Server 2022 | SKIPPED | PASS | PASS | PASS | SKIPPED | SKIPPED | +-------------------------------+--------------------+-------------------+-------------------------+----------------------+-------------------+------------------+ ==== 20 line log output for Ubuntu 24.04 (dpdk_compile_spdk): ==== --- Failed to get log output --- ==== End log output ==== FreeBSD 14.2 Kernel: 14.2-RELEASE Compiler: clang 18.1.6 Ubuntu 20.04 Kernel: 4.19 Compiler: gcc gcc (Ubuntu 9.4.0-1ubuntu1~20.04.2) 9.4.0 CentOS Stream 9 Kernel: 5.15 Compiler: gcc gcc (GCC) 11.5.0 20240719 (Red Hat 11.5.0-11) CentOS Stream 10 Kernel: 5.15 Compiler: gcc gcc (GCC) 14.2.1 20250110 (Red Hat 14.2.1-8) Debian GNU/Linux 12 Kernel: 5.15 Compiler: gcc gcc (Debian 12.2.0-14+deb12u1) 12.2.0 Fedora Linux 42 Kernel: 5.15 Compiler: clang gcc (GCC) 15.2.1 20250808 (Red Hat 15.2.1-1) openSUSE Leap 15.6 Kernel: 5.15 Compiler: gcc gcc (SUSE Linux) 7.5.0 Red Hat Enterprise Linux 8.10 Kernel: 5.15 Compiler: gcc gcc (GCC) 8.5.0 20210514 (Red Hat 8.5.0-22) Red Hat Enterprise Linux 9.5 Kernel: 5.15 Compiler: gcc gcc (GCC) 11.5.0 20240719 (Red Hat 11.5.0-2) Ubuntu 22.04 Kernel: 5.15 Compiler: gcc gcc (Ubuntu 11.4.0-1ubuntu1~22.04) 11.4.0 Ubuntu 24.04 Kernel: 5.15 Compiler: gcc gcc (Ubuntu 13.3.0-6ubuntu2~24.04) 13.3.0 Alpine Linux 3.22.0 Kernel: 5.15 Compiler: gcc gcc (Alpine 14.2.0) 14.2.0 Windows Server 2022 Kernel: 10.0.20348.2031 Compiler: clang 15.0.7, gcc 14.1.0 (MinGW), and MSVC VS 19.39.33521 To view detailed results, visit: https://lab.dpdk.org/results/dashboard/patchsets/34295/ UNH-IOL DPDK Community Lab To manage your email subscriptions, visit: https://lab.dpdk.org/results/dashboard/preferences/subscriptions/