automatic DPDK test reports
 help / color / mirror / Atom feed
From: dpdklab@iol.unh.edu
To: Test Report <test-report@dpdk.org>
Cc: dpdk-test-reports@iol.unh.edu
Subject: |WARNING| pw157716-157715 [PATCH] [v1,2/2] benchmark report for rte_
Date: Thu, 16 Oct 2025 14:51:53 -0700 (PDT)	[thread overview]
Message-ID: <68f168f9.170a0220.18e78c.4725SMTPIN_ADDED_MISSING@mx.google.com> (raw)
In-Reply-To: <20251016090934.1166954-3-chen.qiguo@zte.com.cn>

Test-Label: iol-compile-amd64-testing
Test-Status: WARNING
http://dpdk.org/patch/157715

_Testing issues_

Submitter: Qiguo Chen <chen.qiguo@zte.com.cn>
Date: Thursday, October 16 2025 09:09:34 
DPDK git baseline: Repo:dpdk
  Branch: master
  CommitID:16f4c522003dcfecf23c8d38e009b95a3bbefd03

157716-157715 --> testing issues

Upstream job id: Generic-DPDK-Compile-Meson#434949

Test environment and result as below:

+-------------------------------+--------------------+-------------------+-------------------------+----------------------+-------------------+------------------+
|          Environment          | dpdk_meson_compile | dpdk_msvc_compile | dpdk_llvm_clang_compile | dpdk_mingw64_compile | dpdk_compile_spdk | dpdk_compile_ovs |
+===============================+====================+===================+=========================+======================+===================+==================+
| FreeBSD 14.2                  | PASS               | SKIPPED           | SKIPPED                 | SKIPPED              | SKIPPED           | SKIPPED          |
+-------------------------------+--------------------+-------------------+-------------------------+----------------------+-------------------+------------------+
| Ubuntu 20.04                  | PASS               | SKIPPED           | SKIPPED                 | SKIPPED              | SKIPPED           | SKIPPED          |
+-------------------------------+--------------------+-------------------+-------------------------+----------------------+-------------------+------------------+
| CentOS Stream 9               | PASS               | SKIPPED           | SKIPPED                 | SKIPPED              | WARN              | SKIPPED          |
+-------------------------------+--------------------+-------------------+-------------------------+----------------------+-------------------+------------------+
| CentOS Stream 10              | PASS               | SKIPPED           | SKIPPED                 | SKIPPED              | SKIPPED           | SKIPPED          |
+-------------------------------+--------------------+-------------------+-------------------------+----------------------+-------------------+------------------+
| Debian GNU/Linux 12           | PASS               | SKIPPED           | SKIPPED                 | SKIPPED              | WARN              | SKIPPED          |
+-------------------------------+--------------------+-------------------+-------------------------+----------------------+-------------------+------------------+
| Fedora Linux 42               | PASS               | SKIPPED           | SKIPPED                 | SKIPPED              | WARN              | PASS             |
+-------------------------------+--------------------+-------------------+-------------------------+----------------------+-------------------+------------------+
| openSUSE Leap 15.6            | PASS               | SKIPPED           | SKIPPED                 | SKIPPED              | SKIPPED           | SKIPPED          |
+-------------------------------+--------------------+-------------------+-------------------------+----------------------+-------------------+------------------+
| Red Hat Enterprise Linux 8.10 | PASS               | SKIPPED           | SKIPPED                 | SKIPPED              | SKIPPED           | SKIPPED          |
+-------------------------------+--------------------+-------------------+-------------------------+----------------------+-------------------+------------------+
| Ubuntu 22.04                  | PASS               | SKIPPED           | SKIPPED                 | SKIPPED              | WARN              | SKIPPED          |
+-------------------------------+--------------------+-------------------+-------------------------+----------------------+-------------------+------------------+
| Red Hat Enterprise Linux 9.5  | PASS               | SKIPPED           | SKIPPED                 | SKIPPED              | SKIPPED           | SKIPPED          |
+-------------------------------+--------------------+-------------------+-------------------------+----------------------+-------------------+------------------+
| Ubuntu 24.04                  | PASS               | SKIPPED           | SKIPPED                 | SKIPPED              | WARN              | PASS             |
+-------------------------------+--------------------+-------------------+-------------------------+----------------------+-------------------+------------------+
| Alpine Linux 3.22.0           | PASS               | SKIPPED           | SKIPPED                 | SKIPPED              | SKIPPED           | SKIPPED          |
+-------------------------------+--------------------+-------------------+-------------------------+----------------------+-------------------+------------------+
| Windows Server 2022           | SKIPPED            | PASS              | PASS                    | PASS                 | SKIPPED           | SKIPPED          |
+-------------------------------+--------------------+-------------------+-------------------------+----------------------+-------------------+------------------+

==== 20 line log output for Ubuntu 24.04 (dpdk_compile_spdk): ====
 --- Failed to get log output --- 
==== End log output ====

FreeBSD 14.2
	Kernel: 14.2-RELEASE
	Compiler: clang 18.1.6

Ubuntu 20.04
	Kernel: 4.19
	Compiler: gcc gcc (Ubuntu 9.4.0-1ubuntu1~20.04.2) 9.4.0

CentOS Stream 9
	Kernel: 5.15
	Compiler: gcc gcc (GCC) 11.5.0 20240719 (Red Hat 11.5.0-11)

CentOS Stream 10
	Kernel: 5.15
	Compiler: gcc gcc (GCC) 14.2.1 20250110 (Red Hat 14.2.1-8)

Debian GNU/Linux 12
	Kernel: 5.15
	Compiler: gcc gcc (Debian 12.2.0-14+deb12u1) 12.2.0

Fedora Linux 42
	Kernel: 5.15
	Compiler: clang gcc (GCC) 15.2.1 20250808 (Red Hat 15.2.1-1)

openSUSE Leap 15.6
	Kernel: 5.15
	Compiler: gcc gcc (SUSE Linux) 7.5.0

Red Hat Enterprise Linux 8.10
	Kernel: 5.15
	Compiler: gcc gcc (GCC) 8.5.0 20210514 (Red Hat 8.5.0-22)

Ubuntu 22.04
	Kernel: 5.15
	Compiler: gcc gcc (Ubuntu 11.4.0-1ubuntu1~22.04) 11.4.0

Red Hat Enterprise Linux 9.5
	Kernel: 5.15
	Compiler: gcc gcc (GCC) 11.5.0 20240719 (Red Hat 11.5.0-2)

Ubuntu 24.04
	Kernel: 5.15
	Compiler: gcc gcc (Ubuntu 13.3.0-6ubuntu2~24.04) 13.3.0

Alpine Linux 3.22.0
	Kernel: 5.15
	Compiler: gcc gcc (Alpine 14.2.0) 14.2.0

Windows Server 2022
	Kernel: 10.0.20348.2031
	Compiler: clang 15.0.7, gcc 14.1.0 (MinGW), and MSVC VS 19.39.33521

To view detailed results, visit:
https://lab.dpdk.org/results/dashboard/patchsets/34296/

UNH-IOL DPDK Community Lab

To manage your email subscriptions, visit: 
https://lab.dpdk.org/results/dashboard/preferences/subscriptions/

  parent reply	other threads:[~2025-10-16 21:51 UTC|newest]

Thread overview: 32+ messages / expand[flat|nested]  mbox.gz  Atom feed  top
     [not found] <20251016090934.1166954-3-chen.qiguo@zte.com.cn>
2025-10-16  8:51 ` |SUCCESS| pw157716-157715 [PATCH v1 2/2] benchmark report for rte_memcpy qemudev
2025-10-16  8:56 ` qemudev
2025-10-16  9:25 ` |WARNING| pw157715 " checkpatch
2025-10-16  9:53 ` |PENDING| pw157716-157715 [PATCH] [v1,2/2] benchmark report for rte_ dpdklab
2025-10-16  9:55 ` |SUCCESS| " dpdklab
2025-10-16  9:55 ` |PENDING| " dpdklab
2025-10-16  9:56 ` |SUCCESS| " dpdklab
2025-10-16  9:59 ` dpdklab
2025-10-16 10:03 ` |PENDING| " dpdklab
2025-10-16 10:11 ` dpdklab
2025-10-16 10:14 ` |SUCCESS| " dpdklab
2025-10-16 10:15 ` dpdklab
2025-10-16 10:16 ` dpdklab
2025-10-16 10:26 ` dpdklab
2025-10-16 10:34 ` |SUCCESS| pw157715 [PATCH v1 2/2] benchmark report for rte_memcpy 0-day Robot
2025-10-16 10:34 ` 0-day Robot
2025-10-16 10:43 ` |SUCCESS| pw157716-157715 [PATCH] [v1,2/2] benchmark report for rte_ dpdklab
2025-10-16 10:54 ` dpdklab
2025-10-16 11:05 ` dpdklab
2025-10-16 11:19 ` dpdklab
2025-10-16 11:26 ` dpdklab
2025-10-16 11:48 ` dpdklab
2025-10-16 11:48 ` dpdklab
2025-10-16 13:04 ` dpdklab
2025-10-16 13:49 ` dpdklab
2025-10-16 18:06 ` dpdklab
2025-10-16 18:22 ` dpdklab
2025-10-16 21:18 ` |WARNING| " dpdklab
2025-10-16 21:49 ` dpdklab
2025-10-16 21:50 ` dpdklab
2025-10-16 21:51 ` dpdklab [this message]
2025-10-17  2:01 ` |SUCCESS| " dpdklab

Reply instructions:

You may reply publicly to this message via plain-text email
using any one of the following methods:

* Save the following mbox file, import it into your mail client,
  and reply-to-all from there: mbox

  Avoid top-posting and favor interleaved quoting:
  https://en.wikipedia.org/wiki/Posting_style#Interleaved_style

* Reply using the --to, --cc, and --in-reply-to
  switches of git-send-email(1):

  git send-email \
    --in-reply-to=68f168f9.170a0220.18e78c.4725SMTPIN_ADDED_MISSING@mx.google.com \
    --to=dpdklab@iol.unh.edu \
    --cc=dpdk-test-reports@iol.unh.edu \
    --cc=test-report@dpdk.org \
    /path/to/YOUR_REPLY

  https://kernel.org/pub/software/scm/git/docs/git-send-email.html

* If your mail client supports setting the In-Reply-To header
  via mailto: links, try the mailto: link
Be sure your reply has a Subject: header at the top and a blank line before the message body.
This is a public inbox, see mirroring instructions
for how to clone and mirror all data and code used for this inbox;
as well as URLs for NNTP newsgroup(s).