From mboxrd@z Thu Jan 1 00:00:00 1970 Return-Path: Received: from mails.dpdk.org (mails.dpdk.org [217.70.189.124]) by inbox.dpdk.org (Postfix) with ESMTP id B8BA848959 for ; Thu, 16 Oct 2025 23:51:55 +0200 (CEST) Received: from mails.dpdk.org (localhost [127.0.0.1]) by mails.dpdk.org (Postfix) with ESMTP id B0E664026D; Thu, 16 Oct 2025 23:51:55 +0200 (CEST) Received: from mail-pf1-f228.google.com (mail-pf1-f228.google.com [209.85.210.228]) by mails.dpdk.org (Postfix) with ESMTP id 1CA034026D for ; Thu, 16 Oct 2025 23:51:54 +0200 (CEST) Received: by mail-pf1-f228.google.com with SMTP id d2e1a72fcca58-782a77b5ec7so1224809b3a.1 for ; Thu, 16 Oct 2025 14:51:54 -0700 (PDT) DKIM-Signature: v=1; a=rsa-sha256; c=relaxed/relaxed; d=iol.unh.edu; s=unh-iol; t=1760651513; x=1761256313; darn=dpdk.org; h=references:in-reply-to:cc:to:from:subject:message-id:date:from:to :cc:subject:date:message-id:reply-to; bh=MdBi+kQSAWTgI0tYi+OEto/aZw/BgK8Tc/XCQduRjss=; b=iywiK/BT61WNLqmJkAkFIneB+izHDvPfU+uWva6AGfox83CYbR5Gwt5KH6lywVg4iS aGcDYulda6jYmfP5zzsyZTRFh9aeNapF8504Nr3j8t45ITsBsWHehqfsV9aI1H9fEArq x+uLM4u4VKapTdD1wasA1DT6EichDJd0a/gnI= X-Google-DKIM-Signature: v=1; a=rsa-sha256; c=relaxed/relaxed; d=1e100.net; s=20230601; t=1760651513; x=1761256313; h=references:in-reply-to:cc:to:from:subject:message-id:date :x-gm-message-state:from:to:cc:subject:date:message-id:reply-to; bh=MdBi+kQSAWTgI0tYi+OEto/aZw/BgK8Tc/XCQduRjss=; b=uiDEgW2bsUVK2nLwLibvxH3AWgtMyjqqOeA57X/fppsEQXqPo5XC8B7vjpxb2SmRvU W2P1oOBcioohzUSxaSCshbtAxIfGLPoRhgQSDq2SHwfraPX5bYLbLMLtT4E+FzgGXqSb ypgd7zPncX3ckH+vTxtltdjVut6Idn8f6ohKdBu8SJ54A2yQm1iFUgAgj1nbD/xlwc8O Mna1Bc+OBnOqiHD/T+QzfcfAJghbxuwNN9pOfSyabmoYvcS4LeW6/+L1EhDHq1Wc3kMY eWzm81S0a04UY3R7CoX8ATAkyFa1Z+CMTC6nKpmS4ez2U80k+6rqNLyrJKdSCSeIQqrj QHwg== X-Gm-Message-State: AOJu0YzuwPz8sSxju4lmlaM/QVLg4khj/9pe938MxehymzF3ouK++LtV D1WLQo+/dNvbPN1VHwZ8Ajootdyo1Moj1gK4puBvhlqmpRvsWNdAb6NLcw0bVTh2t+ZhP6zxm17 geP6nK0BZWEup6NcxvX2R4/ukuHo4JNmfqDaeAypan14hsdAiwCQfw8yp6C4f X-Gm-Gg: ASbGnctlKOr2bh/0mbR8qhgDpySGtJipQFKP7A68FzsS8dRv0JV0qnDwjAJumY+HXze G1ALTkdOaUvMpFX02Ifn1g7Lr8f3lib6kpDDzvLo/WvgP9cGh6eGSAOKKVI9GOoA3UWxEXUPmoS mEWZ3i8Jvx5BdILXh7fx8KNE9PWR5u2o5tnIW4Vwmhd135Ctqk0cIKp7PvG5T+tnHJcbHsN6Ocw GLeA1lUzfvEfw6bDlqP3gmTTZlMMyDzwtDY8CYVOcJk5dotwzb/inFM3bCvgSUELY603yEHSyYJ u8R3deHrdyX3lhmOqPsYOv1c97dE0MbT7fXHCF03JYxktMx5SSyVigGeGP7QzlHCOD0hsRk0w1N xrRLfih09 X-Google-Smtp-Source: AGHT+IEL51Eaa6HibQJwkRKeqUP1JUW1122O5ZEqt2awv7XTUNsRp2czduZRdCm2pScvjTec2P2vCNW9fBan X-Received: by 2002:a17:903:1a4c:b0:27e:ef09:4ab6 with SMTP id d9443c01a7336-290c99ad18bmr18883855ad.0.1760651513212; Thu, 16 Oct 2025 14:51:53 -0700 (PDT) Received: from postal.iol.unh.edu (postal.iol.unh.edu. [2606:4100:3880:1234::84]) by smtp-relay.gmail.com with ESMTPS id d9443c01a7336-2909967533fsm4251515ad.43.2025.10.16.14.51.53 (version=TLS1_2 cipher=ECDHE-ECDSA-AES128-GCM-SHA256 bits=128/128); Thu, 16 Oct 2025 14:51:53 -0700 (PDT) X-Relaying-Domain: iol.unh.edu Date: Thu, 16 Oct 2025 14:51:53 -0700 (PDT) Message-ID: <68f168f9.170a0220.18e78c.4725SMTPIN_ADDED_MISSING@mx.google.com> Received: from [172.21.0.13] (unknown [172.18.0.240]) by postal.iol.unh.edu (Postfix) with ESMTP id A50D26051830; Thu, 16 Oct 2025 17:51:52 -0400 (EDT) Subject: |WARNING| pw157716-157715 [PATCH] [v1,2/2] benchmark report for rte_ From: dpdklab@iol.unh.edu To: Test Report Cc: dpdk-test-reports@iol.unh.edu In-Reply-To: <20251016090934.1166954-3-chen.qiguo@zte.com.cn> References: <20251016090934.1166954-3-chen.qiguo@zte.com.cn> Content-Type: text/plain X-BeenThere: test-report@dpdk.org X-Mailman-Version: 2.1.29 Precedence: list List-Id: automatic DPDK test reports List-Unsubscribe: , List-Archive: List-Post: List-Help: List-Subscribe: , Errors-To: test-report-bounces@dpdk.org Test-Label: iol-compile-amd64-testing Test-Status: WARNING http://dpdk.org/patch/157715 _Testing issues_ Submitter: Qiguo Chen Date: Thursday, October 16 2025 09:09:34 DPDK git baseline: Repo:dpdk Branch: master CommitID:16f4c522003dcfecf23c8d38e009b95a3bbefd03 157716-157715 --> testing issues Upstream job id: Generic-DPDK-Compile-Meson#434949 Test environment and result as below: +-------------------------------+--------------------+-------------------+-------------------------+----------------------+-------------------+------------------+ | Environment | dpdk_meson_compile | dpdk_msvc_compile | dpdk_llvm_clang_compile | dpdk_mingw64_compile | dpdk_compile_spdk | dpdk_compile_ovs | +===============================+====================+===================+=========================+======================+===================+==================+ | FreeBSD 14.2 | PASS | SKIPPED | SKIPPED | SKIPPED | SKIPPED | SKIPPED | +-------------------------------+--------------------+-------------------+-------------------------+----------------------+-------------------+------------------+ | Ubuntu 20.04 | PASS | SKIPPED | SKIPPED | SKIPPED | SKIPPED | SKIPPED | +-------------------------------+--------------------+-------------------+-------------------------+----------------------+-------------------+------------------+ | CentOS Stream 9 | PASS | SKIPPED | SKIPPED | SKIPPED | WARN | SKIPPED | +-------------------------------+--------------------+-------------------+-------------------------+----------------------+-------------------+------------------+ | CentOS Stream 10 | PASS | SKIPPED | SKIPPED | SKIPPED | SKIPPED | SKIPPED | +-------------------------------+--------------------+-------------------+-------------------------+----------------------+-------------------+------------------+ | Debian GNU/Linux 12 | PASS | SKIPPED | SKIPPED | SKIPPED | WARN | SKIPPED | +-------------------------------+--------------------+-------------------+-------------------------+----------------------+-------------------+------------------+ | Fedora Linux 42 | PASS | SKIPPED | SKIPPED | SKIPPED | WARN | PASS | +-------------------------------+--------------------+-------------------+-------------------------+----------------------+-------------------+------------------+ | openSUSE Leap 15.6 | PASS | SKIPPED | SKIPPED | SKIPPED | SKIPPED | SKIPPED | +-------------------------------+--------------------+-------------------+-------------------------+----------------------+-------------------+------------------+ | Red Hat Enterprise Linux 8.10 | PASS | SKIPPED | SKIPPED | SKIPPED | SKIPPED | SKIPPED | +-------------------------------+--------------------+-------------------+-------------------------+----------------------+-------------------+------------------+ | Ubuntu 22.04 | PASS | SKIPPED | SKIPPED | SKIPPED | WARN | SKIPPED | +-------------------------------+--------------------+-------------------+-------------------------+----------------------+-------------------+------------------+ | Red Hat Enterprise Linux 9.5 | PASS | SKIPPED | SKIPPED | SKIPPED | SKIPPED | SKIPPED | +-------------------------------+--------------------+-------------------+-------------------------+----------------------+-------------------+------------------+ | Ubuntu 24.04 | PASS | SKIPPED | SKIPPED | SKIPPED | WARN | PASS | +-------------------------------+--------------------+-------------------+-------------------------+----------------------+-------------------+------------------+ | Alpine Linux 3.22.0 | PASS | SKIPPED | SKIPPED | SKIPPED | SKIPPED | SKIPPED | +-------------------------------+--------------------+-------------------+-------------------------+----------------------+-------------------+------------------+ | Windows Server 2022 | SKIPPED | PASS | PASS | PASS | SKIPPED | SKIPPED | +-------------------------------+--------------------+-------------------+-------------------------+----------------------+-------------------+------------------+ ==== 20 line log output for Ubuntu 24.04 (dpdk_compile_spdk): ==== --- Failed to get log output --- ==== End log output ==== FreeBSD 14.2 Kernel: 14.2-RELEASE Compiler: clang 18.1.6 Ubuntu 20.04 Kernel: 4.19 Compiler: gcc gcc (Ubuntu 9.4.0-1ubuntu1~20.04.2) 9.4.0 CentOS Stream 9 Kernel: 5.15 Compiler: gcc gcc (GCC) 11.5.0 20240719 (Red Hat 11.5.0-11) CentOS Stream 10 Kernel: 5.15 Compiler: gcc gcc (GCC) 14.2.1 20250110 (Red Hat 14.2.1-8) Debian GNU/Linux 12 Kernel: 5.15 Compiler: gcc gcc (Debian 12.2.0-14+deb12u1) 12.2.0 Fedora Linux 42 Kernel: 5.15 Compiler: clang gcc (GCC) 15.2.1 20250808 (Red Hat 15.2.1-1) openSUSE Leap 15.6 Kernel: 5.15 Compiler: gcc gcc (SUSE Linux) 7.5.0 Red Hat Enterprise Linux 8.10 Kernel: 5.15 Compiler: gcc gcc (GCC) 8.5.0 20210514 (Red Hat 8.5.0-22) Ubuntu 22.04 Kernel: 5.15 Compiler: gcc gcc (Ubuntu 11.4.0-1ubuntu1~22.04) 11.4.0 Red Hat Enterprise Linux 9.5 Kernel: 5.15 Compiler: gcc gcc (GCC) 11.5.0 20240719 (Red Hat 11.5.0-2) Ubuntu 24.04 Kernel: 5.15 Compiler: gcc gcc (Ubuntu 13.3.0-6ubuntu2~24.04) 13.3.0 Alpine Linux 3.22.0 Kernel: 5.15 Compiler: gcc gcc (Alpine 14.2.0) 14.2.0 Windows Server 2022 Kernel: 10.0.20348.2031 Compiler: clang 15.0.7, gcc 14.1.0 (MinGW), and MSVC VS 19.39.33521 To view detailed results, visit: https://lab.dpdk.org/results/dashboard/patchsets/34296/ UNH-IOL DPDK Community Lab To manage your email subscriptions, visit: https://lab.dpdk.org/results/dashboard/preferences/subscriptions/