From mboxrd@z Thu Jan 1 00:00:00 1970 Return-Path: Received: from mails.dpdk.org (mails.dpdk.org [217.70.189.124]) by inbox.dpdk.org (Postfix) with ESMTP id 901C248959 for ; Thu, 16 Oct 2025 23:59:50 +0200 (CEST) Received: from mails.dpdk.org (localhost [127.0.0.1]) by mails.dpdk.org (Postfix) with ESMTP id 6AB314026D; Thu, 16 Oct 2025 23:59:50 +0200 (CEST) Received: from mail-io1-f98.google.com (mail-io1-f98.google.com [209.85.166.98]) by mails.dpdk.org (Postfix) with ESMTP id 02DDB4026D for ; Thu, 16 Oct 2025 23:59:49 +0200 (CEST) Received: by mail-io1-f98.google.com with SMTP id ca18e2360f4ac-90a0b3ddebeso55235439f.0 for ; Thu, 16 Oct 2025 14:59:48 -0700 (PDT) DKIM-Signature: v=1; a=rsa-sha256; c=relaxed/relaxed; d=iol.unh.edu; s=unh-iol; t=1760651988; x=1761256788; darn=dpdk.org; h=references:in-reply-to:cc:to:from:subject:message-id:date:from:to :cc:subject:date:message-id:reply-to; bh=mCWELdBVFRFgUdnPhaKrYT+49Dru/BZx+AoBbMVDtJ4=; b=QKxThHnUiHPvxFYFte6QNYoRja9uHetbsdKYcADTx95FgCq3nz00w7uwqATXGnm0cm l/9bN3P/P+CNVtsKeDMgXxsQprVBLpnqJI3ell5RR/Z8CDMhSWUV87PPETiTnAZVbF+L azG3dPRt2PF0Av0O0B3/Fh1SdXtJ1gm1ZgGIk= X-Google-DKIM-Signature: v=1; a=rsa-sha256; c=relaxed/relaxed; d=1e100.net; s=20230601; t=1760651988; x=1761256788; h=references:in-reply-to:cc:to:from:subject:message-id:date :x-gm-message-state:from:to:cc:subject:date:message-id:reply-to; bh=mCWELdBVFRFgUdnPhaKrYT+49Dru/BZx+AoBbMVDtJ4=; b=wXNM9/4PQkzxqCvP0ShR3QknPUrkbk60fLgXU/PP9ezZEJ3k31BwuJWY9ozZh6nBQs 1HRV94fM7iPItzcA/fZDBiXCN3aZHGP81HovhvIkXRqvEnpY4p8/xK77PgOpEq7uIh1t AAqmEpIo3nNKf2DMFVXYPfJ0lLoPEGk4SOC1OHNZFPygdwZIAh6eBu3xGwEmJwHOXZfm 6occiNOjAYbtJFac0UToDf9HbGgqxDNjVhdb0r0CNOUFEzEIljJ1oqxrxkesaVI2rvTG IZkIr0BJmSaq8uccjidDtlGNtGUntM1VC4/4+4M2o5nYvgS3w4iNYTHd9Q36rTkUUVKP MokQ== X-Gm-Message-State: AOJu0YzoAJOaoxnv/h7fsxw3+aprb38j5R3zZy4MkthF1AEmbk57d6+8 zJRd/k5oQiAfShlHhtzkPLvECh3aGZosqXHfCgsWmwB/A/G0pUoOxqVPWCZOGUa5uWfKhf5pN3e XPOdWPod+ourd3qEr3rwyspggcvtYT3LjdbTY07KJvNup X-Gm-Gg: ASbGncvk03nz8Pe5gayByVqDRVbydmAelcUPWT0760rXkxZ9hxia4IpyHQow5OXkI0A EKhxHmpdhD4sumz2+ne0t6fp6la2n42WetzySxo1n/xPbdVUl553/DtNc+dTwUYRIZVgqdX4hm0 EvRcT46I6fqKYcaOq6bwJIUYPMJgMooelL/fbEn05ZFmJxzI/mUG2/adB1iZlEXFjT19T39JMBp w4Jfpn6geFnQUmW8AR4dPzR+zVMgOHn4Y/yoJeYFmglUX04QwV8qKrPOzdfO3WuCEliGz55ThZ2 F4adU4gDYZMEFbVs/o7I20X0MwE25xDxY8IBtwJNIu4cnFMub6uo1k+FqXaovv4sQhHA9wCLsh4 rTfsX5h45LYEVQXEaXnTACJcSpYzK2sk= X-Google-Smtp-Source: AGHT+IGD8dKPx5DIuf4dmofErUtdiOKV9y6mutVFTTpTyqBwBaIPy7Mx8ySYS9Aiei9TA/0SWKE5yMH4/vWc X-Received: by 2002:a05:6602:4807:b0:887:56b5:b502 with SMTP id ca18e2360f4ac-93e7641f3d9mr208294839f.10.1760651988219; Thu, 16 Oct 2025 14:59:48 -0700 (PDT) Received: from postal.iol.unh.edu (postal.iol.unh.edu. [132.177.123.84]) by smtp-relay.gmail.com with ESMTPS id 8926c6da1cb9f-5a76f56e8b4sm59902173.14.2025.10.16.14.59.48 (version=TLS1_2 cipher=ECDHE-ECDSA-AES128-GCM-SHA256 bits=128/128); Thu, 16 Oct 2025 14:59:48 -0700 (PDT) X-Relaying-Domain: iol.unh.edu Date: Thu, 16 Oct 2025 14:59:48 -0700 (PDT) Message-ID: <68f16ad4.050a0220.21ebbd.2e03SMTPIN_ADDED_MISSING@mx.google.com> Received: from [172.21.0.2] (unknown [172.18.0.240]) by postal.iol.unh.edu (Postfix) with ESMTP id C57F36051830; Thu, 16 Oct 2025 17:59:47 -0400 (EDT) Subject: |WARNING| pw157718 [PATCH] [v1] maintainers: update for LoongArch From: dpdklab@iol.unh.edu To: Test Report Cc: dpdk-test-reports@iol.unh.edu In-Reply-To: <20251016090948.836029-1-zhoumin@loongson.cn> References: <20251016090948.836029-1-zhoumin@loongson.cn> Content-Type: text/plain X-BeenThere: test-report@dpdk.org X-Mailman-Version: 2.1.29 Precedence: list List-Id: automatic DPDK test reports List-Unsubscribe: , List-Archive: List-Post: List-Help: List-Subscribe: , Errors-To: test-report-bounces@dpdk.org Test-Label: iol-compile-amd64-testing Test-Status: WARNING http://dpdk.org/patch/157718 _Testing issues_ Submitter: zhoumin Date: Thursday, October 16 2025 09:09:48 DPDK git baseline: Repo:dpdk Branch: master CommitID:16f4c522003dcfecf23c8d38e009b95a3bbefd03 157718 --> testing issues Upstream job id: Generic-DPDK-Compile-Meson#434985 Test environment and result as below: +-------------------------------+--------------------+-------------------+-------------------------+----------------------+-------------------+------------------+ | Environment | dpdk_meson_compile | dpdk_msvc_compile | dpdk_llvm_clang_compile | dpdk_mingw64_compile | dpdk_compile_spdk | dpdk_compile_ovs | +===============================+====================+===================+=========================+======================+===================+==================+ | Ubuntu 20.04 | PASS | SKIPPED | SKIPPED | SKIPPED | SKIPPED | SKIPPED | +-------------------------------+--------------------+-------------------+-------------------------+----------------------+-------------------+------------------+ | FreeBSD 14.2 | PASS | SKIPPED | SKIPPED | SKIPPED | SKIPPED | SKIPPED | +-------------------------------+--------------------+-------------------+-------------------------+----------------------+-------------------+------------------+ | CentOS Stream 9 | PEND | SKIPPED | SKIPPED | SKIPPED | PEND | SKIPPED | +-------------------------------+--------------------+-------------------+-------------------------+----------------------+-------------------+------------------+ | Debian GNU/Linux 12 | PASS | SKIPPED | SKIPPED | SKIPPED | WARN | SKIPPED | +-------------------------------+--------------------+-------------------+-------------------------+----------------------+-------------------+------------------+ | Fedora Linux 42 | PEND | SKIPPED | SKIPPED | SKIPPED | PEND | PEND | +-------------------------------+--------------------+-------------------+-------------------------+----------------------+-------------------+------------------+ | CentOS Stream 10 | PASS | SKIPPED | SKIPPED | SKIPPED | SKIPPED | SKIPPED | +-------------------------------+--------------------+-------------------+-------------------------+----------------------+-------------------+------------------+ | openSUSE Leap 15.6 | PASS | SKIPPED | SKIPPED | SKIPPED | SKIPPED | SKIPPED | +-------------------------------+--------------------+-------------------+-------------------------+----------------------+-------------------+------------------+ | Red Hat Enterprise Linux 8.10 | PEND | SKIPPED | SKIPPED | SKIPPED | SKIPPED | SKIPPED | +-------------------------------+--------------------+-------------------+-------------------------+----------------------+-------------------+------------------+ | Red Hat Enterprise Linux 9.5 | PASS | SKIPPED | SKIPPED | SKIPPED | SKIPPED | SKIPPED | +-------------------------------+--------------------+-------------------+-------------------------+----------------------+-------------------+------------------+ | Windows Server 2022 | SKIPPED | PASS | PASS | PASS | SKIPPED | SKIPPED | +-------------------------------+--------------------+-------------------+-------------------------+----------------------+-------------------+------------------+ ==== 20 line log output for Debian GNU/Linux 12 (dpdk_compile_spdk): ==== --- Failed to get log output --- ==== End log output ==== Ubuntu 20.04 Kernel: 4.19 Compiler: gcc gcc (Ubuntu 9.4.0-1ubuntu1~20.04.2) 9.4.0 FreeBSD 14.2 Kernel: 14.2-RELEASE Compiler: clang 18.1.6 CentOS Stream 9 Kernel: 5.15 Compiler: gcc gcc (GCC) 11.5.0 20240719 (Red Hat 11.5.0-11) Debian GNU/Linux 12 Kernel: 5.15 Compiler: gcc gcc (Debian 12.2.0-14+deb12u1) 12.2.0 Fedora Linux 42 Kernel: 5.15 Compiler: clang gcc (GCC) 15.2.1 20250808 (Red Hat 15.2.1-1) CentOS Stream 10 Kernel: 5.15 Compiler: gcc gcc (GCC) 14.2.1 20250110 (Red Hat 14.2.1-8) openSUSE Leap 15.6 Kernel: 5.15 Compiler: gcc gcc (SUSE Linux) 7.5.0 Red Hat Enterprise Linux 8.10 Kernel: 5.15 Compiler: gcc gcc (GCC) 8.5.0 20210514 (Red Hat 8.5.0-22) Red Hat Enterprise Linux 9.5 Kernel: 5.15 Compiler: gcc gcc (GCC) 11.5.0 20240719 (Red Hat 11.5.0-2) Windows Server 2022 Kernel: 10.0.20348.2031 Compiler: clang 15.0.7, gcc 14.1.0 (MinGW), and MSVC VS 19.39.33521 To view detailed results, visit: https://lab.dpdk.org/results/dashboard/patchsets/34297/ UNH-IOL DPDK Community Lab To manage your email subscriptions, visit: https://lab.dpdk.org/results/dashboard/preferences/subscriptions/