From mboxrd@z Thu Jan 1 00:00:00 1970 Return-Path: Received: from mails.dpdk.org (mails.dpdk.org [217.70.189.124]) by inbox.dpdk.org (Postfix) with ESMTP id 73AA348959 for ; Fri, 17 Oct 2025 00:04:24 +0200 (CEST) Received: from mails.dpdk.org (localhost [127.0.0.1]) by mails.dpdk.org (Postfix) with ESMTP id 4EBD64026D; Fri, 17 Oct 2025 00:04:24 +0200 (CEST) Received: from mail-il1-f227.google.com (mail-il1-f227.google.com [209.85.166.227]) by mails.dpdk.org (Postfix) with ESMTP id 942D34029A for ; Fri, 17 Oct 2025 00:04:22 +0200 (CEST) Received: by mail-il1-f227.google.com with SMTP id e9e14a558f8ab-42d8b15548eso6865925ab.2 for ; Thu, 16 Oct 2025 15:04:22 -0700 (PDT) DKIM-Signature: v=1; a=rsa-sha256; c=relaxed/relaxed; d=iol.unh.edu; s=unh-iol; t=1760652262; x=1761257062; darn=dpdk.org; h=references:in-reply-to:cc:to:from:subject:message-id:date:from:to :cc:subject:date:message-id:reply-to; bh=KAbS9gKd+JfAcD9HQzQYvRg59qwPl0FqnjQns2WhKzY=; b=ZYycKkv/yliSdmnU068FCwZ6CwAgg53Ok0JcBrV4KHxSzk5zd44YGzPVmpbKyRSwsN cSDFkK2evka4tj6aWnzc+Uc4A1pyj9CMK6drRRNmmdQnIugdrnKsmKio5WdB+O6sCcO3 O4Ssa/MvyhFQqZfwy9ggJzYcdvFAIgiGT3mUQ= X-Google-DKIM-Signature: v=1; a=rsa-sha256; c=relaxed/relaxed; d=1e100.net; s=20230601; t=1760652262; x=1761257062; h=references:in-reply-to:cc:to:from:subject:message-id:date :x-gm-message-state:from:to:cc:subject:date:message-id:reply-to; bh=KAbS9gKd+JfAcD9HQzQYvRg59qwPl0FqnjQns2WhKzY=; b=QUFQTd1b0dzNkjmRxbSjokCsY4o1i5u1neAbp5VuOmlRS8h7pjGf1bT+EghW2qndBB wlXMfm0klm7drIILJGZm3+9x9FR4sj5c8y7TgB45E+SM/LOq5GUGkHcPaPSh2d2CaomT oGhQcMGzP6BixoyiL60T0F//sAOiWO6mkJprAno4pis6upaIW487Yt2G0ITgTWDrVBRl 9Z3OMYLShXBdaA31u5egCH0hJkK9+Z2r5Co02vtA/oEx/IpJq0IwjCXosHYfLHiNqf12 d0nLhtxxeyRCE6wjdr5EmabwML+wUaeVyUIQwf/P0Ean1ETtE+gLgoV6s44xKLKV+0Wo ugSQ== X-Gm-Message-State: AOJu0Yz+7Iz4KJK+12bxMinOTcHxUr3MYos6TUA361PiVTb4LE0u2mx1 nodfwKAOG68IAGD5iOMbqL2x6ROJq5gmtazRAyMoiaq4hR4hPRjb0MRocJ6WvqcZQy6iLVBdwPE SkOWP4autd0uTSUIaqXqQn94aTJdODdWx8LIlgH79Q/CsnJs26VWRRV8RQ1my X-Gm-Gg: ASbGncuXC1OsibI0kvHEbhrdfYgbFaPJzAmXpFVS3qpNAM0KA1cBSh/mpvt7x7dpDHH +hHXNoLIuHB7AY9rRw9p+q53koKKI78dtmg9H0ErP5zgq9gPiGvLp9aJbsttminH/JdK5Nbcb9P N3dmT97G3Z3BwID7/jIf8ifNBf8jrkJhW7ljcTVynKigaYWI+bG1ov9x8WqaebjCaZ+KB8tpQHB lvJHcq7axywmbL+Rp9qqLyJbbEdlgXn2NET/hyMhJVEHBszZZQpk+QPZxZ7WoEVDj1IKIeOxvbE aLs/qy0VN/0131vGvc9alHWqMCDL+TFi0+0XPaV1Vid/I1jp7NdKTs8gNs6lARR/mbP1TfFplqL vTWvDPWkJ X-Google-Smtp-Source: AGHT+IGxAFKybVABZRRz5FHUEmRHeDN60ZF/Ea7U783v3y0AYD/qBOaotvvzhBaV2OQTar2x0DDUN/KVgcS+ X-Received: by 2002:a05:6e02:380f:b0:42e:72ee:cde6 with SMTP id e9e14a558f8ab-430c525f609mr26487875ab.12.1760652261810; Thu, 16 Oct 2025 15:04:21 -0700 (PDT) Received: from postal.iol.unh.edu (postal.iol.unh.edu. [2606:4100:3880:1234::84]) by smtp-relay.gmail.com with ESMTPS id 8926c6da1cb9f-5a76f76b9f8sm55083173.40.2025.10.16.15.04.21 (version=TLS1_2 cipher=ECDHE-ECDSA-AES128-GCM-SHA256 bits=128/128); Thu, 16 Oct 2025 15:04:21 -0700 (PDT) X-Relaying-Domain: iol.unh.edu Date: Thu, 16 Oct 2025 15:04:21 -0700 (PDT) Message-ID: <68f16be5.050a0220.1b3961.2976SMTPIN_ADDED_MISSING@mx.google.com> Received: from [172.21.0.2] (unknown [172.18.0.240]) by postal.iol.unh.edu (Postfix) with ESMTP id 5730D6050A61; Thu, 16 Oct 2025 18:04:21 -0400 (EDT) Subject: |SUCCESS| pw157761-157767 [PATCH] [v7,7/7] usertools/mbuf: parse mbu From: dpdklab@iol.unh.edu To: Test Report Cc: dpdk-test-reports@iol.unh.edu In-Reply-To: <20251016203557.2554678-8-thomas@monjalon.net> References: <20251016203557.2554678-8-thomas@monjalon.net> Content-Type: text/plain X-BeenThere: test-report@dpdk.org X-Mailman-Version: 2.1.29 Precedence: list List-Id: automatic DPDK test reports List-Unsubscribe: , List-Archive: List-Post: List-Help: List-Subscribe: , Errors-To: test-report-bounces@dpdk.org Test-Label: iol-compile-amd64-testing Test-Status: SUCCESS http://dpdk.org/patch/157767 _Testing PASS_ Submitter: Thomas Monjalon Date: Thursday, October 16 2025 20:34:45 DPDK git baseline: Repo:dpdk Branch: master CommitID:438491733c2d8a109574449d3d6de9b25a05c07c 157761-157767 --> testing pass Upstream job id: Windows-Compile-DPDK-Native#31688 Test environment and result as below: +---------------------+-------------------------+--------------------+-------------------+----------------------+ | Environment | dpdk_llvm_clang_compile | dpdk_meson_compile | dpdk_msvc_compile | dpdk_mingw64_compile | +=====================+=========================+====================+===================+======================+ | Windows Server 2022 | PASS | SKIPPED | PASS | PASS | +---------------------+-------------------------+--------------------+-------------------+----------------------+ | Ubuntu 20.04 | SKIPPED | PASS | SKIPPED | SKIPPED | +---------------------+-------------------------+--------------------+-------------------+----------------------+ | FreeBSD 14.2 | SKIPPED | PASS | SKIPPED | SKIPPED | +---------------------+-------------------------+--------------------+-------------------+----------------------+ Windows Server 2022 Kernel: 10.0.20348.2031 Compiler: clang 15.0.7, gcc 14.1.0 (MinGW), and MSVC VS 19.39.33521 Ubuntu 20.04 Kernel: 4.19 Compiler: gcc gcc (Ubuntu 9.4.0-1ubuntu1~20.04.2) 9.4.0 FreeBSD 14.2 Kernel: 14.2-RELEASE Compiler: clang 18.1.6 To view detailed results, visit: https://lab.dpdk.org/results/dashboard/patchsets/34304/ UNH-IOL DPDK Community Lab To manage your email subscriptions, visit: https://lab.dpdk.org/results/dashboard/preferences/subscriptions/