From mboxrd@z Thu Jan 1 00:00:00 1970 Return-Path: Received: from mails.dpdk.org (mails.dpdk.org [217.70.189.124]) by inbox.dpdk.org (Postfix) with ESMTP id 8462648959 for ; Fri, 17 Oct 2025 00:22:31 +0200 (CEST) Received: from mails.dpdk.org (localhost [127.0.0.1]) by mails.dpdk.org (Postfix) with ESMTP id 801144026D; Fri, 17 Oct 2025 00:22:31 +0200 (CEST) Received: from mail-ua1-f99.google.com (mail-ua1-f99.google.com [209.85.222.99]) by mails.dpdk.org (Postfix) with ESMTP id 2AC084026D for ; Fri, 17 Oct 2025 00:22:30 +0200 (CEST) Received: by mail-ua1-f99.google.com with SMTP id a1e0cc1a2514c-8e1d6fd99c1so337712241.2 for ; Thu, 16 Oct 2025 15:22:30 -0700 (PDT) DKIM-Signature: v=1; a=rsa-sha256; c=relaxed/relaxed; d=iol.unh.edu; s=unh-iol; t=1760653349; x=1761258149; darn=dpdk.org; h=references:in-reply-to:cc:to:from:subject:message-id:date:from:to :cc:subject:date:message-id:reply-to; bh=bWyDjHwyD7OH3mbcpE26kGRpikVtNzlchKfCD3+UNfI=; b=SsZukAO7fc+r8cIvRyDAn9Yu8HJTGvoWwK/t2eC5F9L7ZLT3qgxkfB5ujgYkA56ueI 3e7WYyPwnZ8+5O0wsWhAd3fs7eLzMak5zBYTD28h+SMNx54yHe4PruWPB1/oaNklkdCD G1tAa6PXtT8DXezWhibje2lMpx9w4eY8SQn4k= X-Google-DKIM-Signature: v=1; a=rsa-sha256; c=relaxed/relaxed; d=1e100.net; s=20230601; t=1760653349; x=1761258149; h=references:in-reply-to:cc:to:from:subject:message-id:date :x-gm-message-state:from:to:cc:subject:date:message-id:reply-to; bh=bWyDjHwyD7OH3mbcpE26kGRpikVtNzlchKfCD3+UNfI=; b=rbrmuYxuRwF8Dn6IdIZsbGH+bHffW/Fl8DZizrJp7WVOAyEZoMeFQPuMRdYrnoL7ya JU93j8edNsCqjxbHuZ02UNAaSpHnyl0Bf4/dFGjvT89oh4SiIP1frZJ5PufWJeptvYHY +cg4hEJ4Fxq72xIAdH8WKwLp/cu11l4IK4OEaF30uFJ9xlU43WbXpAMFjZLHvA5eQ3br vMhJj2USsr7E4e5CDf8yY6I+dgxm8OUzOwrnhGNcu0xr4JxHDE446NIQMG2CRNmwQtY4 LeAvrWamL2oBPXi1nNIJlh5QyEtRpiXKgp32FS9kx2nOS9QbBIJensWSpP8JDazuPbP+ fHrg== X-Gm-Message-State: AOJu0YyHY0jhfy5B+ggsrPSCiKgqPxhJ/hQbDxzdqIKhI1Lef8xM/A7T UiuJywowbQT7ffrOFhYmE2t61JvGHKUF+C3ZXPa8y4+qV8QLWDViNdT8StI4hxZIwQdfSo3DKeZ QSwQ+iZLa052l06zPW4GaQoysP7tRroGwSAtceocYi5aa X-Gm-Gg: ASbGncuFapzEsiYU8IjYMfJwGCYRv20xoM5joueiRRFsB+AseiZ/rB2ke/5CJSrDP5x phrXUnRI0poDlj5KCdn6+5tmRpFHaPytrvWFeMN6fgR/c4wHfUeC548bTl3QppS0bhaVazHH4h+ TeximtR3SSOeJwtz4FNOYyDn3hldgUVjKZdjUrnFm5CNKwaG+aTUsWwYgrLYP1VEGt4aZK+OOil 4gQPmAVwRg702wBfgjK7uyWFbFHAYC6sTBsu2cty/FBpn4SLLThZXBtYLP/YbyaPvDjETfXsI16 7j9eRtAASGI/4N9vS8PrOv2j6WqeaQnkBkEqugi/1LtB8/+Qt2kDgTGvlUwaz+Q8fZJtCCoeGDi nUVeipVgkxz152VJiM1xaotRDoku9g68= X-Google-Smtp-Source: AGHT+IHyfpHh63BcfGKqrDu563Chn4ksUwti9fjpDiBRJshpcs3E+4+SX3B81Mf1VnGSGojPZSRw61hCK0UC X-Received: by 2002:a05:6102:c10:b0:59e:68dd:4167 with SMTP id ada2fe7eead31-5d7dd55617cmr829737137.7.1760653349417; Thu, 16 Oct 2025 15:22:29 -0700 (PDT) Received: from postal.iol.unh.edu (postal.iol.unh.edu. [132.177.123.84]) by smtp-relay.gmail.com with ESMTPS id ada2fe7eead31-5d5fc702821sm2441592137.2.2025.10.16.15.22.29 (version=TLS1_2 cipher=ECDHE-ECDSA-AES128-GCM-SHA256 bits=128/128); Thu, 16 Oct 2025 15:22:29 -0700 (PDT) X-Relaying-Domain: iol.unh.edu Date: Thu, 16 Oct 2025 15:22:29 -0700 (PDT) Message-ID: <68f17025.050a0220.23c067.79abSMTPIN_ADDED_MISSING@mx.google.com> Received: from [172.21.0.2] (unknown [172.18.0.240]) by postal.iol.unh.edu (Postfix) with ESMTP id 233F66050A61; Thu, 16 Oct 2025 18:22:29 -0400 (EDT) Subject: |SUCCESS| pw157761-157767 [PATCH] [v7,7/7] usertools/mbuf: parse mbu From: dpdklab@iol.unh.edu To: Test Report Cc: dpdk-test-reports@iol.unh.edu In-Reply-To: <20251016203557.2554678-8-thomas@monjalon.net> References: <20251016203557.2554678-8-thomas@monjalon.net> Content-Type: text/plain X-BeenThere: test-report@dpdk.org X-Mailman-Version: 2.1.29 Precedence: list List-Id: automatic DPDK test reports List-Unsubscribe: , List-Archive: List-Post: List-Help: List-Subscribe: , Errors-To: test-report-bounces@dpdk.org Test-Label: iol-unit-amd64-testing Test-Status: SUCCESS http://dpdk.org/patch/157767 _Testing PASS_ Submitter: Thomas Monjalon Date: Thursday, October 16 2025 20:34:45 DPDK git baseline: Repo:dpdk Branch: master CommitID:438491733c2d8a109574449d3d6de9b25a05c07c 157761-157767 --> testing pass Upstream job id: Generic-Unit-Test-DPDK#382386 Test environment and result as below: +-------------------------------+----------------+ | Environment | dpdk_unit_test | +===============================+================+ | CentOS Stream 10 | PASS | +-------------------------------+----------------+ | Debian GNU/Linux 12 | PASS | +-------------------------------+----------------+ | CentOS Stream 9 | PASS | +-------------------------------+----------------+ | Fedora Linux 42 | PASS | +-------------------------------+----------------+ | Fedora Linux 40 | PASS | +-------------------------------+----------------+ | Red Hat Enterprise Linux 9.5 | PASS | +-------------------------------+----------------+ | Fedora Linux 41 | PASS | +-------------------------------+----------------+ | Ubuntu 20.04 | PASS | +-------------------------------+----------------+ | Ubuntu 24.04 | PASS | +-------------------------------+----------------+ | Ubuntu 22.04 | PASS | +-------------------------------+----------------+ | Red Hat Enterprise Linux 8.10 | PASS | +-------------------------------+----------------+ | Windows Server 2022 | PASS | +-------------------------------+----------------+ CentOS Stream 10 Kernel: 5.15 Compiler: gcc gcc (GCC) 14.2.1 20250110 (Red Hat 14.2.1-8) Debian GNU/Linux 12 Kernel: 5.15 Compiler: gcc gcc (Debian 12.2.0-14+deb12u1) 12.2.0 CentOS Stream 9 Kernel: 5.15 Compiler: gcc gcc (GCC) 11.5.0 20240719 (Red Hat 11.5.0-11) Fedora Linux 42 Kernel: 5.15 Compiler: clang gcc (GCC) 15.2.1 20250808 (Red Hat 15.2.1-1) Fedora Linux 40 Kernel: 5.15 Compiler: gcc gcc (GCC) 14.2.1 20240912 (Red Hat 14.2.1-3) Red Hat Enterprise Linux 9.5 Kernel: 5.15 Compiler: gcc gcc (GCC) 11.5.0 20240719 (Red Hat 11.5.0-2) Fedora Linux 41 Kernel: 5.15 Compiler: clang gcc (GCC) 14.3.1 20250523 (Red Hat 14.3.1-1) Ubuntu 20.04 Kernel: 5.15 Compiler: gcc gcc (Ubuntu 9.4.0-1ubuntu1~20.04.2) 9.4.0 Ubuntu 24.04 Kernel: 5.15 Compiler: gcc gcc (Ubuntu 13.3.0-6ubuntu2~24.04) 13.3.0 Ubuntu 22.04 Kernel: 5.15 Compiler: gcc gcc (Ubuntu 11.4.0-1ubuntu1~22.04) 11.4.0 Red Hat Enterprise Linux 8.10 Kernel: 5.15 Compiler: gcc gcc (GCC) 8.5.0 20210514 (Red Hat 8.5.0-22) Windows Server 2022 Kernel: 10.0.20348.2031 Compiler: clang 15.0.7, gcc 14.1.0 (MinGW), and MSVC VS 19.39.33521 To view detailed results, visit: https://lab.dpdk.org/results/dashboard/patchsets/34304/ UNH-IOL DPDK Community Lab To manage your email subscriptions, visit: https://lab.dpdk.org/results/dashboard/preferences/subscriptions/