From mboxrd@z Thu Jan 1 00:00:00 1970 Return-Path: Received: from mails.dpdk.org (mails.dpdk.org [217.70.189.124]) by inbox.dpdk.org (Postfix) with ESMTP id 99D8B48959 for ; Fri, 17 Oct 2025 00:40:55 +0200 (CEST) Received: from mails.dpdk.org (localhost [127.0.0.1]) by mails.dpdk.org (Postfix) with ESMTP id 734664026D; Fri, 17 Oct 2025 00:40:55 +0200 (CEST) Received: from mail-io1-f100.google.com (mail-io1-f100.google.com [209.85.166.100]) by mails.dpdk.org (Postfix) with ESMTP id A967C4026D for ; Fri, 17 Oct 2025 00:40:54 +0200 (CEST) Received: by mail-io1-f100.google.com with SMTP id ca18e2360f4ac-917be46c59bso127577939f.1 for ; Thu, 16 Oct 2025 15:40:54 -0700 (PDT) DKIM-Signature: v=1; a=rsa-sha256; c=relaxed/relaxed; d=iol.unh.edu; s=unh-iol; t=1760654454; x=1761259254; darn=dpdk.org; h=references:in-reply-to:cc:to:from:subject:message-id:date:from:to :cc:subject:date:message-id:reply-to; bh=qm1Iiv38vFS9kylrnbtWIpwZVh0HPXso7iu8nmp+qHI=; b=IXJojJB8ZzopsLZeSsJx4jtDMLK9ShxqixAKoKS9cez8ghJzrvx9viIc/KNtGkofqb W0XeUfO1V4bc8muQQH0F099AFgu1MY5Rt38rrxxIXYSMcdGxEIvP/JX3YGlGdb6Astll FVOnT96Un4uAHgUVOCi7VkU173nQVXIHH4OEg= X-Google-DKIM-Signature: v=1; a=rsa-sha256; c=relaxed/relaxed; d=1e100.net; s=20230601; t=1760654454; x=1761259254; h=references:in-reply-to:cc:to:from:subject:message-id:date :x-gm-message-state:from:to:cc:subject:date:message-id:reply-to; bh=qm1Iiv38vFS9kylrnbtWIpwZVh0HPXso7iu8nmp+qHI=; b=YO9kj+tm2S1u1KTAOinuSRCEtCc9q76/xodpo0aMrPvyJVWjfP8SGXNr33P6I/6xSs 8P5tfl8XCmcN1SeSX1skgbYebtxl6v24f/D1bHr68qPRSd55mjc6STzrBMv7S+aYEfW6 tC5mhh8HT042xq326W4bqshNm/fxf4Ae9f428plXZCYeYfRgBZTNGBALV7/Dg6TT0e6C OT2y584o9Gm6qkl+DLrMEyC531YA7fckV1sowjNxe7sN3g/fb6Zrc7oUiwujnHaXgbp1 5SasVk9D1bSYnI5l1GrTzhcz2H+T4VfDhcvvelii0edEEdUI9KNum9zwc1MJONMIDUC7 AuTw== X-Gm-Message-State: AOJu0YzxKjKdszXzLlIhmclVYvfaUuKzRap4quqXj+qYDd2CMEq7L7zQ 9MsygFfepNAZWj9i7S6QH1DAWFwkJqIe81YRMENoJGmHJWvbVXh8PvlYsk6WKd0H+ki3Ynyaf/x MqHyYVl88DeHx1oAQspwO4ZVACX+5VWe3i76GHjcNzJbq X-Gm-Gg: ASbGncsMkx9txLshGot6wl6Dc0Xxrq8J2oInpRHhjvEg5yecBb0/EOW5F9M86e6Vy2S Xcy9H55ikbAS8FOITAmQhXuxBqrEhPAMasXvIvNN8zzqQsvX/9oia7Dn0BSfanO1VCtyaA+FiGf qStmkRO/ts90H3iVaQV2H0dtw4bj/9ebZt26sCnP4qwtIz5b2L+vNxYrXNrVPuERbDjT2gZmyMj 1xN81jMTe/H6ki4YM58jy/S7lXgg3h26FCpeC8S7SZnySrXCCq+KnTp6r5Dx9Q1mb6J0+WRJFmL xGXmSu2GzXlfMmB5OidAPDyLDL/emW9Tf5NtaMKf8zbfnIggy62Cz3zC6IQLJ5lY4EkFnU0W9tl t2pD0g7qk3XL9PXVPhZTedai5bk3qukU= X-Google-Smtp-Source: AGHT+IEIXsgzOf+x2cNNilGfQdhLI2vTrHiIvPik6qjBiTKKBsNXcAjGEn+Jn4CnP2D90oIQ9kQ9YHyNe491 X-Received: by 2002:a05:6602:14c4:b0:8de:d8df:e1ed with SMTP id ca18e2360f4ac-93e7633ee4fmr225150439f.8.1760654453921; Thu, 16 Oct 2025 15:40:53 -0700 (PDT) Received: from postal.iol.unh.edu (postal.iol.unh.edu. [132.177.123.84]) by smtp-relay.gmail.com with ESMTPS id 8926c6da1cb9f-5a76f5710acsm65600173.15.2025.10.16.15.40.53 (version=TLS1_2 cipher=ECDHE-ECDSA-AES128-GCM-SHA256 bits=128/128); Thu, 16 Oct 2025 15:40:53 -0700 (PDT) X-Relaying-Domain: iol.unh.edu Date: Thu, 16 Oct 2025 15:40:53 -0700 (PDT) Message-ID: <68f17475.050a0220.d4cb9.38f6SMTPIN_ADDED_MISSING@mx.google.com> Received: from [172.21.0.2] (unknown [172.18.0.240]) by postal.iol.unh.edu (Postfix) with ESMTP id 4283D6050A61; Thu, 16 Oct 2025 18:40:53 -0400 (EDT) Subject: |WARNING| pw157718 [PATCH] [v1] maintainers: update for LoongArch From: dpdklab@iol.unh.edu To: Test Report Cc: dpdk-test-reports@iol.unh.edu In-Reply-To: <20251016090948.836029-1-zhoumin@loongson.cn> References: <20251016090948.836029-1-zhoumin@loongson.cn> Content-Type: text/plain X-BeenThere: test-report@dpdk.org X-Mailman-Version: 2.1.29 Precedence: list List-Id: automatic DPDK test reports List-Unsubscribe: , List-Archive: List-Post: List-Help: List-Subscribe: , Errors-To: test-report-bounces@dpdk.org Test-Label: iol-compile-amd64-testing Test-Status: WARNING http://dpdk.org/patch/157718 _Testing issues_ Submitter: zhoumin Date: Thursday, October 16 2025 09:09:48 DPDK git baseline: Repo:dpdk Branch: master CommitID:16f4c522003dcfecf23c8d38e009b95a3bbefd03 157718 --> testing issues Upstream job id: Generic-DPDK-Compile-Meson#434989 Test environment and result as below: +-------------------------------+--------------------+-------------------+-------------------------+----------------------+-------------------+------------------+ | Environment | dpdk_meson_compile | dpdk_msvc_compile | dpdk_llvm_clang_compile | dpdk_mingw64_compile | dpdk_compile_spdk | dpdk_compile_ovs | +===============================+====================+===================+=========================+======================+===================+==================+ | Ubuntu 20.04 | PASS | SKIPPED | SKIPPED | SKIPPED | SKIPPED | SKIPPED | +-------------------------------+--------------------+-------------------+-------------------------+----------------------+-------------------+------------------+ | FreeBSD 14.2 | PASS | SKIPPED | SKIPPED | SKIPPED | SKIPPED | SKIPPED | +-------------------------------+--------------------+-------------------+-------------------------+----------------------+-------------------+------------------+ | CentOS Stream 9 | PASS | SKIPPED | SKIPPED | SKIPPED | WARN | SKIPPED | +-------------------------------+--------------------+-------------------+-------------------------+----------------------+-------------------+------------------+ | Debian GNU/Linux 12 | PASS | SKIPPED | SKIPPED | SKIPPED | WARN | SKIPPED | +-------------------------------+--------------------+-------------------+-------------------------+----------------------+-------------------+------------------+ | Fedora Linux 42 | PASS | SKIPPED | SKIPPED | SKIPPED | WARN | PASS | +-------------------------------+--------------------+-------------------+-------------------------+----------------------+-------------------+------------------+ | CentOS Stream 10 | PASS | SKIPPED | SKIPPED | SKIPPED | SKIPPED | SKIPPED | +-------------------------------+--------------------+-------------------+-------------------------+----------------------+-------------------+------------------+ | openSUSE Leap 15.6 | PASS | SKIPPED | SKIPPED | SKIPPED | SKIPPED | SKIPPED | +-------------------------------+--------------------+-------------------+-------------------------+----------------------+-------------------+------------------+ | Red Hat Enterprise Linux 8.10 | PASS | SKIPPED | SKIPPED | SKIPPED | SKIPPED | SKIPPED | +-------------------------------+--------------------+-------------------+-------------------------+----------------------+-------------------+------------------+ | Red Hat Enterprise Linux 9.5 | PASS | SKIPPED | SKIPPED | SKIPPED | SKIPPED | SKIPPED | +-------------------------------+--------------------+-------------------+-------------------------+----------------------+-------------------+------------------+ | Ubuntu 22.04 | PASS | SKIPPED | SKIPPED | SKIPPED | WARN | SKIPPED | +-------------------------------+--------------------+-------------------+-------------------------+----------------------+-------------------+------------------+ | Ubuntu 24.04 | PASS | SKIPPED | SKIPPED | SKIPPED | WARN | PASS | +-------------------------------+--------------------+-------------------+-------------------------+----------------------+-------------------+------------------+ | Alpine Linux 3.22.0 | PASS | SKIPPED | SKIPPED | SKIPPED | SKIPPED | SKIPPED | +-------------------------------+--------------------+-------------------+-------------------------+----------------------+-------------------+------------------+ | Windows Server 2022 | SKIPPED | PASS | PASS | PASS | SKIPPED | SKIPPED | +-------------------------------+--------------------+-------------------+-------------------------+----------------------+-------------------+------------------+ ==== 20 line log output for Ubuntu 24.04 (dpdk_compile_spdk): ==== --- Failed to get log output --- ==== End log output ==== Ubuntu 20.04 Kernel: 4.19 Compiler: gcc gcc (Ubuntu 9.4.0-1ubuntu1~20.04.2) 9.4.0 FreeBSD 14.2 Kernel: 14.2-RELEASE Compiler: clang 18.1.6 CentOS Stream 9 Kernel: 5.15 Compiler: gcc gcc (GCC) 11.5.0 20240719 (Red Hat 11.5.0-11) Debian GNU/Linux 12 Kernel: 5.15 Compiler: gcc gcc (Debian 12.2.0-14+deb12u1) 12.2.0 Fedora Linux 42 Kernel: 5.15 Compiler: clang gcc (GCC) 15.2.1 20250808 (Red Hat 15.2.1-1) CentOS Stream 10 Kernel: 5.15 Compiler: gcc gcc (GCC) 14.2.1 20250110 (Red Hat 14.2.1-8) openSUSE Leap 15.6 Kernel: 5.15 Compiler: gcc gcc (SUSE Linux) 7.5.0 Red Hat Enterprise Linux 8.10 Kernel: 5.15 Compiler: gcc gcc (GCC) 8.5.0 20210514 (Red Hat 8.5.0-22) Red Hat Enterprise Linux 9.5 Kernel: 5.15 Compiler: gcc gcc (GCC) 11.5.0 20240719 (Red Hat 11.5.0-2) Ubuntu 22.04 Kernel: 5.15 Compiler: gcc gcc (Ubuntu 11.4.0-1ubuntu1~22.04) 11.4.0 Ubuntu 24.04 Kernel: 5.15 Compiler: gcc gcc (Ubuntu 13.3.0-6ubuntu2~24.04) 13.3.0 Alpine Linux 3.22.0 Kernel: 5.15 Compiler: gcc gcc (Alpine 14.2.0) 14.2.0 Windows Server 2022 Kernel: 10.0.20348.2031 Compiler: clang 15.0.7, gcc 14.1.0 (MinGW), and MSVC VS 19.39.33521 To view detailed results, visit: https://lab.dpdk.org/results/dashboard/patchsets/34297/ UNH-IOL DPDK Community Lab To manage your email subscriptions, visit: https://lab.dpdk.org/results/dashboard/preferences/subscriptions/