From mboxrd@z Thu Jan 1 00:00:00 1970 Return-Path: Received: from mails.dpdk.org (mails.dpdk.org [217.70.189.124]) by inbox.dpdk.org (Postfix) with ESMTP id DA05D48959 for ; Fri, 17 Oct 2025 01:22:01 +0200 (CEST) Received: from mails.dpdk.org (localhost [127.0.0.1]) by mails.dpdk.org (Postfix) with ESMTP id D52C44026D; Fri, 17 Oct 2025 01:22:01 +0200 (CEST) Received: from mail-io1-f99.google.com (mail-io1-f99.google.com [209.85.166.99]) by mails.dpdk.org (Postfix) with ESMTP id 87DD94026D for ; Fri, 17 Oct 2025 01:21:56 +0200 (CEST) Received: by mail-io1-f99.google.com with SMTP id ca18e2360f4ac-93e2d26fc82so119127639f.0 for ; Thu, 16 Oct 2025 16:21:56 -0700 (PDT) DKIM-Signature: v=1; a=rsa-sha256; c=relaxed/relaxed; d=iol.unh.edu; s=unh-iol; t=1760656916; x=1761261716; darn=dpdk.org; h=references:in-reply-to:cc:to:from:subject:message-id:date:from:to :cc:subject:date:message-id:reply-to; bh=A49Gdp8rgUZG41ohpZsTewF61arWawhasOHHH5Vj3DM=; b=EPa/Ba4kYF+kS1/RT8D32bL1PRF6fBIi0qBPir3P7gqcDWBtR8tEzUTLaTc65lYBs1 GJdlRCfDg2YOS+iSX10hwRqbxMg3XVMHcFYemoycbNA8XSxq6stoJ/DLG16s/wA2+5RI xPBrhWP4nVjkv8WlFnzLelQSbf9ovI4C8M9s4= X-Google-DKIM-Signature: v=1; a=rsa-sha256; c=relaxed/relaxed; d=1e100.net; s=20230601; t=1760656916; x=1761261716; h=references:in-reply-to:cc:to:from:subject:message-id:date :x-gm-message-state:from:to:cc:subject:date:message-id:reply-to; bh=A49Gdp8rgUZG41ohpZsTewF61arWawhasOHHH5Vj3DM=; b=Azq9GWTE1i5aZJgx/k7F7//I3e17PUGJiVcR4nKmFe/9eBCsqfBo/N+qfcCMLDMmbJ XeBRR4rp7U/U39KbJM4pfEpVSOW90XHDdJ8x/qidD2zaWS3bMfpVI4vHKMXVRuxHrEMe 7SdKPJJj6KBUvmZtrcoUYYdtkqYZaKU6E+YqcFmrUR3aPvalUoiq1I41iZvvLvWdml8E 7eYwxr3wMLbMwqHkDUVNmhh5AD75ZkixWq1Z9OIOMOQZRUTA6fPFVvIiWwCKcWQp8ASd X2K4q8UbOQRmBjyxqsyolZgBAsaD+neUYgE8U32/Sfia2A8hSzY1LHdN4t7DgoulNwlq hlwA== X-Gm-Message-State: AOJu0Yxl0MLRi8j91XwV73pOqzs2htyjW9Mp1WOgK0i/FTwK9upEcKNh Gg2KH6BMHk5Rbnjj4M0g3dM6CDJLSvvwbgSVre7Z3QOtXqwxJPPPruamkcCH+/yFoAilu+amRJM 9Xgv5zntKLl3JHcG088pW/mzANi2Ik6Jvmf84BJWkWXWi X-Gm-Gg: ASbGncsPvObxP4pqNzLsNwNoOolTDBUnmFMxEhs3eL6yK1plxCruTfFkr3C7WLoept2 b+W9zIYcaIAhSll7ee4xE18n6mQQG/kPjyU6Do1sc8W4jCDPZd+6J5YSCkWwFPV9iDiOmMDmYCX XNmP+WNqAHWI5xYIF/CeaO//Nzz9WLFwj1OI3V3KrxVFOwtg0FME1+0EijmpCnDI2BcPfUPwWgI hDnN//jQ7awTdyUWoi33VbzLa0QP5K3m/hkZIHNBK/vCVXa7UNwKFQ4ftOdDR0MP4TJpeZrIqfR OQH78v1PMklxHA5UohL8lBcTTxx13AVIaJacgLIWdDU45WLIuOtmVY5Ac8JTZkct/8k0BnJbeyL d6np6LByTOGFGa7eDXPtieV61hqg9TVw= X-Google-Smtp-Source: AGHT+IEpHT/RyOQEDq9jYRbqpdJzyCjdjh3vCA9YyZi6kdYqTRY4Lj3K93EA7nTOw1unK57Kyrx14SLoyLWF X-Received: by 2002:a05:6602:c8a:b0:927:be17:389d with SMTP id ca18e2360f4ac-93e7627d120mr222896739f.4.1760656915843; Thu, 16 Oct 2025 16:21:55 -0700 (PDT) Received: from postal.iol.unh.edu (postal.iol.unh.edu. [132.177.123.84]) by smtp-relay.gmail.com with ESMTPS id ca18e2360f4ac-93e2594f67csm128436539f.6.2025.10.16.16.21.55 (version=TLS1_2 cipher=ECDHE-ECDSA-AES128-GCM-SHA256 bits=128/128); Thu, 16 Oct 2025 16:21:55 -0700 (PDT) X-Relaying-Domain: iol.unh.edu Date: Thu, 16 Oct 2025 16:21:55 -0700 (PDT) Message-ID: <68f17e13.6b0a0220.55359.3392SMTPIN_ADDED_MISSING@mx.google.com> Received: from [172.21.0.2] (unknown [172.18.0.240]) by postal.iol.unh.edu (Postfix) with ESMTP id 230A26051830; Thu, 16 Oct 2025 19:21:55 -0400 (EDT) Subject: |SUCCESS| pw157768-157770 [PATCH] [v2,3/3] net/dpaa2: make total_rx_ From: dpdklab@iol.unh.edu To: Test Report Cc: dpdk-test-reports@iol.unh.edu, Stephen Hemminger In-Reply-To: <20251016220959.15671-4-stephen@networkplumber.org> References: <20251016220959.15671-4-stephen@networkplumber.org> Content-Type: text/plain X-BeenThere: test-report@dpdk.org X-Mailman-Version: 2.1.29 Precedence: list List-Id: automatic DPDK test reports List-Unsubscribe: , List-Archive: List-Post: List-Help: List-Subscribe: , Errors-To: test-report-bounces@dpdk.org Test-Label: iol-unit-amd64-testing Test-Status: SUCCESS http://dpdk.org/patch/157770 _Testing PASS_ Submitter: Stephen Hemminger Date: Thursday, October 16 2025 22:09:03 DPDK git baseline: Repo:dpdk-next-net Branch: master CommitID:6c12368ef1d9b69af2dcf07ac8b502c23860ce90 157768-157770 --> testing pass Upstream job id: Generic-VM-Unit-Test-DPDK#31860 Test environment and result as below: +-------------------------------+----------------+ | Environment | dpdk_unit_test | +===============================+================+ | CentOS Stream 9 | PASS | +-------------------------------+----------------+ | CentOS Stream 10 | PASS | +-------------------------------+----------------+ | Debian GNU/Linux 12 | PASS | +-------------------------------+----------------+ | Fedora Linux 41 | PASS | +-------------------------------+----------------+ | Fedora Linux 40 | PASS | +-------------------------------+----------------+ | Ubuntu 20.04 | PASS | +-------------------------------+----------------+ | Fedora Linux 42 | PASS | +-------------------------------+----------------+ | Red Hat Enterprise Linux 9.5 | PASS | +-------------------------------+----------------+ | Ubuntu 24.04 | PASS | +-------------------------------+----------------+ | Ubuntu 22.04 | PASS | +-------------------------------+----------------+ | Red Hat Enterprise Linux 8.10 | PASS | +-------------------------------+----------------+ | Windows Server 2022 | PASS | +-------------------------------+----------------+ CentOS Stream 9 Kernel: 5.15 Compiler: gcc gcc (GCC) 11.5.0 20240719 (Red Hat 11.5.0-11) CentOS Stream 10 Kernel: 5.15 Compiler: gcc gcc (GCC) 14.2.1 20250110 (Red Hat 14.2.1-8) Debian GNU/Linux 12 Kernel: 5.15 Compiler: gcc gcc (Debian 12.2.0-14+deb12u1) 12.2.0 Fedora Linux 41 Kernel: 5.15 Compiler: clang gcc (GCC) 14.3.1 20250523 (Red Hat 14.3.1-1) Fedora Linux 40 Kernel: 5.15 Compiler: gcc gcc (GCC) 14.2.1 20240912 (Red Hat 14.2.1-3) Ubuntu 20.04 Kernel: 5.15 Compiler: gcc gcc (Ubuntu 9.4.0-1ubuntu1~20.04.2) 9.4.0 Fedora Linux 42 Kernel: 5.15 Compiler: gcc gcc (GCC) 15.2.1 20250808 (Red Hat 15.2.1-1) Red Hat Enterprise Linux 9.5 Kernel: 5.15 Compiler: gcc gcc (GCC) 11.5.0 20240719 (Red Hat 11.5.0-2) Ubuntu 24.04 Kernel: 5.15 Compiler: gcc gcc (Ubuntu 13.3.0-6ubuntu2~24.04) 13.3.0 Ubuntu 22.04 Kernel: 5.15 Compiler: gcc gcc (Ubuntu 11.4.0-1ubuntu1~22.04) 11.4.0 Red Hat Enterprise Linux 8.10 Kernel: 5.15 Compiler: gcc gcc (GCC) 8.5.0 20210514 (Red Hat 8.5.0-22) Windows Server 2022 Kernel: 10.0.20348.2031 Compiler: clang 15.0.7, gcc 14.1.0 (MinGW), and MSVC VS 19.39.33521 To view detailed results, visit: https://lab.dpdk.org/results/dashboard/patchsets/34305/ UNH-IOL DPDK Community Lab To manage your email subscriptions, visit: https://lab.dpdk.org/results/dashboard/preferences/subscriptions/