From mboxrd@z Thu Jan 1 00:00:00 1970 Return-Path: Received: from mails.dpdk.org (mails.dpdk.org [217.70.189.124]) by inbox.dpdk.org (Postfix) with ESMTP id 0948C48959 for ; Fri, 17 Oct 2025 01:22:49 +0200 (CEST) Received: from mails.dpdk.org (localhost [127.0.0.1]) by mails.dpdk.org (Postfix) with ESMTP id F25E34026D; Fri, 17 Oct 2025 01:22:48 +0200 (CEST) Received: from mail-io1-f97.google.com (mail-io1-f97.google.com [209.85.166.97]) by mails.dpdk.org (Postfix) with ESMTP id F022C4026D for ; Fri, 17 Oct 2025 01:22:47 +0200 (CEST) Received: by mail-io1-f97.google.com with SMTP id ca18e2360f4ac-9032edd72c1so141544539f.3 for ; Thu, 16 Oct 2025 16:22:47 -0700 (PDT) DKIM-Signature: v=1; a=rsa-sha256; c=relaxed/relaxed; d=iol.unh.edu; s=unh-iol; t=1760656967; x=1761261767; darn=dpdk.org; h=references:in-reply-to:cc:to:from:subject:message-id:date:from:to :cc:subject:date:message-id:reply-to; bh=9J//uySAOYHNb7JVbZdDCDm9prKWIlJfFijNz5TRg2A=; b=i3XKEGuZRIxHo768CyffGMUFeL42TA5MESmBYgmOcHYzxaNn6xQDiFnl1JD73eAIPA XmllojV87aWIz+g9JniAPPsNipSxk74FzcFJanV+dYLpqFEn5j7ek7oy9N5mTecCnDHA ZV3vGpJWNfWcGbE37CENpA7M9aKUCJl4ry5Wc= X-Google-DKIM-Signature: v=1; a=rsa-sha256; c=relaxed/relaxed; d=1e100.net; s=20230601; t=1760656967; x=1761261767; h=references:in-reply-to:cc:to:from:subject:message-id:date :x-gm-message-state:from:to:cc:subject:date:message-id:reply-to; bh=9J//uySAOYHNb7JVbZdDCDm9prKWIlJfFijNz5TRg2A=; b=U5WL4TdWs3Ul6DeEnGM4lFh7H7ieJVf9XxmoJ+HGzadiTLWoPTRrAjlGrJsS3rMaQf lE5qEtSKJbg/WhLCoPiJ3OnacY5uZpcGnNmy5B7dm4ZZ24I+43j1qofVxwZIJrOMAAdm FJr5FyHKG6Enkkds10IKqKhrAF1OooXMC9oupu80HKKRnqxINmxOnCt0pDON7sDEPT1n GInIBNe+/TWniFeGwIhgLm/5gtWrw8aJFlfN/7lKj25mPXpnehYR3SM/EpH5MV2lPVsA J2XF3XnFxRQ6ujmLoMfSi/pavo/iCMC3aPK33f8gTlFyblhSekOJt6x8ZdnsPWHOhVhI N65Q== X-Gm-Message-State: AOJu0YyV7+DTNcZHNvrXPrjOiyqm01XIoRCcQwHOdnnNNukWdAP+zXAd +WxmbkKDciHV2vGRCXe4JtgXMvC19oZ+BDqHtmUUOqnIX+f1cxKTaBmB1AT7pyIUJNAeW7XETTs QmLOto5+zkcky+g032BHAq5UrgPbB4crBtb+3blIruGLLoJ3Dap10L3eHPL1Y X-Gm-Gg: ASbGncs+eaNUquc+J4BG6OUCdleppjAOCX/o8aEL5xLGO7ndMA615TnEdxcPw0Nht5z SIkDA7WugP4Bgs3xOf5Qif+fbnTAHD3ZZEXz0/0aNwqXnzA45BSmcsoXRdsQzcvpHj9noQa/bmO q0FY8PtwygW4e2APIV4Koao/WEZrSJh3PDxwONhiXBSurOOn1TFsx+Q1xJc5/r3N1RTHPzkbi18 Cjatrv+Z4ROjNVWAFW4NP7OHxQ7zinu+q2CjGgtlu81EdN2qTAbwSSQ8/l+Lc6mGa2yArxQDMyR tEM1REOFB5/2IvZFnSRTH4v7TnyMd3nloumH9IVtJFEIfe/DszNLLpOI42saDY+bRvUx+QbWtRk u2wlJfRGr X-Google-Smtp-Source: AGHT+IEDLQKuzgFjcENMy0eSkXNPWyluguFUUTsM9cBrjfcIrLKfGr9aq5Jg1P4zS0C7nDeLElY/kCLSr5sU X-Received: by 2002:a05:6e02:2591:b0:430:c312:214c with SMTP id e9e14a558f8ab-430c5234d18mr25871185ab.5.1760656967271; Thu, 16 Oct 2025 16:22:47 -0700 (PDT) Received: from postal.iol.unh.edu (postal.iol.unh.edu. [2606:4100:3880:1234::84]) by smtp-relay.gmail.com with ESMTPS id e9e14a558f8ab-430b50b6d9fsm3510505ab.5.2025.10.16.16.22.47 (version=TLS1_2 cipher=ECDHE-ECDSA-AES128-GCM-SHA256 bits=128/128); Thu, 16 Oct 2025 16:22:47 -0700 (PDT) X-Relaying-Domain: iol.unh.edu Date: Thu, 16 Oct 2025 16:22:47 -0700 (PDT) Message-ID: <68f17e47.050a0220.74de7.1ee0SMTPIN_ADDED_MISSING@mx.google.com> Received: from [172.21.0.2] (unknown [172.18.0.240]) by postal.iol.unh.edu (Postfix) with ESMTP id E8A576051830; Thu, 16 Oct 2025 19:22:46 -0400 (EDT) Subject: |SUCCESS| pw157768-157770 [PATCH] [v2,3/3] net/dpaa2: make total_rx_ From: dpdklab@iol.unh.edu To: Test Report Cc: dpdk-test-reports@iol.unh.edu, Stephen Hemminger In-Reply-To: <20251016220959.15671-4-stephen@networkplumber.org> References: <20251016220959.15671-4-stephen@networkplumber.org> Content-Type: text/plain X-BeenThere: test-report@dpdk.org X-Mailman-Version: 2.1.29 Precedence: list List-Id: automatic DPDK test reports List-Unsubscribe: , List-Archive: List-Post: List-Help: List-Subscribe: , Errors-To: test-report-bounces@dpdk.org Test-Label: iol-compile-amd64-testing Test-Status: SUCCESS http://dpdk.org/patch/157770 _Testing PASS_ Submitter: Stephen Hemminger Date: Thursday, October 16 2025 22:09:03 DPDK git baseline: Repo:dpdk-next-net Branch: master CommitID:6c12368ef1d9b69af2dcf07ac8b502c23860ce90 157768-157770 --> testing pass Upstream job id: Windows-Compile-DPDK-Native#31690 Test environment and result as below: +---------------------+--------------------+-------------------------+-------------------+----------------------+ | Environment | dpdk_meson_compile | dpdk_llvm_clang_compile | dpdk_msvc_compile | dpdk_mingw64_compile | +=====================+====================+=========================+===================+======================+ | Ubuntu 20.04 | PASS | SKIPPED | SKIPPED | SKIPPED | +---------------------+--------------------+-------------------------+-------------------+----------------------+ | FreeBSD 14.2 | PASS | SKIPPED | SKIPPED | SKIPPED | +---------------------+--------------------+-------------------------+-------------------+----------------------+ | Windows Server 2022 | SKIPPED | PASS | PASS | PASS | +---------------------+--------------------+-------------------------+-------------------+----------------------+ Ubuntu 20.04 Kernel: 4.19 Compiler: gcc gcc (Ubuntu 9.4.0-1ubuntu1~20.04.2) 9.4.0 FreeBSD 14.2 Kernel: 14.2-RELEASE Compiler: clang 18.1.6 Windows Server 2022 Kernel: 10.0.20348.2031 Compiler: clang 15.0.7, gcc 14.1.0 (MinGW), and MSVC VS 19.39.33521 To view detailed results, visit: https://lab.dpdk.org/results/dashboard/patchsets/34305/ UNH-IOL DPDK Community Lab To manage your email subscriptions, visit: https://lab.dpdk.org/results/dashboard/preferences/subscriptions/