From mboxrd@z Thu Jan 1 00:00:00 1970 Return-Path: Received: from mails.dpdk.org (mails.dpdk.org [217.70.189.124]) by inbox.dpdk.org (Postfix) with ESMTP id 8449948959 for ; Fri, 17 Oct 2025 01:26:42 +0200 (CEST) Received: from mails.dpdk.org (localhost [127.0.0.1]) by mails.dpdk.org (Postfix) with ESMTP id 691404026D; Fri, 17 Oct 2025 01:26:42 +0200 (CEST) Received: from mail-pl1-f228.google.com (mail-pl1-f228.google.com [209.85.214.228]) by mails.dpdk.org (Postfix) with ESMTP id 96B394026D for ; Fri, 17 Oct 2025 01:26:40 +0200 (CEST) Received: by mail-pl1-f228.google.com with SMTP id d9443c01a7336-27c369f898fso18202285ad.3 for ; Thu, 16 Oct 2025 16:26:40 -0700 (PDT) DKIM-Signature: v=1; a=rsa-sha256; c=relaxed/relaxed; d=iol.unh.edu; s=unh-iol; t=1760657200; x=1761262000; darn=dpdk.org; h=references:in-reply-to:cc:to:from:subject:message-id:date:from:to :cc:subject:date:message-id:reply-to; bh=lIMHb71rCVns2+jE0KKE3bfuKFKxM/t3RMs09y0jwH8=; b=RufDp3zx8CQUfT2W/dO3oeVjllvWVMrsUfVQB/5xKvaK3MxYzVVa99zfnwrfzlwHoV tszwl/xA1F39BMruxZhswBNpya/l47V5+SKYwecqgfKcYAoURsmGITTcFf8HMLIbnoFR XqbX+d5Hz9da3iw3qcGbm0Gj7/OgNeYYIl5iQ= X-Google-DKIM-Signature: v=1; a=rsa-sha256; c=relaxed/relaxed; d=1e100.net; s=20230601; t=1760657200; x=1761262000; h=references:in-reply-to:cc:to:from:subject:message-id:date :x-gm-message-state:from:to:cc:subject:date:message-id:reply-to; bh=lIMHb71rCVns2+jE0KKE3bfuKFKxM/t3RMs09y0jwH8=; b=FmTNvk9EHy9VLGjFSk4RQTTFJtjH09/5bquNvzER8sNTOlGDGwwXwNPxpCCmjj3tO/ ZlWRjTRZbxDVWWNoJFZg/VlyAvbelPTEvDKKRm5I9wmAFZnh9911GGN+s5cL8o+OogxT N7HEZJdZsEwSLN6kG+H5d5+Z32WdrBMAZ6oktsqi17wlsQNP37ISi1VmR6AU182cGahp C1U8If1cmT1ScovgT8h8LxItMAIFYVrT2m+1WKmuls9DsectVYoSu78wH5k8/wwuxILM 3HvTkOOUlxBNEocwcphP/3m0H+9KulfsHUON85v9s11f5iOU8PKbS2FQQfJMibXYFzRi 81Iw== X-Gm-Message-State: AOJu0YxOyr7TGYt4Lo+dh12jBmk00H6MFGSwyqh/SCZoQZAmwPcajLrh PR53qitrBfNrSjMJy2iJipdRdY6+zvW5YRpFfbJVDLlhB2VOJ1QUiAoiIe2uS3Nl6fMyHrrTOMJ WoNs3aI4Sj7Ad4UPzwIfQoQaBxPF6eHync19d0R4fJxrs X-Gm-Gg: ASbGncveS/hHZblmdsYvNrattt8tUZ8TvrsN3qMJqzihz1A2yPfE+SxP6rOUQ2Po99J ad5f4/M6jzqxAN0xVOvfyGzIMRypNnLRLkkafpsBBgvE+eu2+slb67n+YZCFSySKBAAIVRJKT1X CxBXnof2rAt9hqL0J3SUqZtZgcnVKHzU1UzaemwXkuUBLLb8ChGgGh1eqmKK8fJ2oocH/Q7XYR8 sGjdkdSehOkmyBH9om4joARne0trYYyjlxhUc1bdAgCuHh52z9oGnMGnJ13No31bS0ftQwLqP6T XH25syVPcFs+eQuWveKcujKORK9QskRHLDcqwAo2DN2d+iXUykmc8KRMviUfxWcgJpm5noWBSlr EQuo+75Rv9UZ0tWejUliX0xLmkTcAUFQ= X-Google-Smtp-Source: AGHT+IGA9KPYn8T1Mo7uCWDi8rPNsZVhYaDgVjRHdx3YUDN5/qzbR+HENEEQYiDumtUc/hhzon8LYqAE+74m X-Received: by 2002:a17:902:fc4b:b0:290:a70e:6261 with SMTP id d9443c01a7336-290c9c93c30mr17941225ad.11.1760657199746; Thu, 16 Oct 2025 16:26:39 -0700 (PDT) Received: from postal.iol.unh.edu (postal.iol.unh.edu. [132.177.123.84]) by smtp-relay.gmail.com with ESMTPS id d9443c01a7336-290d86bf39dsm617785ad.58.2025.10.16.16.26.39 (version=TLS1_2 cipher=ECDHE-ECDSA-AES128-GCM-SHA256 bits=128/128); Thu, 16 Oct 2025 16:26:39 -0700 (PDT) X-Relaying-Domain: iol.unh.edu Date: Thu, 16 Oct 2025 16:26:39 -0700 (PDT) Message-ID: <68f17f2f.170a0220.27daaf.350bSMTPIN_ADDED_MISSING@mx.google.com> Received: from [172.21.0.2] (unknown [172.18.0.240]) by postal.iol.unh.edu (Postfix) with ESMTP id 080E86051830; Thu, 16 Oct 2025 19:26:39 -0400 (EDT) Subject: |SUCCESS| pw157768-157770 [PATCH] [v2,3/3] net/dpaa2: make total_rx_ From: dpdklab@iol.unh.edu To: Test Report Cc: dpdk-test-reports@iol.unh.edu, Stephen Hemminger In-Reply-To: <20251016220959.15671-4-stephen@networkplumber.org> References: <20251016220959.15671-4-stephen@networkplumber.org> Content-Type: text/plain X-BeenThere: test-report@dpdk.org X-Mailman-Version: 2.1.29 Precedence: list List-Id: automatic DPDK test reports List-Unsubscribe: , List-Archive: List-Post: List-Help: List-Subscribe: , Errors-To: test-report-bounces@dpdk.org Test-Label: iol-unit-amd64-testing Test-Status: SUCCESS http://dpdk.org/patch/157770 _Testing PASS_ Submitter: Stephen Hemminger Date: Thursday, October 16 2025 22:09:03 DPDK git baseline: Repo:dpdk-next-net Branch: master CommitID:6c12368ef1d9b69af2dcf07ac8b502c23860ce90 157768-157770 --> testing pass Upstream job id: Generic-VM-Unit-Test-DPDK#31861 Test environment and result as below: +-------------------------------+----------------+ | Environment | dpdk_unit_test | +===============================+================+ | CentOS Stream 9 | PASS | +-------------------------------+----------------+ | CentOS Stream 10 | PASS | +-------------------------------+----------------+ | Debian GNU/Linux 12 | PASS | +-------------------------------+----------------+ | Fedora Linux 41 | PASS | +-------------------------------+----------------+ | Fedora Linux 40 | PASS | +-------------------------------+----------------+ | Ubuntu 20.04 | PASS | +-------------------------------+----------------+ | Fedora Linux 42 | PASS | +-------------------------------+----------------+ | Red Hat Enterprise Linux 9.5 | PASS | +-------------------------------+----------------+ | Ubuntu 24.04 | PASS | +-------------------------------+----------------+ | Ubuntu 22.04 | PASS | +-------------------------------+----------------+ | Red Hat Enterprise Linux 8.10 | PASS | +-------------------------------+----------------+ | Windows Server 2022 | PASS | +-------------------------------+----------------+ CentOS Stream 9 Kernel: 5.15 Compiler: gcc gcc (GCC) 11.5.0 20240719 (Red Hat 11.5.0-11) CentOS Stream 10 Kernel: 5.15 Compiler: gcc gcc (GCC) 14.2.1 20250110 (Red Hat 14.2.1-8) Debian GNU/Linux 12 Kernel: 5.15 Compiler: gcc gcc (Debian 12.2.0-14+deb12u1) 12.2.0 Fedora Linux 41 Kernel: 5.15 Compiler: clang gcc (GCC) 14.3.1 20250523 (Red Hat 14.3.1-1) Fedora Linux 40 Kernel: 5.15 Compiler: gcc gcc (GCC) 14.2.1 20240912 (Red Hat 14.2.1-3) Ubuntu 20.04 Kernel: 5.15 Compiler: gcc gcc (Ubuntu 9.4.0-1ubuntu1~20.04.2) 9.4.0 Fedora Linux 42 Kernel: 5.15 Compiler: gcc gcc (GCC) 15.2.1 20250808 (Red Hat 15.2.1-1) Red Hat Enterprise Linux 9.5 Kernel: 5.15 Compiler: gcc gcc (GCC) 11.5.0 20240719 (Red Hat 11.5.0-2) Ubuntu 24.04 Kernel: 5.15 Compiler: gcc gcc (Ubuntu 13.3.0-6ubuntu2~24.04) 13.3.0 Ubuntu 22.04 Kernel: 5.15 Compiler: gcc gcc (Ubuntu 11.4.0-1ubuntu1~22.04) 11.4.0 Red Hat Enterprise Linux 8.10 Kernel: 5.15 Compiler: gcc gcc (GCC) 8.5.0 20210514 (Red Hat 8.5.0-22) Windows Server 2022 Kernel: 10.0.20348.2031 Compiler: clang 15.0.7, gcc 14.1.0 (MinGW), and MSVC VS 19.39.33521 To view detailed results, visit: https://lab.dpdk.org/results/dashboard/patchsets/34305/ UNH-IOL DPDK Community Lab To manage your email subscriptions, visit: https://lab.dpdk.org/results/dashboard/preferences/subscriptions/