From mboxrd@z Thu Jan 1 00:00:00 1970 Return-Path: Received: from mails.dpdk.org (mails.dpdk.org [217.70.189.124]) by inbox.dpdk.org (Postfix) with ESMTP id BE82248959 for ; Fri, 17 Oct 2025 01:49:54 +0200 (CEST) Received: from mails.dpdk.org (localhost [127.0.0.1]) by mails.dpdk.org (Postfix) with ESMTP id 9824040269; Fri, 17 Oct 2025 01:49:54 +0200 (CEST) Received: from mail-qv1-f97.google.com (mail-qv1-f97.google.com [209.85.219.97]) by mails.dpdk.org (Postfix) with ESMTP id E52EA40269 for ; Fri, 17 Oct 2025 01:49:52 +0200 (CEST) Received: by mail-qv1-f97.google.com with SMTP id 6a1803df08f44-87c0ea50881so26450176d6.2 for ; Thu, 16 Oct 2025 16:49:52 -0700 (PDT) DKIM-Signature: v=1; a=rsa-sha256; c=relaxed/relaxed; d=iol.unh.edu; s=unh-iol; t=1760658592; x=1761263392; darn=dpdk.org; h=cc:to:from:subject:message-id:date:from:to:cc:subject:date :message-id:reply-to; bh=enfrds2cAILK6AwshAayDTD+MfrirMe4f/F0jch6NJY=; b=hoxMaD2LXDAxnhMUgKuMCWH0nH8RdHDPj+74GMVz9wkDnosGjcoOPNQgf9WxNGfE8R OIvvFxsrqzunCsSONMz5MbNq2/RlQ655pMRZmfD/Om26SXPrHxSCJaFNKvWe/kMmH2bs 7bZYwY4CmJWTe5aPSBWFDw1JoMNaWArkCe3VM= X-Google-DKIM-Signature: v=1; a=rsa-sha256; c=relaxed/relaxed; d=1e100.net; s=20230601; t=1760658592; x=1761263392; h=cc:to:from:subject:message-id:date:x-gm-message-state:from:to:cc :subject:date:message-id:reply-to; bh=enfrds2cAILK6AwshAayDTD+MfrirMe4f/F0jch6NJY=; b=TeesvcsqlpUVFu17NU/GY5U2SUWhAyTVoBSR8MFULO1t/8t0YtM1mFNu4IiM/Vrt2g fj5T21YNzEGYpnFB/F7fo34pVvpcqrWLneVmvbcc1Xm6Uksj/yPdkun/U8K7lmODcCib OEBd/6FS7U5bgjMs7D+OnzzVDjgF43hyXATD5h1ZM/sxYhGdSuxGm8Y4awUP9Sk4fxAo SA8GNZup9HliJpfaZeDafmfIe/MhbaXQ6E7bFo/xSGQUeMNC6Sihc0n5vBTf45zJFqMd jjLoGoV6sEcZkbqnE/nziFe+dDz4aG9BvMBohAOAlmbJT5M8lmByCyrugmFfjP/HHF+W jAxg== X-Gm-Message-State: AOJu0YxAqKRggTb3j93vc6JzcjbGojeuYCcn16xsNs8c6WbFFUE8xdB6 JOWoE9ypcGr+sq2s6023ppn2nX0Tq4eo6FfxMiYc9o3gMNLJN+IlBSA1kZmnls4fpR0QKrlciPf H5NPn/5wqHbPrkTmq+SvzjAxYjhHPrxdntbZfELVgg5cuoZXvKv9j5rbxVdyX X-Gm-Gg: ASbGncvb8ZtcTXPkOF1WLveHQUotzCP97C8p6+Nk6DGEm+lvq6WPjYFz8wCDoeRBL5N 3oyV3mETp+4lM7jMRxtfZfZvjbR4DwJxUI6koxnZTwNUZlTL3XnsfIjbGCWOaohJs82dKJRzRqW oZRLnbTkJ3YfbrF65wq4bBQhx2uvho/rSE00fs9z9yebcfF6ZFtGVicS2LZMxTcekFOicLtFmf/ vRRQnc0QhODY5lxH2nau7q9PFuToa/ux8t9KmoBD/cyuebeMn0S+245Oju52o4ahsvPkfE8ury+ 0aPHSmSbm5L5Yy8Ndo2bBemo6r5mIa92OOHuX1sQqn06ZtKdJKDCztPTgxKf3jP2Uq6Yh1l/CBF RmTdt1v+f X-Google-Smtp-Source: AGHT+IE5uyCSCFdLAITE0osK6m7GdLsiAy9jF5z6326w+K4CYPo3NHLh/F5gb+OmuQrRS3j2UcGI3JpSiOQO X-Received: by 2002:ad4:5f4b:0:b0:879:d0eb:fe95 with SMTP id 6a1803df08f44-87c2056a8dcmr29203496d6.11.1760658592236; Thu, 16 Oct 2025 16:49:52 -0700 (PDT) Received: from postal.iol.unh.edu (postal.iol.unh.edu. [2606:4100:3880:1234::84]) by smtp-relay.gmail.com with ESMTPS id 6a1803df08f44-87c0120fcd3sm5875596d6.1.2025.10.16.16.49.52 (version=TLS1_2 cipher=ECDHE-ECDSA-AES128-GCM-SHA256 bits=128/128); Thu, 16 Oct 2025 16:49:52 -0700 (PDT) X-Relaying-Domain: iol.unh.edu Date: Thu, 16 Oct 2025 16:49:52 -0700 (PDT) Message-ID: <68f184a0.050a0220.23364d.0aa2SMTPIN_ADDED_MISSING@mx.google.com> Received: from [172.21.0.2] (unknown [172.18.0.240]) by postal.iol.unh.edu (Postfix) with ESMTP id E832760003F7; Thu, 16 Oct 2025 19:49:51 -0400 (EDT) Subject: |SUCCESS| [GIT MASTER] 791cea04798a8e2de014b99c009cd25b5929000a From: dpdklab@iol.unh.edu To: Test Report Cc: dpdk-test-reports@iol.unh.edu, Stephen Hemminger Content-Type: text/plain X-BeenThere: test-report@dpdk.org X-Mailman-Version: 2.1.29 Precedence: list List-Id: automatic DPDK test reports List-Unsubscribe: , List-Archive: List-Post: List-Help: List-Subscribe: , Errors-To: test-report-bounces@dpdk.org _Testing PASS_ Branch: dpdk-next-net 791cea04798a8e2de014b99c009cd25b5929000a --> testing pass Upstream job id: Generic-DPDK-Compile-Meson#434872 Test environment and result as below: +------------------------------+--------------------+ | Environment | dpdk_meson_compile | +==============================+====================+ | Red Hat Enterprise Linux 9.5 | PASS | +------------------------------+--------------------+ | Ubuntu 20.04 | PASS | +------------------------------+--------------------+ | Debian GNU/Linux 12 | PASS | +------------------------------+--------------------+ | Fedora Linux 42 | PASS | +------------------------------+--------------------+ | Ubuntu 22.04 | PASS | +------------------------------+--------------------+ | Ubuntu 24.04 | PASS | +------------------------------+--------------------+ | CentOS Stream 9 | PASS | +------------------------------+--------------------+ | CentOS Stream 10 | PASS | +------------------------------+--------------------+ Red Hat Enterprise Linux 9.5 Kernel: 5.4 Compiler: gcc gcc (GCC) 11.5.0 20240719 (Red Hat 11.5.0-2) Ubuntu 20.04 Kernel: 5.15 Compiler: aarch64-linux-gnu-gcc gcc (Ubuntu 9.4.0-1ubuntu1~20.04.2) 9.4.0 Debian GNU/Linux 12 Kernel: 5.4 Compiler: gcc gcc (Debian 12.2.0-14+deb12u1) 12.2.0 Fedora Linux 42 Kernel: 5.4 Compiler: gcc gcc (GCC) 15.2.1 20250808 (Red Hat 15.2.1-1) Ubuntu 22.04 Kernel: 5.4 Compiler: gcc gcc (Ubuntu 11.4.0-1ubuntu1~22.04) 11.4.0 Ubuntu 24.04 Kernel: 5.4 Compiler: gcc gcc (Ubuntu 13.3.0-6ubuntu2~24.04) 13.3.0 CentOS Stream 9 Kernel: 5.4 Compiler: gcc gcc (GCC) 11.5.0 20240719 (Red Hat 11.5.0-11) CentOS Stream 10 Kernel: 5.4 Compiler: gcc gcc (GCC) 14.2.1 20250110 (Red Hat 14.2.1-8) To view detailed results, visit: https://lab.dpdk.org/results/dashboard/tarballs/35231/ UNH-IOL DPDK Community Lab To manage your email subscriptions, visit: https://lab.dpdk.org/results/dashboard/preferences/subscriptions/